BEGIN:VCALENDAR
VERSION:2.0
PRODID:-//Knightly&#039;s Fun Park Towyn - ECPv6.15.17//NONSGML v1.0//EN
CALSCALE:GREGORIAN
METHOD:PUBLISH
X-ORIGINAL-URL:https://www.knightlysfunpark.co.uk
X-WR-CALDESC:Events for Knightly&#039;s Fun Park Towyn
REFRESH-INTERVAL;VALUE=DURATION:PT1H
X-Robots-Tag:noindex
X-PUBLISHED-TTL:PT1H
BEGIN:VTIMEZONE
TZID:Europe/London
BEGIN:DAYLIGHT
TZOFFSETFROM:+0000
TZOFFSETTO:+0100
TZNAME:BST
DTSTART:20250330T010000
END:DAYLIGHT
BEGIN:STANDARD
TZOFFSETFROM:+0100
TZOFFSETTO:+0000
TZNAME:GMT
DTSTART:20251026T010000
END:STANDARD
BEGIN:DAYLIGHT
TZOFFSETFROM:+0000
TZOFFSETTO:+0100
TZNAME:BST
DTSTART:20260329T010000
END:DAYLIGHT
BEGIN:STANDARD
TZOFFSETFROM:+0100
TZOFFSETTO:+0000
TZNAME:GMT
DTSTART:20261025T010000
END:STANDARD
BEGIN:DAYLIGHT
TZOFFSETFROM:+0000
TZOFFSETTO:+0100
TZNAME:BST
DTSTART:20270328T010000
END:DAYLIGHT
BEGIN:STANDARD
TZOFFSETFROM:+0100
TZOFFSETTO:+0000
TZNAME:GMT
DTSTART:20271031T010000
END:STANDARD
END:VTIMEZONE
BEGIN:VEVENT
DTSTART;TZID=Europe/London:20260416T210000
DTEND;TZID=Europe/London:20260416T230000
DTSTAMP:20260420T200000
CREATED:20250612T122939Z
LAST-MODIFIED:20260420T100939Z
UID:10005638-1776373200-1776380400@www.knightlysfunpark.co.uk
SUMMARY:Hefin Roberts
DESCRIPTION:Join us at Knightly’s Bar for an unforgettable evening with the incredibly talented Hefin Roberts. Prepare for power-house vocals and hilarious comedy all wrapped up in one!
URL:https://www.knightlysfunpark.co.uk/event/hefin-roberts/2026-04-16/
LOCATION:Knightly’s Bar
CATEGORIES:Evening Entertainment
ATTACH;FMTTYPE=image/png:https://www.knightlysfunpark.co.uk/wp-content/uploads/2025/06/Hefin-Roberts-at-Knightlys-Bar.png
END:VEVENT
BEGIN:VEVENT
DTSTART;TZID=Europe/London:20260416T140000
DTEND;TZID=Europe/London:20260416T150000
DTSTAMP:20260420T200000
CREATED:20250401T141535Z
LAST-MODIFIED:20260416T095159Z
UID:10006579-1776348000-1776351600@www.knightlysfunpark.co.uk
SUMMARY:Cash Bingo
DESCRIPTION:Join us for a game of cash bingo! Win huge cash prizes for a line or full house. Play out in the garden or inside Knightly’s Bar.
URL:https://www.knightlysfunpark.co.uk/event/cash-bingo/2026-04-16/
LOCATION:Knightly’s Bar
ATTACH;FMTTYPE=image/png:https://www.knightlysfunpark.co.uk/wp-content/uploads/2025/04/cash-bingo-at-Knightlys-Bar.png
END:VEVENT
BEGIN:VEVENT
DTSTART;TZID=Europe/London:20260415T210000
DTEND;TZID=Europe/London:20260415T230000
DTSTAMP:20260420T200000
CREATED:20260316T122110Z
LAST-MODIFIED:20260420T095158Z
UID:10006203-1776286800-1776294000@www.knightlysfunpark.co.uk
SUMMARY:Herbie Graham
DESCRIPTION:An exceptional vocalist and performer\, don’t miss Herbie Graham live on stage at Knightly’s Bar!
URL:https://www.knightlysfunpark.co.uk/event/herbie-graham/2026-04-15/
LOCATION:Knightly’s Bar
CATEGORIES:Evening Entertainment
ATTACH;FMTTYPE=image/png:https://www.knightlysfunpark.co.uk/wp-content/uploads/2026/03/Herbie-Graham-at-Knightlys-Bar.png
END:VEVENT
BEGIN:VEVENT
DTSTART;TZID=Europe/London:20260415T140000
DTEND;TZID=Europe/London:20260415T150000
DTSTAMP:20260420T200000
CREATED:20250401T141535Z
LAST-MODIFIED:20260416T095159Z
UID:10006578-1776261600-1776265200@www.knightlysfunpark.co.uk
SUMMARY:Cash Bingo
DESCRIPTION:Join us for a game of cash bingo! Win huge cash prizes for a line or full house. Play out in the garden or inside Knightly’s Bar.
URL:https://www.knightlysfunpark.co.uk/event/cash-bingo/2026-04-15/
LOCATION:Knightly’s Bar
ATTACH;FMTTYPE=image/png:https://www.knightlysfunpark.co.uk/wp-content/uploads/2025/04/cash-bingo-at-Knightlys-Bar.png
END:VEVENT
BEGIN:VEVENT
DTSTART;TZID=Europe/London:20260414T140000
DTEND;TZID=Europe/London:20260414T150000
DTSTAMP:20260420T200000
CREATED:20250401T141535Z
LAST-MODIFIED:20260416T095159Z
UID:10006577-1776175200-1776178800@www.knightlysfunpark.co.uk
SUMMARY:Cash Bingo
DESCRIPTION:Join us for a game of cash bingo! Win huge cash prizes for a line or full house. Play out in the garden or inside Knightly’s Bar.
URL:https://www.knightlysfunpark.co.uk/event/cash-bingo/2026-04-14/
LOCATION:Knightly’s Bar
ATTACH;FMTTYPE=image/png:https://www.knightlysfunpark.co.uk/wp-content/uploads/2025/04/cash-bingo-at-Knightlys-Bar.png
END:VEVENT
BEGIN:VEVENT
DTSTART;TZID=Europe/London:20260413T210000
DTEND;TZID=Europe/London:20260413T230000
DTSTAMP:20260420T200000
CREATED:20250506T091947Z
LAST-MODIFIED:20260413T120749Z
UID:10006200-1776114000-1776121200@www.knightlysfunpark.co.uk
SUMMARY:Jade Courtney
DESCRIPTION:Jade Courtney is live on stage at Knightly’s Bar! Enjoy her lively performance\, perfect for an afternoon of entertainment for the whole family.
URL:https://www.knightlysfunpark.co.uk/event/jade-courtney-2/2026-04-13/
LOCATION:Knightly’s Bar
CATEGORIES:Family Friendly
ATTACH;FMTTYPE=image/png:https://www.knightlysfunpark.co.uk/wp-content/uploads/2025/05/jem-brent-at-Knightlys-Bar_20260413_130540_0000.png
END:VEVENT
BEGIN:VEVENT
DTSTART;TZID=Europe/London:20260413T140000
DTEND;TZID=Europe/London:20260413T150000
DTSTAMP:20260420T200000
CREATED:20250401T141535Z
LAST-MODIFIED:20260416T095159Z
UID:10006576-1776088800-1776092400@www.knightlysfunpark.co.uk
SUMMARY:Cash Bingo
DESCRIPTION:Join us for a game of cash bingo! Win huge cash prizes for a line or full house. Play out in the garden or inside Knightly’s Bar.
URL:https://www.knightlysfunpark.co.uk/event/cash-bingo/2026-04-13/
LOCATION:Knightly’s Bar
ATTACH;FMTTYPE=image/png:https://www.knightlysfunpark.co.uk/wp-content/uploads/2025/04/cash-bingo-at-Knightlys-Bar.png
END:VEVENT
BEGIN:VEVENT
DTSTART;TZID=Europe/London:20260412T210000
DTEND;TZID=Europe/London:20260412T230000
DTSTAMP:20260420T200000
CREATED:20250612T124251Z
LAST-MODIFIED:20260420T100507Z
UID:10005646-1776027600-1776034800@www.knightlysfunpark.co.uk
SUMMARY:Dean Morter
DESCRIPTION:A Rod Stewart tribute artist\, with an uncannily similar voice to the man himself\, Dean Morter needs to be heard to be believed!
URL:https://www.knightlysfunpark.co.uk/event/dean-morter/2026-04-12/
LOCATION:Knightly’s Bar
ATTACH;FMTTYPE=image/png:https://www.knightlysfunpark.co.uk/wp-content/uploads/2025/06/Dean-Morter-at-Knightlys-Bar.png
END:VEVENT
BEGIN:VEVENT
DTSTART;TZID=Europe/London:20260412T180000
DTEND;TZID=Europe/London:20260412T200000
DTSTAMP:20260420T200000
CREATED:20250612T122939Z
LAST-MODIFIED:20260420T100939Z
UID:10005637-1776016800-1776024000@www.knightlysfunpark.co.uk
SUMMARY:Hefin Roberts
DESCRIPTION:Join us at Knightly’s Bar for an unforgettable evening with the incredibly talented Hefin Roberts. Prepare for power-house vocals and hilarious comedy all wrapped up in one!
URL:https://www.knightlysfunpark.co.uk/event/hefin-roberts/2026-04-12/
LOCATION:Knightly’s Bar
CATEGORIES:Evening Entertainment
ATTACH;FMTTYPE=image/png:https://www.knightlysfunpark.co.uk/wp-content/uploads/2025/06/Hefin-Roberts-at-Knightlys-Bar.png
END:VEVENT
BEGIN:VEVENT
DTSTART;TZID=Europe/London:20260412T150000
DTEND;TZID=Europe/London:20260412T170000
DTSTAMP:20260420T200000
CREATED:20250530T121908Z
LAST-MODIFIED:20260119T101744Z
UID:10005679-1776006000-1776013200@www.knightlysfunpark.co.uk
SUMMARY:Adam South
DESCRIPTION:Enjoy live music and entertainment with Adam South at Knightly’s Bar!
URL:https://www.knightlysfunpark.co.uk/event/adam-south/2026-04-12/
LOCATION:Knightly’s Bar
CATEGORIES:Evening Entertainment
ATTACH;FMTTYPE=image/png:https://www.knightlysfunpark.co.uk/wp-content/uploads/2025/05/Adam-South-at-Knightlys-Bar.png
END:VEVENT
BEGIN:VEVENT
DTSTART;TZID=Europe/London:20260412T140000
DTEND;TZID=Europe/London:20260412T150000
DTSTAMP:20260420T200000
CREATED:20250401T141535Z
LAST-MODIFIED:20260416T095159Z
UID:10006575-1776002400-1776006000@www.knightlysfunpark.co.uk
SUMMARY:Cash Bingo
DESCRIPTION:Join us for a game of cash bingo! Win huge cash prizes for a line or full house. Play out in the garden or inside Knightly’s Bar.
URL:https://www.knightlysfunpark.co.uk/event/cash-bingo/2026-04-12/
LOCATION:Knightly’s Bar
ATTACH;FMTTYPE=image/png:https://www.knightlysfunpark.co.uk/wp-content/uploads/2025/04/cash-bingo-at-Knightlys-Bar.png
END:VEVENT
BEGIN:VEVENT
DTSTART;TZID=Europe/London:20260411T210000
DTEND;TZID=Europe/London:20260411T230000
DTSTAMP:20260420T200000
CREATED:20250930T120033Z
LAST-MODIFIED:20260107T120641Z
UID:10005628-1775941200-1775948400@www.knightlysfunpark.co.uk
SUMMARY:Marcius
DESCRIPTION:The sound of Soul is back! Marcius ignites the stage with an unforgettable tribute to the sounds of Soul and Motown. From the smooth Rhythm of “Sittin on the dock of the Bay” to the powerful vocals of “Reach Out”Get ready for a night you won’t forget!
URL:https://www.knightlysfunpark.co.uk/event/marcius-riley/2026-04-11/
LOCATION:Knightly’s Bar
CATEGORIES:Evening Entertainment
ATTACH;FMTTYPE=image/png:https://www.knightlysfunpark.co.uk/wp-content/uploads/2025/09/Marcuis-at-Knightlys-Bar.png
END:VEVENT
BEGIN:VEVENT
DTSTART;TZID=Europe/London:20260411T150000
DTEND;TZID=Europe/London:20260411T170000
DTSTAMP:20260420T200000
CREATED:20260402T111415Z
LAST-MODIFIED:20260402T111415Z
UID:10006193-1775919600-1775926800@www.knightlysfunpark.co.uk
SUMMARY:Foxed Up
DESCRIPTION:Enjoy the incredible vocals and stage presence of Foxed Up Duo at Knightly’s Bar!
URL:https://www.knightlysfunpark.co.uk/event/foxed-up/2026-04-11/
LOCATION:Knightly’s Bar
ATTACH;FMTTYPE=image/png:https://www.knightlysfunpark.co.uk/wp-content/uploads/2025/01/Foxed-Up-at-Knightlys-Bar.png
END:VEVENT
BEGIN:VEVENT
DTSTART;TZID=Europe/London:20260411T140000
DTEND;TZID=Europe/London:20260411T150000
DTSTAMP:20260420T200000
CREATED:20250401T141535Z
LAST-MODIFIED:20260416T095159Z
UID:10006574-1775916000-1775919600@www.knightlysfunpark.co.uk
SUMMARY:Cash Bingo
DESCRIPTION:Join us for a game of cash bingo! Win huge cash prizes for a line or full house. Play out in the garden or inside Knightly’s Bar.
URL:https://www.knightlysfunpark.co.uk/event/cash-bingo/2026-04-11/
LOCATION:Knightly’s Bar
ATTACH;FMTTYPE=image/png:https://www.knightlysfunpark.co.uk/wp-content/uploads/2025/04/cash-bingo-at-Knightlys-Bar.png
END:VEVENT
BEGIN:VEVENT
DTSTART;TZID=Europe/London:20260410T210000
DTEND;TZID=Europe/London:20260410T230000
DTSTAMP:20260420T200000
CREATED:20260119T101045Z
LAST-MODIFIED:20260119T101045Z
UID:10005677-1775854800-1775862000@www.knightlysfunpark.co.uk
SUMMARY:Hefin Roberts: Showstoppers
DESCRIPTION:Don’t miss Hefin Roberts’ incredible new show: Showstoppers!
URL:https://www.knightlysfunpark.co.uk/event/hefin-roberts-showstoppers/
LOCATION:Knightly’s Bar
CATEGORIES:Evening Entertainment
ATTACH;FMTTYPE=image/png:https://www.knightlysfunpark.co.uk/wp-content/uploads/2026/01/Hefin-Roberts-Showstoppers-at-Knightlys-Bar.png
END:VEVENT
BEGIN:VEVENT
DTSTART;TZID=Europe/London:20260410T190000
DTEND;TZID=Europe/London:20260410T210000
DTSTAMP:20260420T200000
CREATED:20250710T120755Z
LAST-MODIFIED:20260317T113953Z
UID:10005762-1775847600-1775854800@www.knightlysfunpark.co.uk
SUMMARY:Crazy Claire Kids Party
DESCRIPTION:Join us in the Outdoor Arena at Knightly’s Bar for loads of fun and games with Crazy Claire! \n\n Game Show \n Kids Talent Show – Towyn’s next superstar could be YOU!\n Win Prizes\n Crazy BIG giveaways playing In It to Win It!\n Brand NEW party dances\n Creative Arts & Crafts sessions
URL:https://www.knightlysfunpark.co.uk/event/crazy-claire-kids-party/2026-04-10/
LOCATION:Knightly’s Bar
CATEGORIES:Family Friendly
ATTACH;FMTTYPE=image/png:https://www.knightlysfunpark.co.uk/wp-content/uploads/2025/07/Crazy-Claire-at-Knightlys-Bar.png
END:VEVENT
BEGIN:VEVENT
DTSTART;TZID=Europe/London:20260410T140000
DTEND;TZID=Europe/London:20260410T150000
DTSTAMP:20260420T200000
CREATED:20250401T141535Z
LAST-MODIFIED:20260416T095159Z
UID:10006573-1775829600-1775833200@www.knightlysfunpark.co.uk
SUMMARY:Cash Bingo
DESCRIPTION:Join us for a game of cash bingo! Win huge cash prizes for a line or full house. Play out in the garden or inside Knightly’s Bar.
URL:https://www.knightlysfunpark.co.uk/event/cash-bingo/2026-04-10/
LOCATION:Knightly’s Bar
ATTACH;FMTTYPE=image/png:https://www.knightlysfunpark.co.uk/wp-content/uploads/2025/04/cash-bingo-at-Knightlys-Bar.png
END:VEVENT
BEGIN:VEVENT
DTSTART;TZID=Europe/London:20260409T210000
DTEND;TZID=Europe/London:20260409T230000
DTSTAMP:20260420T200000
CREATED:20260402T111415Z
LAST-MODIFIED:20260402T111415Z
UID:10006192-1775768400-1775775600@www.knightlysfunpark.co.uk
SUMMARY:Foxed Up
DESCRIPTION:Enjoy the incredible vocals and stage presence of Foxed Up Duo at Knightly’s Bar!
URL:https://www.knightlysfunpark.co.uk/event/foxed-up/2026-04-09/
LOCATION:Knightly’s Bar
ATTACH;FMTTYPE=image/png:https://www.knightlysfunpark.co.uk/wp-content/uploads/2025/01/Foxed-Up-at-Knightlys-Bar.png
END:VEVENT
BEGIN:VEVENT
DTSTART;TZID=Europe/London:20260409T140000
DTEND;TZID=Europe/London:20260409T150000
DTSTAMP:20260420T200000
CREATED:20250401T141535Z
LAST-MODIFIED:20260416T095159Z
UID:10006572-1775743200-1775746800@www.knightlysfunpark.co.uk
SUMMARY:Cash Bingo
DESCRIPTION:Join us for a game of cash bingo! Win huge cash prizes for a line or full house. Play out in the garden or inside Knightly’s Bar.
URL:https://www.knightlysfunpark.co.uk/event/cash-bingo/2026-04-09/
LOCATION:Knightly’s Bar
ATTACH;FMTTYPE=image/png:https://www.knightlysfunpark.co.uk/wp-content/uploads/2025/04/cash-bingo-at-Knightlys-Bar.png
END:VEVENT
BEGIN:VEVENT
DTSTART;TZID=Europe/London:20260408T210000
DTEND;TZID=Europe/London:20260408T230000
DTSTAMP:20260420T200000
CREATED:20250122T133411Z
LAST-MODIFIED:20260415T123457Z
UID:10005673-1775682000-1775689200@www.knightlysfunpark.co.uk
SUMMARY:Andy Otley
DESCRIPTION:One of the UK’s leading and most in demand singers\, Andy Otley is an exceptionally talented performer with a superb voice.\n\n\n\n 
URL:https://www.knightlysfunpark.co.uk/event/andy-otley/2026-04-08/
LOCATION:Knightly’s Bar
ATTACH;FMTTYPE=image/png:https://www.knightlysfunpark.co.uk/wp-content/uploads/2025/01/Andy-Otley-at-Knightlys-Bar.png
END:VEVENT
BEGIN:VEVENT
DTSTART;TZID=Europe/London:20260408T200000
DTEND;TZID=Europe/London:20260408T220000
DTSTAMP:20260420T200000
CREATED:20250401T135856Z
LAST-MODIFIED:20260330T124506Z
UID:10005796-1775678400-1775685600@www.knightlysfunpark.co.uk
SUMMARY:Wrestling Show
DESCRIPTION:Get ready for an electrifying showdown as Basix Pro Wrestling takes center stage at Knightly’s Fun Park! You’re in for a treat when you come to watch some of the UK’s most professional wrestlers who know how to deliver exceptional family entertainment. Don’t miss this epic display of athleticism and excitement! \n£3 per person. Gates open at 6 PM\, show starts at 8 PM.
URL:https://www.knightlysfunpark.co.uk/event/wrestling-show/2026-04-08/
LOCATION:Knightly’s Bar
CATEGORIES:Family Friendly
ATTACH;FMTTYPE=image/png:https://www.knightlysfunpark.co.uk/wp-content/uploads/2025/04/2026.png
END:VEVENT
BEGIN:VEVENT
DTSTART;TZID=Europe/London:20260408T140000
DTEND;TZID=Europe/London:20260408T150000
DTSTAMP:20260420T200000
CREATED:20250401T141535Z
LAST-MODIFIED:20260416T095159Z
UID:10006571-1775656800-1775660400@www.knightlysfunpark.co.uk
SUMMARY:Cash Bingo
DESCRIPTION:Join us for a game of cash bingo! Win huge cash prizes for a line or full house. Play out in the garden or inside Knightly’s Bar.
URL:https://www.knightlysfunpark.co.uk/event/cash-bingo/2026-04-08/
LOCATION:Knightly’s Bar
ATTACH;FMTTYPE=image/png:https://www.knightlysfunpark.co.uk/wp-content/uploads/2025/04/cash-bingo-at-Knightlys-Bar.png
END:VEVENT
BEGIN:VEVENT
DTSTART;TZID=Europe/London:20260407T210000
DTEND;TZID=Europe/London:20260407T230000
DTSTAMP:20260420T200000
CREATED:20260402T110430Z
LAST-MODIFIED:20260402T110430Z
UID:10006191-1775595600-1775602800@www.knightlysfunpark.co.uk
SUMMARY:Jem Brent
DESCRIPTION:Jem Brent is a dynamic live performer known for his energetic sets and crowd-pleasing mix of party hits and singalong favourites. Get ready for a feel-good atmosphere as he brings big vocals\, great vibes\, and non-stop entertainment to the stage.
URL:https://www.knightlysfunpark.co.uk/event/jem-brent/
LOCATION:Knightly’s Bar
CATEGORIES:Evening Entertainment
ATTACH;FMTTYPE=image/png:https://www.knightlysfunpark.co.uk/wp-content/uploads/2026/04/jem-brent-at-Knightlys-Bar.png
END:VEVENT
BEGIN:VEVENT
DTSTART;TZID=Europe/London:20260407T140000
DTEND;TZID=Europe/London:20260407T150000
DTSTAMP:20260420T200000
CREATED:20250401T141535Z
LAST-MODIFIED:20260416T095159Z
UID:10006570-1775570400-1775574000@www.knightlysfunpark.co.uk
SUMMARY:Cash Bingo
DESCRIPTION:Join us for a game of cash bingo! Win huge cash prizes for a line or full house. Play out in the garden or inside Knightly’s Bar.
URL:https://www.knightlysfunpark.co.uk/event/cash-bingo/2026-04-07/
LOCATION:Knightly’s Bar
ATTACH;FMTTYPE=image/png:https://www.knightlysfunpark.co.uk/wp-content/uploads/2025/04/cash-bingo-at-Knightlys-Bar.png
END:VEVENT
BEGIN:VEVENT
DTSTART;TZID=Europe/London:20260406T210000
DTEND;TZID=Europe/London:20260406T230000
DTSTAMP:20260420T200000
CREATED:20250519T104314Z
LAST-MODIFIED:20260413T115658Z
UID:10005658-1775509200-1775516400@www.knightlysfunpark.co.uk
SUMMARY:Lipztik
DESCRIPTION:Two talented performers Caz McElroy & Jade Courtney make up duo\, Lipztik! Pairing powerhouse vocals & infectious energy\, LipZtik brings all the glamour and fun 🫦
URL:https://www.knightlysfunpark.co.uk/event/lipztick/2026-04-06/
LOCATION:Knightly’s Bar
CATEGORIES:Family Friendly
ATTACH;FMTTYPE=image/png:https://www.knightlysfunpark.co.uk/wp-content/uploads/2025/05/Lipztik-at-Knightlys-Bar.png
END:VEVENT
BEGIN:VEVENT
DTSTART;TZID=Europe/London:20260406T190000
DTEND;TZID=Europe/London:20260406T210000
DTSTAMP:20260420T200000
CREATED:20250710T120755Z
LAST-MODIFIED:20260317T113953Z
UID:10005761-1775502000-1775509200@www.knightlysfunpark.co.uk
SUMMARY:Crazy Claire Kids Party
DESCRIPTION:Join us in the Outdoor Arena at Knightly’s Bar for loads of fun and games with Crazy Claire! \n\n Game Show \n Kids Talent Show – Towyn’s next superstar could be YOU!\n Win Prizes\n Crazy BIG giveaways playing In It to Win It!\n Brand NEW party dances\n Creative Arts & Crafts sessions
URL:https://www.knightlysfunpark.co.uk/event/crazy-claire-kids-party/2026-04-06/
LOCATION:Knightly’s Bar
CATEGORIES:Family Friendly
ATTACH;FMTTYPE=image/png:https://www.knightlysfunpark.co.uk/wp-content/uploads/2025/07/Crazy-Claire-at-Knightlys-Bar.png
END:VEVENT
BEGIN:VEVENT
DTSTART;TZID=Europe/London:20260406T150000
DTEND;TZID=Europe/London:20260406T170000
DTSTAMP:20260420T200000
CREATED:20250612T125117Z
LAST-MODIFIED:20260326T113943Z
UID:10005665-1775487600-1775494800@www.knightlysfunpark.co.uk
SUMMARY:Tommy Barron
DESCRIPTION:Tommy Barron is a fantastic performer and entertainer\, singing all styles and genres of music and always gets the crowd ready to party!
URL:https://www.knightlysfunpark.co.uk/event/tommy-barron-2/2026-04-06/
LOCATION:Knightly’s Bar
CATEGORIES:Family Friendly
ATTACH;FMTTYPE=image/png:https://www.knightlysfunpark.co.uk/wp-content/uploads/2025/06/Tommy-Barron-at-Knightlys-Bar.png
END:VEVENT
BEGIN:VEVENT
DTSTART;TZID=Europe/London:20260406T140000
DTEND;TZID=Europe/London:20260406T150000
DTSTAMP:20260420T200000
CREATED:20250401T141535Z
LAST-MODIFIED:20260416T095159Z
UID:10006569-1775484000-1775487600@www.knightlysfunpark.co.uk
SUMMARY:Cash Bingo
DESCRIPTION:Join us for a game of cash bingo! Win huge cash prizes for a line or full house. Play out in the garden or inside Knightly’s Bar.
URL:https://www.knightlysfunpark.co.uk/event/cash-bingo/2026-04-06/
LOCATION:Knightly’s Bar
ATTACH;FMTTYPE=image/png:https://www.knightlysfunpark.co.uk/wp-content/uploads/2025/04/cash-bingo-at-Knightlys-Bar.png
END:VEVENT
BEGIN:VEVENT
DTSTART;TZID=Europe/London:20260405T210000
DTEND;TZID=Europe/London:20260405T230000
DTSTAMP:20260420T200000
CREATED:20250612T124251Z
LAST-MODIFIED:20260420T100507Z
UID:10005645-1775422800-1775430000@www.knightlysfunpark.co.uk
SUMMARY:Dean Morter
DESCRIPTION:A Rod Stewart tribute artist\, with an uncannily similar voice to the man himself\, Dean Morter needs to be heard to be believed!
URL:https://www.knightlysfunpark.co.uk/event/dean-morter/2026-04-05/
LOCATION:Knightly’s Bar
ATTACH;FMTTYPE=image/png:https://www.knightlysfunpark.co.uk/wp-content/uploads/2025/06/Dean-Morter-at-Knightlys-Bar.png
END:VEVENT
BEGIN:VEVENT
DTSTART;TZID=Europe/London:20260405T180000
DTEND;TZID=Europe/London:20260405T200000
DTSTAMP:20260420T200000
CREATED:20250612T122939Z
LAST-MODIFIED:20260420T100939Z
UID:10005636-1775412000-1775419200@www.knightlysfunpark.co.uk
SUMMARY:Hefin Roberts
DESCRIPTION:Join us at Knightly’s Bar for an unforgettable evening with the incredibly talented Hefin Roberts. Prepare for power-house vocals and hilarious comedy all wrapped up in one!
URL:https://www.knightlysfunpark.co.uk/event/hefin-roberts/2026-04-05/
LOCATION:Knightly’s Bar
CATEGORIES:Evening Entertainment
ATTACH;FMTTYPE=image/png:https://www.knightlysfunpark.co.uk/wp-content/uploads/2025/06/Hefin-Roberts-at-Knightlys-Bar.png
END:VEVENT
END:VCALENDAR