BEGIN:VCALENDAR
VERSION:2.0
PRODID:-//Knightly&#039;s Fun Park Towyn - ECPv6.15.17//NONSGML v1.0//EN
CALSCALE:GREGORIAN
METHOD:PUBLISH
X-WR-CALNAME:Knightly&#039;s Fun Park Towyn
X-ORIGINAL-URL:https://www.knightlysfunpark.co.uk
X-WR-CALDESC:Events for Knightly&#039;s Fun Park Towyn
REFRESH-INTERVAL;VALUE=DURATION:PT1H
X-Robots-Tag:noindex
X-PUBLISHED-TTL:PT1H
BEGIN:VTIMEZONE
TZID:Europe/London
BEGIN:DAYLIGHT
TZOFFSETFROM:+0000
TZOFFSETTO:+0100
TZNAME:BST
DTSTART:20250330T010000
END:DAYLIGHT
BEGIN:STANDARD
TZOFFSETFROM:+0100
TZOFFSETTO:+0000
TZNAME:GMT
DTSTART:20251026T010000
END:STANDARD
BEGIN:DAYLIGHT
TZOFFSETFROM:+0000
TZOFFSETTO:+0100
TZNAME:BST
DTSTART:20260329T010000
END:DAYLIGHT
BEGIN:STANDARD
TZOFFSETFROM:+0100
TZOFFSETTO:+0000
TZNAME:GMT
DTSTART:20261025T010000
END:STANDARD
BEGIN:DAYLIGHT
TZOFFSETFROM:+0000
TZOFFSETTO:+0100
TZNAME:BST
DTSTART:20270328T010000
END:DAYLIGHT
BEGIN:STANDARD
TZOFFSETFROM:+0100
TZOFFSETTO:+0000
TZNAME:GMT
DTSTART:20271031T010000
END:STANDARD
END:VTIMEZONE
BEGIN:VEVENT
DTSTART;TZID=Europe/London:20260729T200000
DTEND;TZID=Europe/London:20260729T220000
DTSTAMP:20260421T092225
CREATED:20250401T135856Z
LAST-MODIFIED:20260330T124506Z
UID:10005799-1785355200-1785362400@www.knightlysfunpark.co.uk
SUMMARY:Wrestling Show
DESCRIPTION:Get ready for an electrifying showdown as Basix Pro Wrestling takes center stage at Knightly’s Fun Park! You’re in for a treat when you come to watch some of the UK’s most professional wrestlers who know how to deliver exceptional family entertainment. Don’t miss this epic display of athleticism and excitement! \n£3 per person. Gates open at 6 PM\, show starts at 8 PM.
URL:https://www.knightlysfunpark.co.uk/event/wrestling-show/2026-07-29/
LOCATION:Knightly’s Bar
CATEGORIES:Family Friendly
ATTACH;FMTTYPE=image/png:https://www.knightlysfunpark.co.uk/wp-content/uploads/2025/04/2026.png
END:VEVENT
BEGIN:VEVENT
DTSTART;TZID=Europe/London:20260730T140000
DTEND;TZID=Europe/London:20260730T150000
DTSTAMP:20260421T092225
CREATED:20250401T141535Z
LAST-MODIFIED:20260416T095159Z
UID:10006684-1785420000-1785423600@www.knightlysfunpark.co.uk
SUMMARY:Cash Bingo
DESCRIPTION:Join us for a game of cash bingo! Win huge cash prizes for a line or full house. Play out in the garden or inside Knightly’s Bar.
URL:https://www.knightlysfunpark.co.uk/event/cash-bingo/2026-07-30/
LOCATION:Knightly’s Bar
ATTACH;FMTTYPE=image/png:https://www.knightlysfunpark.co.uk/wp-content/uploads/2025/04/cash-bingo-at-Knightlys-Bar.png
END:VEVENT
BEGIN:VEVENT
DTSTART;TZID=Europe/London:20260731T140000
DTEND;TZID=Europe/London:20260731T150000
DTSTAMP:20260421T092225
CREATED:20250401T141535Z
LAST-MODIFIED:20260416T095159Z
UID:10006685-1785506400-1785510000@www.knightlysfunpark.co.uk
SUMMARY:Cash Bingo
DESCRIPTION:Join us for a game of cash bingo! Win huge cash prizes for a line or full house. Play out in the garden or inside Knightly’s Bar.
URL:https://www.knightlysfunpark.co.uk/event/cash-bingo/2026-07-31/
LOCATION:Knightly’s Bar
ATTACH;FMTTYPE=image/png:https://www.knightlysfunpark.co.uk/wp-content/uploads/2025/04/cash-bingo-at-Knightlys-Bar.png
END:VEVENT
BEGIN:VEVENT
DTSTART;TZID=Europe/London:20260731T190000
DTEND;TZID=Europe/London:20260731T210000
DTSTAMP:20260421T092225
CREATED:20250710T120755Z
LAST-MODIFIED:20260317T113953Z
UID:10005769-1785524400-1785531600@www.knightlysfunpark.co.uk
SUMMARY:Crazy Claire Kids Party
DESCRIPTION:Join us in the Outdoor Arena at Knightly’s Bar for loads of fun and games with Crazy Claire! \n\n Game Show \n Kids Talent Show – Towyn’s next superstar could be YOU!\n Win Prizes\n Crazy BIG giveaways playing In It to Win It!\n Brand NEW party dances\n Creative Arts & Crafts sessions
URL:https://www.knightlysfunpark.co.uk/event/crazy-claire-kids-party/2026-07-31/
LOCATION:Knightly’s Bar
CATEGORIES:Family Friendly
ATTACH;FMTTYPE=image/png:https://www.knightlysfunpark.co.uk/wp-content/uploads/2025/07/Crazy-Claire-at-Knightlys-Bar.png
END:VEVENT
BEGIN:VEVENT
DTSTART;TZID=Europe/London:20260801T140000
DTEND;TZID=Europe/London:20260801T150000
DTSTAMP:20260421T092225
CREATED:20250401T141535Z
LAST-MODIFIED:20260416T095159Z
UID:10006686-1785592800-1785596400@www.knightlysfunpark.co.uk
SUMMARY:Cash Bingo
DESCRIPTION:Join us for a game of cash bingo! Win huge cash prizes for a line or full house. Play out in the garden or inside Knightly’s Bar.
URL:https://www.knightlysfunpark.co.uk/event/cash-bingo/2026-08-01/
LOCATION:Knightly’s Bar
ATTACH;FMTTYPE=image/png:https://www.knightlysfunpark.co.uk/wp-content/uploads/2025/04/cash-bingo-at-Knightlys-Bar.png
END:VEVENT
BEGIN:VEVENT
DTSTART;TZID=Europe/London:20260802T140000
DTEND;TZID=Europe/London:20260802T150000
DTSTAMP:20260421T092225
CREATED:20250401T141535Z
LAST-MODIFIED:20260416T095159Z
UID:10006687-1785679200-1785682800@www.knightlysfunpark.co.uk
SUMMARY:Cash Bingo
DESCRIPTION:Join us for a game of cash bingo! Win huge cash prizes for a line or full house. Play out in the garden or inside Knightly’s Bar.
URL:https://www.knightlysfunpark.co.uk/event/cash-bingo/2026-08-02/
LOCATION:Knightly’s Bar
ATTACH;FMTTYPE=image/png:https://www.knightlysfunpark.co.uk/wp-content/uploads/2025/04/cash-bingo-at-Knightlys-Bar.png
END:VEVENT
BEGIN:VEVENT
DTSTART;TZID=Europe/London:20260803T140000
DTEND;TZID=Europe/London:20260803T150000
DTSTAMP:20260421T092225
CREATED:20250401T141535Z
LAST-MODIFIED:20260416T095159Z
UID:10006688-1785765600-1785769200@www.knightlysfunpark.co.uk
SUMMARY:Cash Bingo
DESCRIPTION:Join us for a game of cash bingo! Win huge cash prizes for a line or full house. Play out in the garden or inside Knightly’s Bar.
URL:https://www.knightlysfunpark.co.uk/event/cash-bingo/2026-08-03/
LOCATION:Knightly’s Bar
ATTACH;FMTTYPE=image/png:https://www.knightlysfunpark.co.uk/wp-content/uploads/2025/04/cash-bingo-at-Knightlys-Bar.png
END:VEVENT
BEGIN:VEVENT
DTSTART;TZID=Europe/London:20260803T190000
DTEND;TZID=Europe/London:20260803T210000
DTSTAMP:20260421T092225
CREATED:20250710T120755Z
LAST-MODIFIED:20260317T113953Z
UID:10005770-1785783600-1785790800@www.knightlysfunpark.co.uk
SUMMARY:Crazy Claire Kids Party
DESCRIPTION:Join us in the Outdoor Arena at Knightly’s Bar for loads of fun and games with Crazy Claire! \n\n Game Show \n Kids Talent Show – Towyn’s next superstar could be YOU!\n Win Prizes\n Crazy BIG giveaways playing In It to Win It!\n Brand NEW party dances\n Creative Arts & Crafts sessions
URL:https://www.knightlysfunpark.co.uk/event/crazy-claire-kids-party/2026-08-03/
LOCATION:Knightly’s Bar
CATEGORIES:Family Friendly
ATTACH;FMTTYPE=image/png:https://www.knightlysfunpark.co.uk/wp-content/uploads/2025/07/Crazy-Claire-at-Knightlys-Bar.png
END:VEVENT
BEGIN:VEVENT
DTSTART;TZID=Europe/London:20260804T140000
DTEND;TZID=Europe/London:20260804T150000
DTSTAMP:20260421T092225
CREATED:20250401T141535Z
LAST-MODIFIED:20260416T095159Z
UID:10006689-1785852000-1785855600@www.knightlysfunpark.co.uk
SUMMARY:Cash Bingo
DESCRIPTION:Join us for a game of cash bingo! Win huge cash prizes for a line or full house. Play out in the garden or inside Knightly’s Bar.
URL:https://www.knightlysfunpark.co.uk/event/cash-bingo/2026-08-04/
LOCATION:Knightly’s Bar
ATTACH;FMTTYPE=image/png:https://www.knightlysfunpark.co.uk/wp-content/uploads/2025/04/cash-bingo-at-Knightlys-Bar.png
END:VEVENT
BEGIN:VEVENT
DTSTART;TZID=Europe/London:20260805T140000
DTEND;TZID=Europe/London:20260805T150000
DTSTAMP:20260421T092225
CREATED:20250401T141535Z
LAST-MODIFIED:20260416T095159Z
UID:10006690-1785938400-1785942000@www.knightlysfunpark.co.uk
SUMMARY:Cash Bingo
DESCRIPTION:Join us for a game of cash bingo! Win huge cash prizes for a line or full house. Play out in the garden or inside Knightly’s Bar.
URL:https://www.knightlysfunpark.co.uk/event/cash-bingo/2026-08-05/
LOCATION:Knightly’s Bar
ATTACH;FMTTYPE=image/png:https://www.knightlysfunpark.co.uk/wp-content/uploads/2025/04/cash-bingo-at-Knightlys-Bar.png
END:VEVENT
BEGIN:VEVENT
DTSTART;TZID=Europe/London:20260805T200000
DTEND;TZID=Europe/London:20260805T220000
DTSTAMP:20260421T092225
CREATED:20250401T135856Z
LAST-MODIFIED:20260330T124506Z
UID:10005800-1785960000-1785967200@www.knightlysfunpark.co.uk
SUMMARY:Wrestling Show
DESCRIPTION:Get ready for an electrifying showdown as Basix Pro Wrestling takes center stage at Knightly’s Fun Park! You’re in for a treat when you come to watch some of the UK’s most professional wrestlers who know how to deliver exceptional family entertainment. Don’t miss this epic display of athleticism and excitement! \n£3 per person. Gates open at 6 PM\, show starts at 8 PM.
URL:https://www.knightlysfunpark.co.uk/event/wrestling-show/2026-08-05/
LOCATION:Knightly’s Bar
CATEGORIES:Family Friendly
ATTACH;FMTTYPE=image/png:https://www.knightlysfunpark.co.uk/wp-content/uploads/2025/04/2026.png
END:VEVENT
BEGIN:VEVENT
DTSTART;TZID=Europe/London:20260806T140000
DTEND;TZID=Europe/London:20260806T150000
DTSTAMP:20260421T092225
CREATED:20250401T141535Z
LAST-MODIFIED:20260416T095159Z
UID:10006691-1786024800-1786028400@www.knightlysfunpark.co.uk
SUMMARY:Cash Bingo
DESCRIPTION:Join us for a game of cash bingo! Win huge cash prizes for a line or full house. Play out in the garden or inside Knightly’s Bar.
URL:https://www.knightlysfunpark.co.uk/event/cash-bingo/2026-08-06/
LOCATION:Knightly’s Bar
ATTACH;FMTTYPE=image/png:https://www.knightlysfunpark.co.uk/wp-content/uploads/2025/04/cash-bingo-at-Knightlys-Bar.png
END:VEVENT
BEGIN:VEVENT
DTSTART;TZID=Europe/London:20260807T140000
DTEND;TZID=Europe/London:20260807T150000
DTSTAMP:20260421T092225
CREATED:20250401T141535Z
LAST-MODIFIED:20260416T095159Z
UID:10006692-1786111200-1786114800@www.knightlysfunpark.co.uk
SUMMARY:Cash Bingo
DESCRIPTION:Join us for a game of cash bingo! Win huge cash prizes for a line or full house. Play out in the garden or inside Knightly’s Bar.
URL:https://www.knightlysfunpark.co.uk/event/cash-bingo/2026-08-07/
LOCATION:Knightly’s Bar
ATTACH;FMTTYPE=image/png:https://www.knightlysfunpark.co.uk/wp-content/uploads/2025/04/cash-bingo-at-Knightlys-Bar.png
END:VEVENT
BEGIN:VEVENT
DTSTART;TZID=Europe/London:20260807T190000
DTEND;TZID=Europe/London:20260807T210000
DTSTAMP:20260421T092225
CREATED:20250710T120755Z
LAST-MODIFIED:20260317T113953Z
UID:10005771-1786129200-1786136400@www.knightlysfunpark.co.uk
SUMMARY:Crazy Claire Kids Party
DESCRIPTION:Join us in the Outdoor Arena at Knightly’s Bar for loads of fun and games with Crazy Claire! \n\n Game Show \n Kids Talent Show – Towyn’s next superstar could be YOU!\n Win Prizes\n Crazy BIG giveaways playing In It to Win It!\n Brand NEW party dances\n Creative Arts & Crafts sessions
URL:https://www.knightlysfunpark.co.uk/event/crazy-claire-kids-party/2026-08-07/
LOCATION:Knightly’s Bar
CATEGORIES:Family Friendly
ATTACH;FMTTYPE=image/png:https://www.knightlysfunpark.co.uk/wp-content/uploads/2025/07/Crazy-Claire-at-Knightlys-Bar.png
END:VEVENT
BEGIN:VEVENT
DTSTART;TZID=Europe/London:20260808T140000
DTEND;TZID=Europe/London:20260808T150000
DTSTAMP:20260421T092225
CREATED:20250401T141535Z
LAST-MODIFIED:20260416T095159Z
UID:10006693-1786197600-1786201200@www.knightlysfunpark.co.uk
SUMMARY:Cash Bingo
DESCRIPTION:Join us for a game of cash bingo! Win huge cash prizes for a line or full house. Play out in the garden or inside Knightly’s Bar.
URL:https://www.knightlysfunpark.co.uk/event/cash-bingo/2026-08-08/
LOCATION:Knightly’s Bar
ATTACH;FMTTYPE=image/png:https://www.knightlysfunpark.co.uk/wp-content/uploads/2025/04/cash-bingo-at-Knightlys-Bar.png
END:VEVENT
BEGIN:VEVENT
DTSTART;TZID=Europe/London:20260809T140000
DTEND;TZID=Europe/London:20260809T150000
DTSTAMP:20260421T092225
CREATED:20250401T141535Z
LAST-MODIFIED:20260416T095159Z
UID:10006694-1786284000-1786287600@www.knightlysfunpark.co.uk
SUMMARY:Cash Bingo
DESCRIPTION:Join us for a game of cash bingo! Win huge cash prizes for a line or full house. Play out in the garden or inside Knightly’s Bar.
URL:https://www.knightlysfunpark.co.uk/event/cash-bingo/2026-08-09/
LOCATION:Knightly’s Bar
ATTACH;FMTTYPE=image/png:https://www.knightlysfunpark.co.uk/wp-content/uploads/2025/04/cash-bingo-at-Knightlys-Bar.png
END:VEVENT
BEGIN:VEVENT
DTSTART;TZID=Europe/London:20260810T140000
DTEND;TZID=Europe/London:20260810T150000
DTSTAMP:20260421T092225
CREATED:20250401T141535Z
LAST-MODIFIED:20260416T095159Z
UID:10006695-1786370400-1786374000@www.knightlysfunpark.co.uk
SUMMARY:Cash Bingo
DESCRIPTION:Join us for a game of cash bingo! Win huge cash prizes for a line or full house. Play out in the garden or inside Knightly’s Bar.
URL:https://www.knightlysfunpark.co.uk/event/cash-bingo/2026-08-10/
LOCATION:Knightly’s Bar
ATTACH;FMTTYPE=image/png:https://www.knightlysfunpark.co.uk/wp-content/uploads/2025/04/cash-bingo-at-Knightlys-Bar.png
END:VEVENT
BEGIN:VEVENT
DTSTART;TZID=Europe/London:20260810T190000
DTEND;TZID=Europe/London:20260810T210000
DTSTAMP:20260421T092225
CREATED:20250710T120755Z
LAST-MODIFIED:20260317T113953Z
UID:10005772-1786388400-1786395600@www.knightlysfunpark.co.uk
SUMMARY:Crazy Claire Kids Party
DESCRIPTION:Join us in the Outdoor Arena at Knightly’s Bar for loads of fun and games with Crazy Claire! \n\n Game Show \n Kids Talent Show – Towyn’s next superstar could be YOU!\n Win Prizes\n Crazy BIG giveaways playing In It to Win It!\n Brand NEW party dances\n Creative Arts & Crafts sessions
URL:https://www.knightlysfunpark.co.uk/event/crazy-claire-kids-party/2026-08-10/
LOCATION:Knightly’s Bar
CATEGORIES:Family Friendly
ATTACH;FMTTYPE=image/png:https://www.knightlysfunpark.co.uk/wp-content/uploads/2025/07/Crazy-Claire-at-Knightlys-Bar.png
END:VEVENT
BEGIN:VEVENT
DTSTART;TZID=Europe/London:20260811T140000
DTEND;TZID=Europe/London:20260811T150000
DTSTAMP:20260421T092225
CREATED:20250401T141535Z
LAST-MODIFIED:20260416T095159Z
UID:10006696-1786456800-1786460400@www.knightlysfunpark.co.uk
SUMMARY:Cash Bingo
DESCRIPTION:Join us for a game of cash bingo! Win huge cash prizes for a line or full house. Play out in the garden or inside Knightly’s Bar.
URL:https://www.knightlysfunpark.co.uk/event/cash-bingo/2026-08-11/
LOCATION:Knightly’s Bar
ATTACH;FMTTYPE=image/png:https://www.knightlysfunpark.co.uk/wp-content/uploads/2025/04/cash-bingo-at-Knightlys-Bar.png
END:VEVENT
BEGIN:VEVENT
DTSTART;TZID=Europe/London:20260812T140000
DTEND;TZID=Europe/London:20260812T150000
DTSTAMP:20260421T092226
CREATED:20250401T141535Z
LAST-MODIFIED:20260416T095159Z
UID:10006697-1786543200-1786546800@www.knightlysfunpark.co.uk
SUMMARY:Cash Bingo
DESCRIPTION:Join us for a game of cash bingo! Win huge cash prizes for a line or full house. Play out in the garden or inside Knightly’s Bar.
URL:https://www.knightlysfunpark.co.uk/event/cash-bingo/2026-08-12/
LOCATION:Knightly’s Bar
ATTACH;FMTTYPE=image/png:https://www.knightlysfunpark.co.uk/wp-content/uploads/2025/04/cash-bingo-at-Knightlys-Bar.png
END:VEVENT
BEGIN:VEVENT
DTSTART;TZID=Europe/London:20260812T200000
DTEND;TZID=Europe/London:20260812T220000
DTSTAMP:20260421T092226
CREATED:20250401T135856Z
LAST-MODIFIED:20260330T124506Z
UID:10005801-1786564800-1786572000@www.knightlysfunpark.co.uk
SUMMARY:Wrestling Show
DESCRIPTION:Get ready for an electrifying showdown as Basix Pro Wrestling takes center stage at Knightly’s Fun Park! You’re in for a treat when you come to watch some of the UK’s most professional wrestlers who know how to deliver exceptional family entertainment. Don’t miss this epic display of athleticism and excitement! \n£3 per person. Gates open at 6 PM\, show starts at 8 PM.
URL:https://www.knightlysfunpark.co.uk/event/wrestling-show/2026-08-12/
LOCATION:Knightly’s Bar
CATEGORIES:Family Friendly
ATTACH;FMTTYPE=image/png:https://www.knightlysfunpark.co.uk/wp-content/uploads/2025/04/2026.png
END:VEVENT
BEGIN:VEVENT
DTSTART;TZID=Europe/London:20260813T140000
DTEND;TZID=Europe/London:20260813T150000
DTSTAMP:20260421T092226
CREATED:20250401T141535Z
LAST-MODIFIED:20260416T095159Z
UID:10006698-1786629600-1786633200@www.knightlysfunpark.co.uk
SUMMARY:Cash Bingo
DESCRIPTION:Join us for a game of cash bingo! Win huge cash prizes for a line or full house. Play out in the garden or inside Knightly’s Bar.
URL:https://www.knightlysfunpark.co.uk/event/cash-bingo/2026-08-13/
LOCATION:Knightly’s Bar
ATTACH;FMTTYPE=image/png:https://www.knightlysfunpark.co.uk/wp-content/uploads/2025/04/cash-bingo-at-Knightlys-Bar.png
END:VEVENT
BEGIN:VEVENT
DTSTART;TZID=Europe/London:20260814T140000
DTEND;TZID=Europe/London:20260814T150000
DTSTAMP:20260421T092226
CREATED:20250401T141535Z
LAST-MODIFIED:20260416T095159Z
UID:10006699-1786716000-1786719600@www.knightlysfunpark.co.uk
SUMMARY:Cash Bingo
DESCRIPTION:Join us for a game of cash bingo! Win huge cash prizes for a line or full house. Play out in the garden or inside Knightly’s Bar.
URL:https://www.knightlysfunpark.co.uk/event/cash-bingo/2026-08-14/
LOCATION:Knightly’s Bar
ATTACH;FMTTYPE=image/png:https://www.knightlysfunpark.co.uk/wp-content/uploads/2025/04/cash-bingo-at-Knightlys-Bar.png
END:VEVENT
BEGIN:VEVENT
DTSTART;TZID=Europe/London:20260814T190000
DTEND;TZID=Europe/London:20260814T210000
DTSTAMP:20260421T092226
CREATED:20250710T120755Z
LAST-MODIFIED:20260317T113953Z
UID:10005773-1786734000-1786741200@www.knightlysfunpark.co.uk
SUMMARY:Crazy Claire Kids Party
DESCRIPTION:Join us in the Outdoor Arena at Knightly’s Bar for loads of fun and games with Crazy Claire! \n\n Game Show \n Kids Talent Show – Towyn’s next superstar could be YOU!\n Win Prizes\n Crazy BIG giveaways playing In It to Win It!\n Brand NEW party dances\n Creative Arts & Crafts sessions
URL:https://www.knightlysfunpark.co.uk/event/crazy-claire-kids-party/2026-08-14/
LOCATION:Knightly’s Bar
CATEGORIES:Family Friendly
ATTACH;FMTTYPE=image/png:https://www.knightlysfunpark.co.uk/wp-content/uploads/2025/07/Crazy-Claire-at-Knightlys-Bar.png
END:VEVENT
BEGIN:VEVENT
DTSTART;TZID=Europe/London:20260815T140000
DTEND;TZID=Europe/London:20260815T150000
DTSTAMP:20260421T092226
CREATED:20250401T141535Z
LAST-MODIFIED:20260416T095159Z
UID:10006700-1786802400-1786806000@www.knightlysfunpark.co.uk
SUMMARY:Cash Bingo
DESCRIPTION:Join us for a game of cash bingo! Win huge cash prizes for a line or full house. Play out in the garden or inside Knightly’s Bar.
URL:https://www.knightlysfunpark.co.uk/event/cash-bingo/2026-08-15/
LOCATION:Knightly’s Bar
ATTACH;FMTTYPE=image/png:https://www.knightlysfunpark.co.uk/wp-content/uploads/2025/04/cash-bingo-at-Knightlys-Bar.png
END:VEVENT
BEGIN:VEVENT
DTSTART;TZID=Europe/London:20260816T140000
DTEND;TZID=Europe/London:20260816T150000
DTSTAMP:20260421T092226
CREATED:20250401T141535Z
LAST-MODIFIED:20260416T095159Z
UID:10006701-1786888800-1786892400@www.knightlysfunpark.co.uk
SUMMARY:Cash Bingo
DESCRIPTION:Join us for a game of cash bingo! Win huge cash prizes for a line or full house. Play out in the garden or inside Knightly’s Bar.
URL:https://www.knightlysfunpark.co.uk/event/cash-bingo/2026-08-16/
LOCATION:Knightly’s Bar
ATTACH;FMTTYPE=image/png:https://www.knightlysfunpark.co.uk/wp-content/uploads/2025/04/cash-bingo-at-Knightlys-Bar.png
END:VEVENT
BEGIN:VEVENT
DTSTART;TZID=Europe/London:20260817T140000
DTEND;TZID=Europe/London:20260817T150000
DTSTAMP:20260421T092226
CREATED:20250401T141535Z
LAST-MODIFIED:20260416T095159Z
UID:10006702-1786975200-1786978800@www.knightlysfunpark.co.uk
SUMMARY:Cash Bingo
DESCRIPTION:Join us for a game of cash bingo! Win huge cash prizes for a line or full house. Play out in the garden or inside Knightly’s Bar.
URL:https://www.knightlysfunpark.co.uk/event/cash-bingo/2026-08-17/
LOCATION:Knightly’s Bar
ATTACH;FMTTYPE=image/png:https://www.knightlysfunpark.co.uk/wp-content/uploads/2025/04/cash-bingo-at-Knightlys-Bar.png
END:VEVENT
BEGIN:VEVENT
DTSTART;TZID=Europe/London:20260817T190000
DTEND;TZID=Europe/London:20260817T210000
DTSTAMP:20260421T092226
CREATED:20250710T120755Z
LAST-MODIFIED:20260317T113953Z
UID:10005774-1786993200-1787000400@www.knightlysfunpark.co.uk
SUMMARY:Crazy Claire Kids Party
DESCRIPTION:Join us in the Outdoor Arena at Knightly’s Bar for loads of fun and games with Crazy Claire! \n\n Game Show \n Kids Talent Show – Towyn’s next superstar could be YOU!\n Win Prizes\n Crazy BIG giveaways playing In It to Win It!\n Brand NEW party dances\n Creative Arts & Crafts sessions
URL:https://www.knightlysfunpark.co.uk/event/crazy-claire-kids-party/2026-08-17/
LOCATION:Knightly’s Bar
CATEGORIES:Family Friendly
ATTACH;FMTTYPE=image/png:https://www.knightlysfunpark.co.uk/wp-content/uploads/2025/07/Crazy-Claire-at-Knightlys-Bar.png
END:VEVENT
BEGIN:VEVENT
DTSTART;TZID=Europe/London:20260818T140000
DTEND;TZID=Europe/London:20260818T150000
DTSTAMP:20260421T092226
CREATED:20250401T141535Z
LAST-MODIFIED:20260416T095159Z
UID:10006703-1787061600-1787065200@www.knightlysfunpark.co.uk
SUMMARY:Cash Bingo
DESCRIPTION:Join us for a game of cash bingo! Win huge cash prizes for a line or full house. Play out in the garden or inside Knightly’s Bar.
URL:https://www.knightlysfunpark.co.uk/event/cash-bingo/2026-08-18/
LOCATION:Knightly’s Bar
ATTACH;FMTTYPE=image/png:https://www.knightlysfunpark.co.uk/wp-content/uploads/2025/04/cash-bingo-at-Knightlys-Bar.png
END:VEVENT
BEGIN:VEVENT
DTSTART;TZID=Europe/London:20260819T140000
DTEND;TZID=Europe/London:20260819T150000
DTSTAMP:20260421T092226
CREATED:20250401T141535Z
LAST-MODIFIED:20260416T095159Z
UID:10006704-1787148000-1787151600@www.knightlysfunpark.co.uk
SUMMARY:Cash Bingo
DESCRIPTION:Join us for a game of cash bingo! Win huge cash prizes for a line or full house. Play out in the garden or inside Knightly’s Bar.
URL:https://www.knightlysfunpark.co.uk/event/cash-bingo/2026-08-19/
LOCATION:Knightly’s Bar
ATTACH;FMTTYPE=image/png:https://www.knightlysfunpark.co.uk/wp-content/uploads/2025/04/cash-bingo-at-Knightlys-Bar.png
END:VEVENT
END:VCALENDAR