BEGIN:VCALENDAR
VERSION:2.0
PRODID:-//Knightly&#039;s Fun Park Towyn - ECPv6.15.17//NONSGML v1.0//EN
CALSCALE:GREGORIAN
METHOD:PUBLISH
X-WR-CALNAME:Knightly&#039;s Fun Park Towyn
X-ORIGINAL-URL:https://www.knightlysfunpark.co.uk
X-WR-CALDESC:Events for Knightly&#039;s Fun Park Towyn
REFRESH-INTERVAL;VALUE=DURATION:PT1H
X-Robots-Tag:noindex
X-PUBLISHED-TTL:PT1H
BEGIN:VTIMEZONE
TZID:Europe/London
BEGIN:DAYLIGHT
TZOFFSETFROM:+0000
TZOFFSETTO:+0100
TZNAME:BST
DTSTART:20240331T010000
END:DAYLIGHT
BEGIN:STANDARD
TZOFFSETFROM:+0100
TZOFFSETTO:+0000
TZNAME:GMT
DTSTART:20241027T010000
END:STANDARD
BEGIN:DAYLIGHT
TZOFFSETFROM:+0000
TZOFFSETTO:+0100
TZNAME:BST
DTSTART:20250330T010000
END:DAYLIGHT
BEGIN:STANDARD
TZOFFSETFROM:+0100
TZOFFSETTO:+0000
TZNAME:GMT
DTSTART:20251026T010000
END:STANDARD
BEGIN:DAYLIGHT
TZOFFSETFROM:+0000
TZOFFSETTO:+0100
TZNAME:BST
DTSTART:20260329T010000
END:DAYLIGHT
BEGIN:STANDARD
TZOFFSETFROM:+0100
TZOFFSETTO:+0000
TZNAME:GMT
DTSTART:20261025T010000
END:STANDARD
END:VTIMEZONE
BEGIN:VEVENT
DTSTART;TZID=Europe/London:20250724T190000
DTEND;TZID=Europe/London:20250724T200000
DTSTAMP:20260424T110218
CREATED:20250710T142133Z
LAST-MODIFIED:20250710T142133Z
UID:10004913-1753383600-1753387200@www.knightlysfunpark.co.uk
SUMMARY:Blippi
DESCRIPTION:Don’t miss your chance to meet Blippi at Knightly’s Fun Park! Blippi will be on-site to greet fans\, take photos\, and spread joy with his infectious energy. Find him at Knightly’s Bar\, on the fairground and in Knightly’s Sandy Bay.
URL:https://www.knightlysfunpark.co.uk/event/blippi-2/2025-07-24/
LOCATION:Knightly’s Fun Park
CATEGORIES:Family Friendly
ATTACH;FMTTYPE=image/png:https://www.knightlysfunpark.co.uk/wp-content/uploads/2025/01/blippi-kb.png
END:VEVENT
BEGIN:VEVENT
DTSTART;TZID=Europe/London:20250724T193000
DTEND;TZID=Europe/London:20250724T213000
DTSTAMP:20260424T110218
CREATED:20250410T100210Z
LAST-MODIFIED:20250707T111316Z
UID:10004887-1753385400-1753392600@www.knightlysfunpark.co.uk
SUMMARY:Family Magic Show
DESCRIPTION:Join us for a free family Magic Show at Knightly’s Sandy Bay! Prepare to have your mind blown – Don’t miss out!
URL:https://www.knightlysfunpark.co.uk/event/family-magic-show/2025-07-24/
LOCATION:Knightly’s Sandy Bay Entertainment Centre
CATEGORIES:Evening Entertainment,Family Friendly
ATTACH;FMTTYPE=image/png:https://www.knightlysfunpark.co.uk/wp-content/uploads/2025/04/magic-show.png
END:VEVENT
BEGIN:VEVENT
DTSTART;TZID=Europe/London:20250724T203000
DTEND;TZID=Europe/London:20250724T233000
DTSTAMP:20260424T110218
CREATED:20250429T120357Z
LAST-MODIFIED:20250818T101703Z
UID:10004433-1753389000-1753399800@www.knightlysfunpark.co.uk
SUMMARY:Timeless
DESCRIPTION:Together\, Tommy Barron and Hefin Roberts join to make Timeless\, a hilarious comedy and vocal duo. Prepare to be entertained!
URL:https://www.knightlysfunpark.co.uk/event/timeless/2025-07-24/
LOCATION:Knightly’s Bar
ATTACH;FMTTYPE=image/png:https://www.knightlysfunpark.co.uk/wp-content/uploads/2025/04/Timeless-at-Knightlys-Bar.png
END:VEVENT
BEGIN:VEVENT
DTSTART;TZID=Europe/London:20250725T060000
DTEND;TZID=Europe/London:20250725T060000
DTSTAMP:20260424T110218
CREATED:20250722T151157Z
LAST-MODIFIED:20251020T121751Z
UID:10005587-1753423200-1753423200@www.knightlysfunpark.co.uk
SUMMARY:Kids Disco & Prize Bingo
DESCRIPTION:Join us for cash bingo at 7 PM\, our Mini Disco at 7:45 PM\,  family Prize Bingo at 8:15 PM\,  and Party Dances at 8:45 PM \nWe will be joined by our different characters including Stitch & Paw Patrol!
URL:https://www.knightlysfunpark.co.uk/event/kids-disco-prize-bingo/2025-07-25/
LOCATION:Knightly’s Sandy Bay Entertainment Centre
CATEGORIES:Evening Entertainment,Family Friendly
ATTACH;FMTTYPE=image/jpeg:https://www.knightlysfunpark.co.uk/wp-content/uploads/2025/05/paw-patrol-e1748256881967.jpg
END:VEVENT
BEGIN:VEVENT
DTSTART;TZID=Europe/London:20250725T140000
DTEND;TZID=Europe/London:20250725T150000
DTSTAMP:20260424T110218
CREATED:20250401T141535Z
LAST-MODIFIED:20260416T095159Z
UID:10006314-1753452000-1753455600@www.knightlysfunpark.co.uk
SUMMARY:Cash Bingo
DESCRIPTION:Join us for a game of cash bingo! Win huge cash prizes for a line or full house. Play out in the garden or inside Knightly’s Bar.
URL:https://www.knightlysfunpark.co.uk/event/cash-bingo/2025-07-25/
LOCATION:Knightly’s Bar
ATTACH;FMTTYPE=image/png:https://www.knightlysfunpark.co.uk/wp-content/uploads/2025/04/cash-bingo-at-Knightlys-Bar.png
END:VEVENT
BEGIN:VEVENT
DTSTART;TZID=Europe/London:20250725T140000
DTEND;TZID=Europe/London:20250725T150000
DTSTAMP:20260424T110218
CREATED:20250725T172313Z
LAST-MODIFIED:20250930T125808Z
UID:10005314-1753452000-1753455600@www.knightlysfunpark.co.uk
SUMMARY:Meet Sully
DESCRIPTION:Come along and meet the big blue friendly monster\, Sully!
URL:https://www.knightlysfunpark.co.uk/event/meet-sully-2/2025-07-25/
LOCATION:Knightly’s Fun Park
CATEGORIES:Family Friendly
ATTACH;FMTTYPE=image/png:https://www.knightlysfunpark.co.uk/wp-content/uploads/2025/07/Sully-meet-and-greet.png
END:VEVENT
BEGIN:VEVENT
DTSTART;TZID=Europe/London:20250725T140000
DTEND;TZID=Europe/London:20250725T160000
DTSTAMP:20260424T110218
CREATED:20250429T145225Z
LAST-MODIFIED:20260409T091115Z
UID:10004893-1753452000-1753459200@www.knightlysfunpark.co.uk
SUMMARY:Scaly Safari Show
DESCRIPTION:Get up close with lots of creepy crawlies and reptiles with Scaly Safari! Meet us on Knightly’s Fairground! 🐛🦎🕷 \nFree entry\, all welcome!
URL:https://www.knightlysfunpark.co.uk/event/scaly-safari-show-2/2025-07-25/
LOCATION:Knightly’s Fun Park
CATEGORIES:Family Friendly
ATTACH;FMTTYPE=image/png:https://www.knightlysfunpark.co.uk/wp-content/uploads/2025/04/20250414_175140_0000.png
END:VEVENT
BEGIN:VEVENT
DTSTART;TZID=Europe/London:20250725T190000
DTEND;TZID=Europe/London:20250725T210000
DTSTAMP:20260424T110218
CREATED:20250710T120755Z
LAST-MODIFIED:20260317T113953Z
UID:10004897-1753470000-1753477200@www.knightlysfunpark.co.uk
SUMMARY:Crazy Claire Kids Party
DESCRIPTION:Join us in the Outdoor Arena at Knightly’s Bar for loads of fun and games with Crazy Claire! \n\n Game Show \n Kids Talent Show – Towyn’s next superstar could be YOU!\n Win Prizes\n Crazy BIG giveaways playing In It to Win It!\n Brand NEW party dances\n Creative Arts & Crafts sessions
URL:https://www.knightlysfunpark.co.uk/event/crazy-claire-kids-party/2025-07-25/
LOCATION:Knightly’s Bar
CATEGORIES:Family Friendly
ATTACH;FMTTYPE=image/png:https://www.knightlysfunpark.co.uk/wp-content/uploads/2025/07/Crazy-Claire-at-Knightlys-Bar.png
END:VEVENT
BEGIN:VEVENT
DTSTART;TZID=Europe/London:20250725T203000
DTEND;TZID=Europe/London:20250725T233000
DTSTAMP:20260424T110218
CREATED:20250509T100049Z
LAST-MODIFIED:20260116T113648Z
UID:10004434-1753475400-1753486200@www.knightlysfunpark.co.uk
SUMMARY:James Loughlin
DESCRIPTION:A fantastic singer & performer\, we have James Loughlin live on stage at Knightly’s Bar! Join us from 8:30 PM for your first game of cash bingo.
URL:https://www.knightlysfunpark.co.uk/event/james-loughlin/2025-07-25/
LOCATION:Knightly’s Bar
CATEGORIES:Evening Entertainment
ATTACH;FMTTYPE=image/png:https://www.knightlysfunpark.co.uk/wp-content/uploads/2025/05/James-Loughlin-at-Knightlys-Bar.png
END:VEVENT
BEGIN:VEVENT
DTSTART;TZID=Europe/London:20250725T210000
DTEND;TZID=Europe/London:20250725T233000
DTSTAMP:20260424T110218
CREATED:20250114T115835Z
LAST-MODIFIED:20260122T114629Z
UID:10003554-1753477200-1753486200@www.knightlysfunpark.co.uk
SUMMARY:Danielle
DESCRIPTION:Get ready for an evening of incredible live music featuring the talented Danielle. Enjoy her captivating vocals and energetic performance in a lively and welcoming atmosphere!
URL:https://www.knightlysfunpark.co.uk/event/danielle/2025-07-25/
LOCATION:Knightly’s Sandy Bay Entertainment Centre
CATEGORIES:Evening Entertainment,Family Friendly
ATTACH;FMTTYPE=image/png:https://www.knightlysfunpark.co.uk/wp-content/uploads/2025/01/Danielle-at-Knightlys-Sandy-Bay-1.png
END:VEVENT
BEGIN:VEVENT
DTSTART;TZID=Europe/London:20250726T060000
DTEND;TZID=Europe/London:20250726T060000
DTSTAMP:20260424T110218
CREATED:20250722T151157Z
LAST-MODIFIED:20251020T121751Z
UID:10005588-1753509600-1753509600@www.knightlysfunpark.co.uk
SUMMARY:Kids Disco & Prize Bingo
DESCRIPTION:Join us for cash bingo at 7 PM\, our Mini Disco at 7:45 PM\,  family Prize Bingo at 8:15 PM\,  and Party Dances at 8:45 PM \nWe will be joined by our different characters including Stitch & Paw Patrol!
URL:https://www.knightlysfunpark.co.uk/event/kids-disco-prize-bingo/2025-07-26/
LOCATION:Knightly’s Sandy Bay Entertainment Centre
CATEGORIES:Evening Entertainment,Family Friendly
ATTACH;FMTTYPE=image/jpeg:https://www.knightlysfunpark.co.uk/wp-content/uploads/2025/05/paw-patrol-e1748256881967.jpg
END:VEVENT
BEGIN:VEVENT
DTSTART;TZID=Europe/London:20250726T130000
DTEND;TZID=Europe/London:20250726T134500
DTSTAMP:20260424T110218
CREATED:20250516T101921Z
LAST-MODIFIED:20251003T103535Z
UID:10005551-1753534800-1753537500@www.knightlysfunpark.co.uk
SUMMARY:Meet Paw Patrol
DESCRIPTION:Give your favourite Paw Patrol pups a big hug and a high five at Knightly’s! Find them strolling around the fairground and outside Knightly’s Bar.
URL:https://www.knightlysfunpark.co.uk/event/meet-paw-patrol-2/2025-07-26/
LOCATION:Knightly’s Fun Park
CATEGORIES:Family Friendly
ATTACH;FMTTYPE=image/jpeg:https://www.knightlysfunpark.co.uk/wp-content/uploads/2024/04/363379669_664953298998537_2372833678835023986_n-e1713363429737.jpg
END:VEVENT
BEGIN:VEVENT
DTSTART;TZID=Europe/London:20250726T140000
DTEND;TZID=Europe/London:20250726T150000
DTSTAMP:20260424T110218
CREATED:20250401T141535Z
LAST-MODIFIED:20260416T095159Z
UID:10006315-1753538400-1753542000@www.knightlysfunpark.co.uk
SUMMARY:Cash Bingo
DESCRIPTION:Join us for a game of cash bingo! Win huge cash prizes for a line or full house. Play out in the garden or inside Knightly’s Bar.
URL:https://www.knightlysfunpark.co.uk/event/cash-bingo/2025-07-26/
LOCATION:Knightly’s Bar
ATTACH;FMTTYPE=image/png:https://www.knightlysfunpark.co.uk/wp-content/uploads/2025/04/cash-bingo-at-Knightlys-Bar.png
END:VEVENT
BEGIN:VEVENT
DTSTART;TZID=Europe/London:20250726T150000
DTEND;TZID=Europe/London:20250726T154500
DTSTAMP:20260424T110218
CREATED:20250725T171847Z
LAST-MODIFIED:20250908T105251Z
UID:10005325-1753542000-1753544700@www.knightlysfunpark.co.uk
SUMMARY:Party dances with Stitch
DESCRIPTION:Lets have some fun with Stitch! Join us for disco dancing to all your favourite songs!
URL:https://www.knightlysfunpark.co.uk/event/party-dances-with-stitch-2/2025-07-26/
LOCATION:Knightly’s Fun Park
CATEGORIES:Family Friendly
ATTACH;FMTTYPE=image/png:https://www.knightlysfunpark.co.uk/wp-content/uploads/2025/04/Party-Dances-with-Stitch-at-Knightlys-Fun-Park.png
END:VEVENT
BEGIN:VEVENT
DTSTART;TZID=Europe/London:20250726T203000
DTEND;TZID=Europe/London:20250726T233000
DTSTAMP:20260424T110218
CREATED:20250121T130636Z
LAST-MODIFIED:20260119T102732Z
UID:10004387-1753561800-1753572600@www.knightlysfunpark.co.uk
SUMMARY:Alfie Benson
DESCRIPTION:One of the UK’s top soul singers\, Alfie Benson will be with us at Knightly’s Bar! Join us form 8:30 PM for your chance to win big in our first cash bingo game of the evening.
URL:https://www.knightlysfunpark.co.uk/event/alfie-benson/2025-07-26/
LOCATION:Knightly’s Bar
CATEGORIES:Evening Entertainment
ATTACH;FMTTYPE=image/png:https://www.knightlysfunpark.co.uk/wp-content/uploads/2025/01/Alfie-Benson-at-Knightlys-Bar.png
END:VEVENT
BEGIN:VEVENT
DTSTART;TZID=Europe/London:20250726T210000
DTEND;TZID=Europe/London:20250726T233000
DTSTAMP:20260424T110218
CREATED:20250113T140036Z
LAST-MODIFIED:20260414T081337Z
UID:10003543-1753563600-1753572600@www.knightlysfunpark.co.uk
SUMMARY:MAVMAC
DESCRIPTION:MAVMAC is a highly energetic duo\, playing cover songs and mashups across all genres. This band have the ‘party-starting formula’ down to a tee and know how to bring the house down!
URL:https://www.knightlysfunpark.co.uk/event/mavmac/2025-07-26/
LOCATION:Knightly’s Sandy Bay Entertainment Centre
CATEGORIES:Evening Entertainment,Family Friendly
ATTACH;FMTTYPE=image/png:https://www.knightlysfunpark.co.uk/wp-content/uploads/2025/01/MAVMAC-at-Knightlys-Sandy-Bay.png
END:VEVENT
BEGIN:VEVENT
DTSTART;TZID=Europe/London:20250727T100000
DTEND;TZID=Europe/London:20250727T110000
DTSTAMP:20260424T110218
CREATED:20250715T174120Z
LAST-MODIFIED:20250723T122148Z
UID:10005134-1753610400-1753614000@www.knightlysfunpark.co.uk
SUMMARY:Character Breakfast
DESCRIPTION:Looking for a magical morning treat for the kids this summer? Join us every Wednesday and Sunday from 10–11 AM throughout the summer holidays for our Character Breakfast – the perfect way to meet your favourite characters without the crowds! 🌈✨ \n👧 Just £5 per child includes:\n🥞 A yummy pancake breakfast with Nutella & fruit🥤 A drink📸 One-on-one time with characters🎲 Fun\, games & dancing📷 Photo opportunities galore! \n🌟 Wednesdays: Meet Bluey and a member of Paw Patrol🌟 Sundays: Meet Stitch and a member of Paw Patrol \nAdults can relax and enjoy the morning too\, with breakfast baps and hot drinks available to purchase. ☕🥓 \n🎟️ Only 20 spaces per session! We’re keeping it small so your little ones get quality time with the characters – no rushing\, no crowds\, just fun! \n📅 Pre-booking is essential
URL:https://www.knightlysfunpark.co.uk/event/character-breakfast-2/
LOCATION:Knightly’s Sandy Bay Entertainment Centre
CATEGORIES:Family Friendly
ATTACH;FMTTYPE=image/png:https://www.knightlysfunpark.co.uk/wp-content/uploads/2025/07/3-e1752598466963.png
END:VEVENT
BEGIN:VEVENT
DTSTART;TZID=Europe/London:20250727T130000
DTEND;TZID=Europe/London:20250727T134500
DTSTAMP:20260424T110218
CREATED:20250516T101921Z
LAST-MODIFIED:20251003T103535Z
UID:10004934-1753621200-1753623900@www.knightlysfunpark.co.uk
SUMMARY:Meet Paw Patrol
DESCRIPTION:Give your favourite Paw Patrol pups a big hug and a high five at Knightly’s! Find them strolling around the fairground and outside Knightly’s Bar.
URL:https://www.knightlysfunpark.co.uk/event/meet-paw-patrol-2/2025-07-27/
LOCATION:Knightly’s Fun Park
CATEGORIES:Family Friendly
ATTACH;FMTTYPE=image/jpeg:https://www.knightlysfunpark.co.uk/wp-content/uploads/2024/04/363379669_664953298998537_2372833678835023986_n-e1713363429737.jpg
END:VEVENT
BEGIN:VEVENT
DTSTART;TZID=Europe/London:20250727T140000
DTEND;TZID=Europe/London:20250727T150000
DTSTAMP:20260424T110218
CREATED:20250401T141535Z
LAST-MODIFIED:20260416T095159Z
UID:10006316-1753624800-1753628400@www.knightlysfunpark.co.uk
SUMMARY:Cash Bingo
DESCRIPTION:Join us for a game of cash bingo! Win huge cash prizes for a line or full house. Play out in the garden or inside Knightly’s Bar.
URL:https://www.knightlysfunpark.co.uk/event/cash-bingo/2025-07-27/
LOCATION:Knightly’s Bar
ATTACH;FMTTYPE=image/png:https://www.knightlysfunpark.co.uk/wp-content/uploads/2025/04/cash-bingo-at-Knightlys-Bar.png
END:VEVENT
BEGIN:VEVENT
DTSTART;TZID=Europe/London:20250727T140000
DTEND;TZID=Europe/London:20250727T170000
DTSTAMP:20260424T110218
CREATED:20250723T141420Z
LAST-MODIFIED:20250723T141420Z
UID:10005247-1753624800-1753635600@www.knightlysfunpark.co.uk
SUMMARY:Family Fun Time
DESCRIPTION:Join us at Knightly’s Sandy Bay for fun & games\, arts & crafts\, bingo & karaoke! \nFree entry and everyone is welcome!
URL:https://www.knightlysfunpark.co.uk/event/family-fun-time/2025-07-27/
LOCATION:Knightly’s Sandy Bay Entertainment Centre
CATEGORIES:Family Friendly
ATTACH;FMTTYPE=image/png:https://www.knightlysfunpark.co.uk/wp-content/uploads/2025/07/Family-fun-time-at-Knightlys.png
END:VEVENT
BEGIN:VEVENT
DTSTART;TZID=Europe/London:20250727T150000
DTEND;TZID=Europe/London:20250727T154500
DTSTAMP:20260424T110218
CREATED:20250516T103344Z
LAST-MODIFIED:20250907T081102Z
UID:10005003-1753628400-1753631100@www.knightlysfunpark.co.uk
SUMMARY:Party Dances with Our Characters
DESCRIPTION:Join us by the stage on the fairground for disco dancing to all your favourite songs with one of our characters!
URL:https://www.knightlysfunpark.co.uk/event/party-dances-with-mascot/2025-07-27/
LOCATION:Knightly’s Fun Park
CATEGORIES:Family Friendly
ATTACH;FMTTYPE=image/png:https://www.knightlysfunpark.co.uk/wp-content/uploads/2024/05/Bluey-Dancy-Party-e1716286014635.png
END:VEVENT
BEGIN:VEVENT
DTSTART;TZID=Europe/London:20250727T150000
DTEND;TZID=Europe/London:20250727T170000
DTSTAMP:20260424T110218
CREATED:20250612T125117Z
LAST-MODIFIED:20260326T113943Z
UID:10004928-1753628400-1753635600@www.knightlysfunpark.co.uk
SUMMARY:Tommy Barron
DESCRIPTION:Tommy Barron is a fantastic performer and entertainer\, singing all styles and genres of music and always gets the crowd ready to party!
URL:https://www.knightlysfunpark.co.uk/event/tommy-barron-2/2025-07-27/
LOCATION:Knightly’s Bar
CATEGORIES:Family Friendly
ATTACH;FMTTYPE=image/png:https://www.knightlysfunpark.co.uk/wp-content/uploads/2025/06/Tommy-Barron-at-Knightlys-Bar.png
END:VEVENT
BEGIN:VEVENT
DTSTART;TZID=Europe/London:20250727T203000
DTEND;TZID=Europe/London:20250727T233000
DTSTAMP:20260424T110218
CREATED:20250612T124251Z
LAST-MODIFIED:20260420T100507Z
UID:10004761-1753648200-1753659000@www.knightlysfunpark.co.uk
SUMMARY:Dean Morter
DESCRIPTION:A Rod Stewart tribute artist\, with an uncannily similar voice to the man himself\, Dean Morter needs to be heard to be believed!
URL:https://www.knightlysfunpark.co.uk/event/dean-morter/2025-07-27/
LOCATION:Knightly’s Bar
ATTACH;FMTTYPE=image/png:https://www.knightlysfunpark.co.uk/wp-content/uploads/2025/06/Dean-Morter-at-Knightlys-Bar.png
END:VEVENT
BEGIN:VEVENT
DTSTART;TZID=Europe/London:20250728T140000
DTEND;TZID=Europe/London:20250728T150000
DTSTAMP:20260424T110218
CREATED:20250401T141535Z
LAST-MODIFIED:20260416T095159Z
UID:10006317-1753711200-1753714800@www.knightlysfunpark.co.uk
SUMMARY:Cash Bingo
DESCRIPTION:Join us for a game of cash bingo! Win huge cash prizes for a line or full house. Play out in the garden or inside Knightly’s Bar.
URL:https://www.knightlysfunpark.co.uk/event/cash-bingo/2025-07-28/
LOCATION:Knightly’s Bar
ATTACH;FMTTYPE=image/png:https://www.knightlysfunpark.co.uk/wp-content/uploads/2025/04/cash-bingo-at-Knightlys-Bar.png
END:VEVENT
BEGIN:VEVENT
DTSTART;TZID=Europe/London:20250728T140000
DTEND;TZID=Europe/London:20250728T170000
DTSTAMP:20260424T110218
CREATED:20250723T141420Z
LAST-MODIFIED:20250723T141420Z
UID:10005248-1753711200-1753722000@www.knightlysfunpark.co.uk
SUMMARY:Family Fun Time
DESCRIPTION:Join us at Knightly’s Sandy Bay for fun & games\, arts & crafts\, bingo & karaoke! \nFree entry and everyone is welcome!
URL:https://www.knightlysfunpark.co.uk/event/family-fun-time/2025-07-28/
LOCATION:Knightly’s Sandy Bay Entertainment Centre
CATEGORIES:Family Friendly
ATTACH;FMTTYPE=image/png:https://www.knightlysfunpark.co.uk/wp-content/uploads/2025/07/Family-fun-time-at-Knightlys.png
END:VEVENT
BEGIN:VEVENT
DTSTART;TZID=Europe/London:20250728T150000
DTEND;TZID=Europe/London:20250728T154500
DTSTAMP:20260424T110218
CREATED:20250401T133341Z
LAST-MODIFIED:20250930T124057Z
UID:10004941-1753714800-1753717500@www.knightlysfunpark.co.uk
SUMMARY:Party Dances with Paw Patrol
DESCRIPTION:Join Paw Patrol as we party to all your favourite disco dancing hits!
URL:https://www.knightlysfunpark.co.uk/event/family-party-dances-with-paw-patrol/2025-07-28/
LOCATION:Knightly’s Bar
CATEGORIES:Family Friendly
ATTACH;FMTTYPE=image/png:https://www.knightlysfunpark.co.uk/wp-content/uploads/2025/04/paw-patrol-meet-and-greet.png
END:VEVENT
BEGIN:VEVENT
DTSTART;TZID=Europe/London:20250728T190000
DTEND;TZID=Europe/London:20250728T210000
DTSTAMP:20260424T110218
CREATED:20250710T120755Z
LAST-MODIFIED:20260317T113953Z
UID:10004898-1753729200-1753736400@www.knightlysfunpark.co.uk
SUMMARY:Crazy Claire Kids Party
DESCRIPTION:Join us in the Outdoor Arena at Knightly’s Bar for loads of fun and games with Crazy Claire! \n\n Game Show \n Kids Talent Show – Towyn’s next superstar could be YOU!\n Win Prizes\n Crazy BIG giveaways playing In It to Win It!\n Brand NEW party dances\n Creative Arts & Crafts sessions
URL:https://www.knightlysfunpark.co.uk/event/crazy-claire-kids-party/2025-07-28/
LOCATION:Knightly’s Bar
CATEGORIES:Family Friendly
ATTACH;FMTTYPE=image/png:https://www.knightlysfunpark.co.uk/wp-content/uploads/2025/07/Crazy-Claire-at-Knightlys-Bar.png
END:VEVENT
BEGIN:VEVENT
DTSTART;TZID=Europe/London:20250728T203000
DTEND;TZID=Europe/London:20250728T233000
DTSTAMP:20260424T110218
CREATED:20250122T130503Z
LAST-MODIFIED:20250725T114648Z
UID:10004234-1753734600-1753745400@www.knightlysfunpark.co.uk
SUMMARY:Caz McElroy
DESCRIPTION:A fantastic entertainer with an amazing voice\, you’re in for a great night with Caz McElroy at Knightly’s Bar. Join us from 8:30 PM for cash bingo.
URL:https://www.knightlysfunpark.co.uk/event/caz-mcelroy-2/2025-07-28/
LOCATION:Knightly’s Bar
CATEGORIES:Evening Entertainment,Family Friendly
ATTACH;FMTTYPE=image/png:https://www.knightlysfunpark.co.uk/wp-content/uploads/2025/01/caz-mcelroy-kb.png
END:VEVENT
BEGIN:VEVENT
DTSTART;TZID=Europe/London:20250728T210000
DTEND;TZID=Europe/London:20250728T233000
DTSTAMP:20260424T110218
CREATED:20250727T130355Z
LAST-MODIFIED:20250930T124649Z
UID:10005342-1753736400-1753745400@www.knightlysfunpark.co.uk
SUMMARY:Family Gameshow
DESCRIPTION:Bring the whole family along for fun\, games and competitions – prizes up for grabs!
URL:https://www.knightlysfunpark.co.uk/event/family-gameshow/2025-07-28/
LOCATION:Knightly’s Sandy Bay Entertainment Centre
CATEGORIES:Evening Entertainment,Family Friendly
ATTACH;FMTTYPE=image/png:https://www.knightlysfunpark.co.uk/wp-content/uploads/2025/07/Family-game-show-at-Knightlys.png
END:VEVENT
BEGIN:VEVENT
DTSTART;TZID=Europe/London:20250729T130000
DTEND;TZID=Europe/London:20250729T140000
DTSTAMP:20260424T110218
CREATED:20250710T161314Z
LAST-MODIFIED:20251003T104624Z
UID:10004548-1753794000-1753797600@www.knightlysfunpark.co.uk
SUMMARY:Meet Stitch
DESCRIPTION:Meet your favourite\, friendly alien\, Stitch at Knightly’s Fun Park! Snap a photo and give him a high-five as he visits the fairground and Knightly’s Bar!
URL:https://www.knightlysfunpark.co.uk/event/meet-stitch-3-2/2025-07-29/
LOCATION:Knightly’s Fun Park
CATEGORIES:Family Friendly
ATTACH;FMTTYPE=image/png:https://www.knightlysfunpark.co.uk/wp-content/uploads/2025/04/Stitch-at-Knightlys-Fun-Park.png
END:VEVENT
END:VCALENDAR