BEGIN:VCALENDAR
VERSION:2.0
PRODID:-//Knightly&#039;s Fun Park Towyn - ECPv6.15.17//NONSGML v1.0//EN
CALSCALE:GREGORIAN
METHOD:PUBLISH
X-WR-CALNAME:Knightly&#039;s Fun Park Towyn
X-ORIGINAL-URL:https://www.knightlysfunpark.co.uk
X-WR-CALDESC:Events for Knightly&#039;s Fun Park Towyn
REFRESH-INTERVAL;VALUE=DURATION:PT1H
X-Robots-Tag:noindex
X-PUBLISHED-TTL:PT1H
BEGIN:VTIMEZONE
TZID:Europe/London
BEGIN:DAYLIGHT
TZOFFSETFROM:+0000
TZOFFSETTO:+0100
TZNAME:BST
DTSTART:20250330T010000
END:DAYLIGHT
BEGIN:STANDARD
TZOFFSETFROM:+0100
TZOFFSETTO:+0000
TZNAME:GMT
DTSTART:20251026T010000
END:STANDARD
BEGIN:DAYLIGHT
TZOFFSETFROM:+0000
TZOFFSETTO:+0100
TZNAME:BST
DTSTART:20260329T010000
END:DAYLIGHT
BEGIN:STANDARD
TZOFFSETFROM:+0100
TZOFFSETTO:+0000
TZNAME:GMT
DTSTART:20261025T010000
END:STANDARD
BEGIN:DAYLIGHT
TZOFFSETFROM:+0000
TZOFFSETTO:+0100
TZNAME:BST
DTSTART:20270328T010000
END:DAYLIGHT
BEGIN:STANDARD
TZOFFSETFROM:+0100
TZOFFSETTO:+0000
TZNAME:GMT
DTSTART:20271031T010000
END:STANDARD
END:VTIMEZONE
BEGIN:VEVENT
DTSTART;TZID=Europe/London:20260704T140000
DTEND;TZID=Europe/London:20260704T150000
DTSTAMP:20260424T115800
CREATED:20250401T141535Z
LAST-MODIFIED:20260416T095159Z
UID:10006658-1783173600-1783177200@www.knightlysfunpark.co.uk
SUMMARY:Cash Bingo
DESCRIPTION:Join us for a game of cash bingo! Win huge cash prizes for a line or full house. Play out in the garden or inside Knightly’s Bar.
URL:https://www.knightlysfunpark.co.uk/event/cash-bingo/2026-07-04/
LOCATION:Knightly’s Bar
ATTACH;FMTTYPE=image/png:https://www.knightlysfunpark.co.uk/wp-content/uploads/2025/04/cash-bingo-at-Knightlys-Bar.png
END:VEVENT
BEGIN:VEVENT
DTSTART;TZID=Europe/London:20260704T210000
DTEND;TZID=Europe/London:20260704T230000
DTSTAMP:20260424T115800
CREATED:20260119T111627Z
LAST-MODIFIED:20260119T111627Z
UID:10005688-1783198800-1783206000@www.knightlysfunpark.co.uk
SUMMARY:Kennie J is Elvis
DESCRIPTION:Kennie’s uncanny similarity to that of Elvis\, enables him to deliver a fantastic tribute show which encompasses all of the great classic Elvis tracks from the early 1950′s to Elvis’s final songs.
URL:https://www.knightlysfunpark.co.uk/event/kennie-j-is-elvis/
LOCATION:Knightly’s Bar
CATEGORIES:Evening Entertainment
ATTACH;FMTTYPE=image/png:https://www.knightlysfunpark.co.uk/wp-content/uploads/2026/01/Kennie-Js-Elvis-at-Knightlys-Bar.png
END:VEVENT
BEGIN:VEVENT
DTSTART;TZID=Europe/London:20260705T140000
DTEND;TZID=Europe/London:20260705T150000
DTSTAMP:20260424T115800
CREATED:20250401T141535Z
LAST-MODIFIED:20260416T095159Z
UID:10006659-1783260000-1783263600@www.knightlysfunpark.co.uk
SUMMARY:Cash Bingo
DESCRIPTION:Join us for a game of cash bingo! Win huge cash prizes for a line or full house. Play out in the garden or inside Knightly’s Bar.
URL:https://www.knightlysfunpark.co.uk/event/cash-bingo/2026-07-05/
LOCATION:Knightly’s Bar
ATTACH;FMTTYPE=image/png:https://www.knightlysfunpark.co.uk/wp-content/uploads/2025/04/cash-bingo-at-Knightlys-Bar.png
END:VEVENT
BEGIN:VEVENT
DTSTART;TZID=Europe/London:20260706T140000
DTEND;TZID=Europe/London:20260706T150000
DTSTAMP:20260424T115800
CREATED:20250401T141535Z
LAST-MODIFIED:20260416T095159Z
UID:10006660-1783346400-1783350000@www.knightlysfunpark.co.uk
SUMMARY:Cash Bingo
DESCRIPTION:Join us for a game of cash bingo! Win huge cash prizes for a line or full house. Play out in the garden or inside Knightly’s Bar.
URL:https://www.knightlysfunpark.co.uk/event/cash-bingo/2026-07-06/
LOCATION:Knightly’s Bar
ATTACH;FMTTYPE=image/png:https://www.knightlysfunpark.co.uk/wp-content/uploads/2025/04/cash-bingo-at-Knightlys-Bar.png
END:VEVENT
BEGIN:VEVENT
DTSTART;TZID=Europe/London:20260707T140000
DTEND;TZID=Europe/London:20260707T150000
DTSTAMP:20260424T115800
CREATED:20250401T141535Z
LAST-MODIFIED:20260416T095159Z
UID:10006661-1783432800-1783436400@www.knightlysfunpark.co.uk
SUMMARY:Cash Bingo
DESCRIPTION:Join us for a game of cash bingo! Win huge cash prizes for a line or full house. Play out in the garden or inside Knightly’s Bar.
URL:https://www.knightlysfunpark.co.uk/event/cash-bingo/2026-07-07/
LOCATION:Knightly’s Bar
ATTACH;FMTTYPE=image/png:https://www.knightlysfunpark.co.uk/wp-content/uploads/2025/04/cash-bingo-at-Knightlys-Bar.png
END:VEVENT
BEGIN:VEVENT
DTSTART;TZID=Europe/London:20260708T140000
DTEND;TZID=Europe/London:20260708T150000
DTSTAMP:20260424T115800
CREATED:20250401T141535Z
LAST-MODIFIED:20260416T095159Z
UID:10006662-1783519200-1783522800@www.knightlysfunpark.co.uk
SUMMARY:Cash Bingo
DESCRIPTION:Join us for a game of cash bingo! Win huge cash prizes for a line or full house. Play out in the garden or inside Knightly’s Bar.
URL:https://www.knightlysfunpark.co.uk/event/cash-bingo/2026-07-08/
LOCATION:Knightly’s Bar
ATTACH;FMTTYPE=image/png:https://www.knightlysfunpark.co.uk/wp-content/uploads/2025/04/cash-bingo-at-Knightlys-Bar.png
END:VEVENT
BEGIN:VEVENT
DTSTART;TZID=Europe/London:20260709T140000
DTEND;TZID=Europe/London:20260709T150000
DTSTAMP:20260424T115800
CREATED:20250401T141535Z
LAST-MODIFIED:20260416T095159Z
UID:10006663-1783605600-1783609200@www.knightlysfunpark.co.uk
SUMMARY:Cash Bingo
DESCRIPTION:Join us for a game of cash bingo! Win huge cash prizes for a line or full house. Play out in the garden or inside Knightly’s Bar.
URL:https://www.knightlysfunpark.co.uk/event/cash-bingo/2026-07-09/
LOCATION:Knightly’s Bar
ATTACH;FMTTYPE=image/png:https://www.knightlysfunpark.co.uk/wp-content/uploads/2025/04/cash-bingo-at-Knightlys-Bar.png
END:VEVENT
BEGIN:VEVENT
DTSTART;TZID=Europe/London:20260710T140000
DTEND;TZID=Europe/London:20260710T150000
DTSTAMP:20260424T115800
CREATED:20250401T141535Z
LAST-MODIFIED:20260416T095159Z
UID:10006664-1783692000-1783695600@www.knightlysfunpark.co.uk
SUMMARY:Cash Bingo
DESCRIPTION:Join us for a game of cash bingo! Win huge cash prizes for a line or full house. Play out in the garden or inside Knightly’s Bar.
URL:https://www.knightlysfunpark.co.uk/event/cash-bingo/2026-07-10/
LOCATION:Knightly’s Bar
ATTACH;FMTTYPE=image/png:https://www.knightlysfunpark.co.uk/wp-content/uploads/2025/04/cash-bingo-at-Knightlys-Bar.png
END:VEVENT
BEGIN:VEVENT
DTSTART;TZID=Europe/London:20260711T140000
DTEND;TZID=Europe/London:20260711T150000
DTSTAMP:20260424T115800
CREATED:20250401T141535Z
LAST-MODIFIED:20260416T095159Z
UID:10006665-1783778400-1783782000@www.knightlysfunpark.co.uk
SUMMARY:Cash Bingo
DESCRIPTION:Join us for a game of cash bingo! Win huge cash prizes for a line or full house. Play out in the garden or inside Knightly’s Bar.
URL:https://www.knightlysfunpark.co.uk/event/cash-bingo/2026-07-11/
LOCATION:Knightly’s Bar
ATTACH;FMTTYPE=image/png:https://www.knightlysfunpark.co.uk/wp-content/uploads/2025/04/cash-bingo-at-Knightlys-Bar.png
END:VEVENT
BEGIN:VEVENT
DTSTART;TZID=Europe/London:20260712T140000
DTEND;TZID=Europe/London:20260712T150000
DTSTAMP:20260424T115800
CREATED:20250401T141535Z
LAST-MODIFIED:20260416T095159Z
UID:10006666-1783864800-1783868400@www.knightlysfunpark.co.uk
SUMMARY:Cash Bingo
DESCRIPTION:Join us for a game of cash bingo! Win huge cash prizes for a line or full house. Play out in the garden or inside Knightly’s Bar.
URL:https://www.knightlysfunpark.co.uk/event/cash-bingo/2026-07-12/
LOCATION:Knightly’s Bar
ATTACH;FMTTYPE=image/png:https://www.knightlysfunpark.co.uk/wp-content/uploads/2025/04/cash-bingo-at-Knightlys-Bar.png
END:VEVENT
BEGIN:VEVENT
DTSTART;TZID=Europe/London:20260713T140000
DTEND;TZID=Europe/London:20260713T150000
DTSTAMP:20260424T115800
CREATED:20250401T141535Z
LAST-MODIFIED:20260416T095159Z
UID:10006667-1783951200-1783954800@www.knightlysfunpark.co.uk
SUMMARY:Cash Bingo
DESCRIPTION:Join us for a game of cash bingo! Win huge cash prizes for a line or full house. Play out in the garden or inside Knightly’s Bar.
URL:https://www.knightlysfunpark.co.uk/event/cash-bingo/2026-07-13/
LOCATION:Knightly’s Bar
ATTACH;FMTTYPE=image/png:https://www.knightlysfunpark.co.uk/wp-content/uploads/2025/04/cash-bingo-at-Knightlys-Bar.png
END:VEVENT
BEGIN:VEVENT
DTSTART;TZID=Europe/London:20260714T140000
DTEND;TZID=Europe/London:20260714T150000
DTSTAMP:20260424T115800
CREATED:20250401T141535Z
LAST-MODIFIED:20260416T095159Z
UID:10006668-1784037600-1784041200@www.knightlysfunpark.co.uk
SUMMARY:Cash Bingo
DESCRIPTION:Join us for a game of cash bingo! Win huge cash prizes for a line or full house. Play out in the garden or inside Knightly’s Bar.
URL:https://www.knightlysfunpark.co.uk/event/cash-bingo/2026-07-14/
LOCATION:Knightly’s Bar
ATTACH;FMTTYPE=image/png:https://www.knightlysfunpark.co.uk/wp-content/uploads/2025/04/cash-bingo-at-Knightlys-Bar.png
END:VEVENT
BEGIN:VEVENT
DTSTART;TZID=Europe/London:20260715T140000
DTEND;TZID=Europe/London:20260715T150000
DTSTAMP:20260424T115800
CREATED:20250401T141535Z
LAST-MODIFIED:20260416T095159Z
UID:10006669-1784124000-1784127600@www.knightlysfunpark.co.uk
SUMMARY:Cash Bingo
DESCRIPTION:Join us for a game of cash bingo! Win huge cash prizes for a line or full house. Play out in the garden or inside Knightly’s Bar.
URL:https://www.knightlysfunpark.co.uk/event/cash-bingo/2026-07-15/
LOCATION:Knightly’s Bar
ATTACH;FMTTYPE=image/png:https://www.knightlysfunpark.co.uk/wp-content/uploads/2025/04/cash-bingo-at-Knightlys-Bar.png
END:VEVENT
BEGIN:VEVENT
DTSTART;TZID=Europe/London:20260716T140000
DTEND;TZID=Europe/London:20260716T150000
DTSTAMP:20260424T115800
CREATED:20250401T141535Z
LAST-MODIFIED:20260416T095159Z
UID:10006670-1784210400-1784214000@www.knightlysfunpark.co.uk
SUMMARY:Cash Bingo
DESCRIPTION:Join us for a game of cash bingo! Win huge cash prizes for a line or full house. Play out in the garden or inside Knightly’s Bar.
URL:https://www.knightlysfunpark.co.uk/event/cash-bingo/2026-07-16/
LOCATION:Knightly’s Bar
ATTACH;FMTTYPE=image/png:https://www.knightlysfunpark.co.uk/wp-content/uploads/2025/04/cash-bingo-at-Knightlys-Bar.png
END:VEVENT
BEGIN:VEVENT
DTSTART;TZID=Europe/London:20260717T140000
DTEND;TZID=Europe/London:20260717T150000
DTSTAMP:20260424T115800
CREATED:20250401T141535Z
LAST-MODIFIED:20260416T095159Z
UID:10006671-1784296800-1784300400@www.knightlysfunpark.co.uk
SUMMARY:Cash Bingo
DESCRIPTION:Join us for a game of cash bingo! Win huge cash prizes for a line or full house. Play out in the garden or inside Knightly’s Bar.
URL:https://www.knightlysfunpark.co.uk/event/cash-bingo/2026-07-17/
LOCATION:Knightly’s Bar
ATTACH;FMTTYPE=image/png:https://www.knightlysfunpark.co.uk/wp-content/uploads/2025/04/cash-bingo-at-Knightlys-Bar.png
END:VEVENT
BEGIN:VEVENT
DTSTART;TZID=Europe/London:20260718T140000
DTEND;TZID=Europe/London:20260718T150000
DTSTAMP:20260424T115800
CREATED:20250401T141535Z
LAST-MODIFIED:20260416T095159Z
UID:10006672-1784383200-1784386800@www.knightlysfunpark.co.uk
SUMMARY:Cash Bingo
DESCRIPTION:Join us for a game of cash bingo! Win huge cash prizes for a line or full house. Play out in the garden or inside Knightly’s Bar.
URL:https://www.knightlysfunpark.co.uk/event/cash-bingo/2026-07-18/
LOCATION:Knightly’s Bar
ATTACH;FMTTYPE=image/png:https://www.knightlysfunpark.co.uk/wp-content/uploads/2025/04/cash-bingo-at-Knightlys-Bar.png
END:VEVENT
BEGIN:VEVENT
DTSTART;TZID=Europe/London:20260718T150000
DTEND;TZID=Europe/London:20260718T170000
DTSTAMP:20260424T115800
CREATED:20250401T135152Z
LAST-MODIFIED:20260317T115118Z
UID:10005786-1784386800-1784394000@www.knightlysfunpark.co.uk
SUMMARY:Crazy Claire Party
DESCRIPTION:Join Crazy Claire at Knightly’s Sandy bay for a brilliant kids party full of fun and games! Free entry and all welcome. \n Game Show \n Kids Talent Show – Towyn’s next superstar could be YOU!\n Win Prizes\n Crazy BIG giveaways playing In It to Win It!\n Brand NEW party dances\n Creative Arts & Crafts sessions
URL:https://www.knightlysfunpark.co.uk/event/crazy-claire-party/2026-07-18/
LOCATION:Knightly’s Sandy Bay Entertainment Centre
CATEGORIES:Family Friendly
ATTACH;FMTTYPE=image/png:https://www.knightlysfunpark.co.uk/wp-content/uploads/2025/07/Crazy-Claire-at-Sandy-Bay-1.png
END:VEVENT
BEGIN:VEVENT
DTSTART;TZID=Europe/London:20260719T140000
DTEND;TZID=Europe/London:20260719T150000
DTSTAMP:20260424T115800
CREATED:20250401T141535Z
LAST-MODIFIED:20260416T095159Z
UID:10006673-1784469600-1784473200@www.knightlysfunpark.co.uk
SUMMARY:Cash Bingo
DESCRIPTION:Join us for a game of cash bingo! Win huge cash prizes for a line or full house. Play out in the garden or inside Knightly’s Bar.
URL:https://www.knightlysfunpark.co.uk/event/cash-bingo/2026-07-19/
LOCATION:Knightly’s Bar
ATTACH;FMTTYPE=image/png:https://www.knightlysfunpark.co.uk/wp-content/uploads/2025/04/cash-bingo-at-Knightlys-Bar.png
END:VEVENT
BEGIN:VEVENT
DTSTART;TZID=Europe/London:20260720T140000
DTEND;TZID=Europe/London:20260720T150000
DTSTAMP:20260424T115800
CREATED:20250401T141535Z
LAST-MODIFIED:20260416T095159Z
UID:10006674-1784556000-1784559600@www.knightlysfunpark.co.uk
SUMMARY:Cash Bingo
DESCRIPTION:Join us for a game of cash bingo! Win huge cash prizes for a line or full house. Play out in the garden or inside Knightly’s Bar.
URL:https://www.knightlysfunpark.co.uk/event/cash-bingo/2026-07-20/
LOCATION:Knightly’s Bar
ATTACH;FMTTYPE=image/png:https://www.knightlysfunpark.co.uk/wp-content/uploads/2025/04/cash-bingo-at-Knightlys-Bar.png
END:VEVENT
BEGIN:VEVENT
DTSTART;TZID=Europe/London:20260720T190000
DTEND;TZID=Europe/London:20260720T210000
DTSTAMP:20260424T115800
CREATED:20250710T120755Z
LAST-MODIFIED:20260317T113953Z
UID:10005766-1784574000-1784581200@www.knightlysfunpark.co.uk
SUMMARY:Crazy Claire Kids Party
DESCRIPTION:Join us in the Outdoor Arena at Knightly’s Bar for loads of fun and games with Crazy Claire! \n\n Game Show \n Kids Talent Show – Towyn’s next superstar could be YOU!\n Win Prizes\n Crazy BIG giveaways playing In It to Win It!\n Brand NEW party dances\n Creative Arts & Crafts sessions
URL:https://www.knightlysfunpark.co.uk/event/crazy-claire-kids-party/2026-07-20/
LOCATION:Knightly’s Bar
CATEGORIES:Family Friendly
ATTACH;FMTTYPE=image/png:https://www.knightlysfunpark.co.uk/wp-content/uploads/2025/07/Crazy-Claire-at-Knightlys-Bar.png
END:VEVENT
BEGIN:VEVENT
DTSTART;TZID=Europe/London:20260721T140000
DTEND;TZID=Europe/London:20260721T150000
DTSTAMP:20260424T115800
CREATED:20250401T141535Z
LAST-MODIFIED:20260416T095159Z
UID:10006675-1784642400-1784646000@www.knightlysfunpark.co.uk
SUMMARY:Cash Bingo
DESCRIPTION:Join us for a game of cash bingo! Win huge cash prizes for a line or full house. Play out in the garden or inside Knightly’s Bar.
URL:https://www.knightlysfunpark.co.uk/event/cash-bingo/2026-07-21/
LOCATION:Knightly’s Bar
ATTACH;FMTTYPE=image/png:https://www.knightlysfunpark.co.uk/wp-content/uploads/2025/04/cash-bingo-at-Knightlys-Bar.png
END:VEVENT
BEGIN:VEVENT
DTSTART;TZID=Europe/London:20260721T170000
DTEND;TZID=Europe/London:20260721T180000
DTSTAMP:20260424T115800
CREATED:20250414T165347Z
LAST-MODIFIED:20260310T140545Z
UID:10005727-1784653200-1784656800@www.knightlysfunpark.co.uk
SUMMARY:Scaly Safari Show
DESCRIPTION:Get up close with lots of creepy crawlies and reptiles with Scaly Safari at Knightly’s Sandy Bay! 🐛🦎🕷 \nFree entry\, all welcome!
URL:https://www.knightlysfunpark.co.uk/event/scaly-safari-show/2026-07-21/
LOCATION:Knightly’s Sandy Bay Entertainment Centre
CATEGORIES:Family Friendly
ATTACH;FMTTYPE=image/png:https://www.knightlysfunpark.co.uk/wp-content/uploads/2025/04/20250414_175140_0000.png
END:VEVENT
BEGIN:VEVENT
DTSTART;TZID=Europe/London:20260722T140000
DTEND;TZID=Europe/London:20260722T150000
DTSTAMP:20260424T115800
CREATED:20250401T141535Z
LAST-MODIFIED:20260416T095159Z
UID:10006676-1784728800-1784732400@www.knightlysfunpark.co.uk
SUMMARY:Cash Bingo
DESCRIPTION:Join us for a game of cash bingo! Win huge cash prizes for a line or full house. Play out in the garden or inside Knightly’s Bar.
URL:https://www.knightlysfunpark.co.uk/event/cash-bingo/2026-07-22/
LOCATION:Knightly’s Bar
ATTACH;FMTTYPE=image/png:https://www.knightlysfunpark.co.uk/wp-content/uploads/2025/04/cash-bingo-at-Knightlys-Bar.png
END:VEVENT
BEGIN:VEVENT
DTSTART;TZID=Europe/London:20260722T200000
DTEND;TZID=Europe/London:20260722T220000
DTSTAMP:20260424T115800
CREATED:20250401T135856Z
LAST-MODIFIED:20260330T124506Z
UID:10005798-1784750400-1784757600@www.knightlysfunpark.co.uk
SUMMARY:Wrestling Show
DESCRIPTION:Get ready for an electrifying showdown as Basix Pro Wrestling takes center stage at Knightly’s Fun Park! You’re in for a treat when you come to watch some of the UK’s most professional wrestlers who know how to deliver exceptional family entertainment. Don’t miss this epic display of athleticism and excitement! \n£3 per person. Gates open at 6 PM\, show starts at 8 PM.
URL:https://www.knightlysfunpark.co.uk/event/wrestling-show/2026-07-22/
LOCATION:Knightly’s Bar
CATEGORIES:Family Friendly
ATTACH;FMTTYPE=image/png:https://www.knightlysfunpark.co.uk/wp-content/uploads/2025/04/2026.png
END:VEVENT
BEGIN:VEVENT
DTSTART;TZID=Europe/London:20260723T140000
DTEND;TZID=Europe/London:20260723T150000
DTSTAMP:20260424T115800
CREATED:20250401T141535Z
LAST-MODIFIED:20260416T095159Z
UID:10006677-1784815200-1784818800@www.knightlysfunpark.co.uk
SUMMARY:Cash Bingo
DESCRIPTION:Join us for a game of cash bingo! Win huge cash prizes for a line or full house. Play out in the garden or inside Knightly’s Bar.
URL:https://www.knightlysfunpark.co.uk/event/cash-bingo/2026-07-23/
LOCATION:Knightly’s Bar
ATTACH;FMTTYPE=image/png:https://www.knightlysfunpark.co.uk/wp-content/uploads/2025/04/cash-bingo-at-Knightlys-Bar.png
END:VEVENT
BEGIN:VEVENT
DTSTART;TZID=Europe/London:20260723T140000
DTEND;TZID=Europe/London:20260723T150000
DTSTAMP:20260424T115800
CREATED:20250429T145225Z
LAST-MODIFIED:20260409T091115Z
UID:10005719-1784815200-1784818800@www.knightlysfunpark.co.uk
SUMMARY:Scaly Safari Show
DESCRIPTION:Get up close with lots of creepy crawlies and reptiles with Scaly Safari! Meet us on Knightly’s Fairground! 🐛🦎🕷 \nFree entry\, all welcome!
URL:https://www.knightlysfunpark.co.uk/event/scaly-safari-show-2/2026-07-23/
LOCATION:Knightly’s Fun Park
CATEGORIES:Family Friendly
ATTACH;FMTTYPE=image/png:https://www.knightlysfunpark.co.uk/wp-content/uploads/2025/04/20250414_175140_0000.png
END:VEVENT
BEGIN:VEVENT
DTSTART;TZID=Europe/London:20260723T190000
DTEND;TZID=Europe/London:20260723T210000
DTSTAMP:20260424T115800
CREATED:20250520T142640Z
LAST-MODIFIED:20260317T111410Z
UID:10005752-1784833200-1784840400@www.knightlysfunpark.co.uk
SUMMARY:Blippi
DESCRIPTION:Don’t miss your chance to meet Blippi at Knightly’s Fun Park! Blippi will be on-site to greet fans\, take photos\, and spread joy with his infectious energy. Find him at Knightly’s Bar\, on the fairground and in Knightly’s Sandy Bay.
URL:https://www.knightlysfunpark.co.uk/event/blippi/2026-07-23/
LOCATION:Knightly’s Fun Park
CATEGORIES:Family Friendly
ATTACH;FMTTYPE=image/png:https://www.knightlysfunpark.co.uk/wp-content/uploads/2025/01/blippi-kb.png
END:VEVENT
BEGIN:VEVENT
DTSTART;TZID=Europe/London:20260724T140000
DTEND;TZID=Europe/London:20260724T150000
DTSTAMP:20260424T115800
CREATED:20250401T141535Z
LAST-MODIFIED:20260416T095159Z
UID:10006678-1784901600-1784905200@www.knightlysfunpark.co.uk
SUMMARY:Cash Bingo
DESCRIPTION:Join us for a game of cash bingo! Win huge cash prizes for a line or full house. Play out in the garden or inside Knightly’s Bar.
URL:https://www.knightlysfunpark.co.uk/event/cash-bingo/2026-07-24/
LOCATION:Knightly’s Bar
ATTACH;FMTTYPE=image/png:https://www.knightlysfunpark.co.uk/wp-content/uploads/2025/04/cash-bingo-at-Knightlys-Bar.png
END:VEVENT
BEGIN:VEVENT
DTSTART;TZID=Europe/London:20260724T190000
DTEND;TZID=Europe/London:20260724T210000
DTSTAMP:20260424T115800
CREATED:20250710T120755Z
LAST-MODIFIED:20260317T113953Z
UID:10005767-1784919600-1784926800@www.knightlysfunpark.co.uk
SUMMARY:Crazy Claire Kids Party
DESCRIPTION:Join us in the Outdoor Arena at Knightly’s Bar for loads of fun and games with Crazy Claire! \n\n Game Show \n Kids Talent Show – Towyn’s next superstar could be YOU!\n Win Prizes\n Crazy BIG giveaways playing In It to Win It!\n Brand NEW party dances\n Creative Arts & Crafts sessions
URL:https://www.knightlysfunpark.co.uk/event/crazy-claire-kids-party/2026-07-24/
LOCATION:Knightly’s Bar
CATEGORIES:Family Friendly
ATTACH;FMTTYPE=image/png:https://www.knightlysfunpark.co.uk/wp-content/uploads/2025/07/Crazy-Claire-at-Knightlys-Bar.png
END:VEVENT
BEGIN:VEVENT
DTSTART;TZID=Europe/London:20260725T140000
DTEND;TZID=Europe/London:20260725T150000
DTSTAMP:20260424T115800
CREATED:20250401T141535Z
LAST-MODIFIED:20260416T095159Z
UID:10006679-1784988000-1784991600@www.knightlysfunpark.co.uk
SUMMARY:Cash Bingo
DESCRIPTION:Join us for a game of cash bingo! Win huge cash prizes for a line or full house. Play out in the garden or inside Knightly’s Bar.
URL:https://www.knightlysfunpark.co.uk/event/cash-bingo/2026-07-25/
LOCATION:Knightly’s Bar
ATTACH;FMTTYPE=image/png:https://www.knightlysfunpark.co.uk/wp-content/uploads/2025/04/cash-bingo-at-Knightlys-Bar.png
END:VEVENT
END:VCALENDAR