BEGIN:VCALENDAR
VERSION:2.0
PRODID:-//Knightly&#039;s Fun Park Towyn - ECPv6.15.17//NONSGML v1.0//EN
CALSCALE:GREGORIAN
METHOD:PUBLISH
X-WR-CALNAME:Knightly&#039;s Fun Park Towyn
X-ORIGINAL-URL:https://www.knightlysfunpark.co.uk
X-WR-CALDESC:Events for Knightly&#039;s Fun Park Towyn
REFRESH-INTERVAL;VALUE=DURATION:PT1H
X-Robots-Tag:noindex
X-PUBLISHED-TTL:PT1H
BEGIN:VTIMEZONE
TZID:Europe/London
BEGIN:DAYLIGHT
TZOFFSETFROM:+0000
TZOFFSETTO:+0100
TZNAME:BST
DTSTART:20250330T010000
END:DAYLIGHT
BEGIN:STANDARD
TZOFFSETFROM:+0100
TZOFFSETTO:+0000
TZNAME:GMT
DTSTART:20251026T010000
END:STANDARD
BEGIN:DAYLIGHT
TZOFFSETFROM:+0000
TZOFFSETTO:+0100
TZNAME:BST
DTSTART:20260329T010000
END:DAYLIGHT
BEGIN:STANDARD
TZOFFSETFROM:+0100
TZOFFSETTO:+0000
TZNAME:GMT
DTSTART:20261025T010000
END:STANDARD
BEGIN:DAYLIGHT
TZOFFSETFROM:+0000
TZOFFSETTO:+0100
TZNAME:BST
DTSTART:20270328T010000
END:DAYLIGHT
BEGIN:STANDARD
TZOFFSETFROM:+0100
TZOFFSETTO:+0000
TZNAME:GMT
DTSTART:20271031T010000
END:STANDARD
END:VTIMEZONE
BEGIN:VEVENT
DTSTART;TZID=Europe/London:20260523T140000
DTEND;TZID=Europe/London:20260523T150000
DTSTAMP:20260421T231432
CREATED:20250401T141535Z
LAST-MODIFIED:20260416T095159Z
UID:10006616-1779544800-1779548400@www.knightlysfunpark.co.uk
SUMMARY:Cash Bingo
DESCRIPTION:Join us for a game of cash bingo! Win huge cash prizes for a line or full house. Play out in the garden or inside Knightly’s Bar.
URL:https://www.knightlysfunpark.co.uk/event/cash-bingo/2026-05-23/
LOCATION:Knightly’s Bar
ATTACH;FMTTYPE=image/png:https://www.knightlysfunpark.co.uk/wp-content/uploads/2025/04/cash-bingo-at-Knightlys-Bar.png
END:VEVENT
BEGIN:VEVENT
DTSTART;TZID=Europe/London:20260523T150000
DTEND;TZID=Europe/London:20260523T170000
DTSTAMP:20260421T231432
CREATED:20250401T135152Z
LAST-MODIFIED:20260317T115118Z
UID:10005784-1779548400-1779555600@www.knightlysfunpark.co.uk
SUMMARY:Crazy Claire Party
DESCRIPTION:Join Crazy Claire at Knightly’s Sandy bay for a brilliant kids party full of fun and games! Free entry and all welcome. \n Game Show \n Kids Talent Show – Towyn’s next superstar could be YOU!\n Win Prizes\n Crazy BIG giveaways playing In It to Win It!\n Brand NEW party dances\n Creative Arts & Crafts sessions
URL:https://www.knightlysfunpark.co.uk/event/crazy-claire-party/2026-05-23/
LOCATION:Knightly’s Sandy Bay Entertainment Centre
CATEGORIES:Family Friendly
ATTACH;FMTTYPE=image/png:https://www.knightlysfunpark.co.uk/wp-content/uploads/2025/07/Crazy-Claire-at-Sandy-Bay-1.png
END:VEVENT
BEGIN:VEVENT
DTSTART;TZID=Europe/London:20260524T140000
DTEND;TZID=Europe/London:20260524T150000
DTSTAMP:20260421T231432
CREATED:20250401T141535Z
LAST-MODIFIED:20260416T095159Z
UID:10006617-1779631200-1779634800@www.knightlysfunpark.co.uk
SUMMARY:Cash Bingo
DESCRIPTION:Join us for a game of cash bingo! Win huge cash prizes for a line or full house. Play out in the garden or inside Knightly’s Bar.
URL:https://www.knightlysfunpark.co.uk/event/cash-bingo/2026-05-24/
LOCATION:Knightly’s Bar
ATTACH;FMTTYPE=image/png:https://www.knightlysfunpark.co.uk/wp-content/uploads/2025/04/cash-bingo-at-Knightlys-Bar.png
END:VEVENT
BEGIN:VEVENT
DTSTART;TZID=Europe/London:20260525T140000
DTEND;TZID=Europe/London:20260525T150000
DTSTAMP:20260421T231432
CREATED:20250401T141535Z
LAST-MODIFIED:20260416T095159Z
UID:10006618-1779717600-1779721200@www.knightlysfunpark.co.uk
SUMMARY:Cash Bingo
DESCRIPTION:Join us for a game of cash bingo! Win huge cash prizes for a line or full house. Play out in the garden or inside Knightly’s Bar.
URL:https://www.knightlysfunpark.co.uk/event/cash-bingo/2026-05-25/
LOCATION:Knightly’s Bar
ATTACH;FMTTYPE=image/png:https://www.knightlysfunpark.co.uk/wp-content/uploads/2025/04/cash-bingo-at-Knightlys-Bar.png
END:VEVENT
BEGIN:VEVENT
DTSTART;TZID=Europe/London:20260525T180000
DTEND;TZID=Europe/London:20260525T200000
DTSTAMP:20260421T231432
CREATED:20250520T142640Z
LAST-MODIFIED:20260317T111410Z
UID:10005751-1779732000-1779739200@www.knightlysfunpark.co.uk
SUMMARY:Blippi
DESCRIPTION:Don’t miss your chance to meet Blippi at Knightly’s Fun Park! Blippi will be on-site to greet fans\, take photos\, and spread joy with his infectious energy. Find him at Knightly’s Bar\, on the fairground and in Knightly’s Sandy Bay.
URL:https://www.knightlysfunpark.co.uk/event/blippi/2026-05-25/
LOCATION:Knightly’s Fun Park
CATEGORIES:Family Friendly
ATTACH;FMTTYPE=image/png:https://www.knightlysfunpark.co.uk/wp-content/uploads/2025/01/blippi-kb.png
END:VEVENT
BEGIN:VEVENT
DTSTART;TZID=Europe/London:20260525T190000
DTEND;TZID=Europe/London:20260525T210000
DTSTAMP:20260421T231432
CREATED:20250710T120755Z
LAST-MODIFIED:20260317T113953Z
UID:10005764-1779735600-1779742800@www.knightlysfunpark.co.uk
SUMMARY:Crazy Claire Kids Party
DESCRIPTION:Join us in the Outdoor Arena at Knightly’s Bar for loads of fun and games with Crazy Claire! \n\n Game Show \n Kids Talent Show – Towyn’s next superstar could be YOU!\n Win Prizes\n Crazy BIG giveaways playing In It to Win It!\n Brand NEW party dances\n Creative Arts & Crafts sessions
URL:https://www.knightlysfunpark.co.uk/event/crazy-claire-kids-party/2026-05-25/
LOCATION:Knightly’s Bar
CATEGORIES:Family Friendly
ATTACH;FMTTYPE=image/png:https://www.knightlysfunpark.co.uk/wp-content/uploads/2025/07/Crazy-Claire-at-Knightlys-Bar.png
END:VEVENT
BEGIN:VEVENT
DTSTART;TZID=Europe/London:20260526T140000
DTEND;TZID=Europe/London:20260526T150000
DTSTAMP:20260421T231432
CREATED:20250401T141535Z
LAST-MODIFIED:20260416T095159Z
UID:10006619-1779804000-1779807600@www.knightlysfunpark.co.uk
SUMMARY:Cash Bingo
DESCRIPTION:Join us for a game of cash bingo! Win huge cash prizes for a line or full house. Play out in the garden or inside Knightly’s Bar.
URL:https://www.knightlysfunpark.co.uk/event/cash-bingo/2026-05-26/
LOCATION:Knightly’s Bar
ATTACH;FMTTYPE=image/png:https://www.knightlysfunpark.co.uk/wp-content/uploads/2025/04/cash-bingo-at-Knightlys-Bar.png
END:VEVENT
BEGIN:VEVENT
DTSTART;TZID=Europe/London:20260526T170000
DTEND;TZID=Europe/London:20260526T180000
DTSTAMP:20260421T231432
CREATED:20250414T165347Z
LAST-MODIFIED:20260310T140545Z
UID:10005726-1779814800-1779818400@www.knightlysfunpark.co.uk
SUMMARY:Scaly Safari Show
DESCRIPTION:Get up close with lots of creepy crawlies and reptiles with Scaly Safari at Knightly’s Sandy Bay! 🐛🦎🕷 \nFree entry\, all welcome!
URL:https://www.knightlysfunpark.co.uk/event/scaly-safari-show/2026-05-26/
LOCATION:Knightly’s Sandy Bay Entertainment Centre
CATEGORIES:Family Friendly
ATTACH;FMTTYPE=image/png:https://www.knightlysfunpark.co.uk/wp-content/uploads/2025/04/20250414_175140_0000.png
END:VEVENT
BEGIN:VEVENT
DTSTART;TZID=Europe/London:20260527T140000
DTEND;TZID=Europe/London:20260527T150000
DTSTAMP:20260421T231432
CREATED:20250401T141535Z
LAST-MODIFIED:20260416T095159Z
UID:10006620-1779890400-1779894000@www.knightlysfunpark.co.uk
SUMMARY:Cash Bingo
DESCRIPTION:Join us for a game of cash bingo! Win huge cash prizes for a line or full house. Play out in the garden or inside Knightly’s Bar.
URL:https://www.knightlysfunpark.co.uk/event/cash-bingo/2026-05-27/
LOCATION:Knightly’s Bar
ATTACH;FMTTYPE=image/png:https://www.knightlysfunpark.co.uk/wp-content/uploads/2025/04/cash-bingo-at-Knightlys-Bar.png
END:VEVENT
BEGIN:VEVENT
DTSTART;TZID=Europe/London:20260527T200000
DTEND;TZID=Europe/London:20260527T220000
DTSTAMP:20260421T231432
CREATED:20250401T135856Z
LAST-MODIFIED:20260330T124506Z
UID:10005797-1779912000-1779919200@www.knightlysfunpark.co.uk
SUMMARY:Wrestling Show
DESCRIPTION:Get ready for an electrifying showdown as Basix Pro Wrestling takes center stage at Knightly’s Fun Park! You’re in for a treat when you come to watch some of the UK’s most professional wrestlers who know how to deliver exceptional family entertainment. Don’t miss this epic display of athleticism and excitement! \n£3 per person. Gates open at 6 PM\, show starts at 8 PM.
URL:https://www.knightlysfunpark.co.uk/event/wrestling-show/2026-05-27/
LOCATION:Knightly’s Bar
CATEGORIES:Family Friendly
ATTACH;FMTTYPE=image/png:https://www.knightlysfunpark.co.uk/wp-content/uploads/2025/04/2026.png
END:VEVENT
BEGIN:VEVENT
DTSTART;TZID=Europe/London:20260528T140000
DTEND;TZID=Europe/London:20260528T150000
DTSTAMP:20260421T231432
CREATED:20250401T141535Z
LAST-MODIFIED:20260416T095159Z
UID:10006621-1779976800-1779980400@www.knightlysfunpark.co.uk
SUMMARY:Cash Bingo
DESCRIPTION:Join us for a game of cash bingo! Win huge cash prizes for a line or full house. Play out in the garden or inside Knightly’s Bar.
URL:https://www.knightlysfunpark.co.uk/event/cash-bingo/2026-05-28/
LOCATION:Knightly’s Bar
ATTACH;FMTTYPE=image/png:https://www.knightlysfunpark.co.uk/wp-content/uploads/2025/04/cash-bingo-at-Knightlys-Bar.png
END:VEVENT
BEGIN:VEVENT
DTSTART;TZID=Europe/London:20260529T140000
DTEND;TZID=Europe/London:20260529T150000
DTSTAMP:20260421T231432
CREATED:20250401T141535Z
LAST-MODIFIED:20260416T095159Z
UID:10006622-1780063200-1780066800@www.knightlysfunpark.co.uk
SUMMARY:Cash Bingo
DESCRIPTION:Join us for a game of cash bingo! Win huge cash prizes for a line or full house. Play out in the garden or inside Knightly’s Bar.
URL:https://www.knightlysfunpark.co.uk/event/cash-bingo/2026-05-29/
LOCATION:Knightly’s Bar
ATTACH;FMTTYPE=image/png:https://www.knightlysfunpark.co.uk/wp-content/uploads/2025/04/cash-bingo-at-Knightlys-Bar.png
END:VEVENT
BEGIN:VEVENT
DTSTART;TZID=Europe/London:20260529T190000
DTEND;TZID=Europe/London:20260529T210000
DTSTAMP:20260421T231432
CREATED:20250710T120755Z
LAST-MODIFIED:20260317T113953Z
UID:10005765-1780081200-1780088400@www.knightlysfunpark.co.uk
SUMMARY:Crazy Claire Kids Party
DESCRIPTION:Join us in the Outdoor Arena at Knightly’s Bar for loads of fun and games with Crazy Claire! \n\n Game Show \n Kids Talent Show – Towyn’s next superstar could be YOU!\n Win Prizes\n Crazy BIG giveaways playing In It to Win It!\n Brand NEW party dances\n Creative Arts & Crafts sessions
URL:https://www.knightlysfunpark.co.uk/event/crazy-claire-kids-party/2026-05-29/
LOCATION:Knightly’s Bar
CATEGORIES:Family Friendly
ATTACH;FMTTYPE=image/png:https://www.knightlysfunpark.co.uk/wp-content/uploads/2025/07/Crazy-Claire-at-Knightlys-Bar.png
END:VEVENT
BEGIN:VEVENT
DTSTART;TZID=Europe/London:20260530T140000
DTEND;TZID=Europe/London:20260530T150000
DTSTAMP:20260421T231432
CREATED:20250401T141535Z
LAST-MODIFIED:20260416T095159Z
UID:10006623-1780149600-1780153200@www.knightlysfunpark.co.uk
SUMMARY:Cash Bingo
DESCRIPTION:Join us for a game of cash bingo! Win huge cash prizes for a line or full house. Play out in the garden or inside Knightly’s Bar.
URL:https://www.knightlysfunpark.co.uk/event/cash-bingo/2026-05-30/
LOCATION:Knightly’s Bar
ATTACH;FMTTYPE=image/png:https://www.knightlysfunpark.co.uk/wp-content/uploads/2025/04/cash-bingo-at-Knightlys-Bar.png
END:VEVENT
BEGIN:VEVENT
DTSTART;TZID=Europe/London:20260530T150000
DTEND;TZID=Europe/London:20260530T170000
DTSTAMP:20260421T231432
CREATED:20250401T135152Z
LAST-MODIFIED:20260317T115118Z
UID:10005785-1780153200-1780160400@www.knightlysfunpark.co.uk
SUMMARY:Crazy Claire Party
DESCRIPTION:Join Crazy Claire at Knightly’s Sandy bay for a brilliant kids party full of fun and games! Free entry and all welcome. \n Game Show \n Kids Talent Show – Towyn’s next superstar could be YOU!\n Win Prizes\n Crazy BIG giveaways playing In It to Win It!\n Brand NEW party dances\n Creative Arts & Crafts sessions
URL:https://www.knightlysfunpark.co.uk/event/crazy-claire-party/2026-05-30/
LOCATION:Knightly’s Sandy Bay Entertainment Centre
CATEGORIES:Family Friendly
ATTACH;FMTTYPE=image/png:https://www.knightlysfunpark.co.uk/wp-content/uploads/2025/07/Crazy-Claire-at-Sandy-Bay-1.png
END:VEVENT
BEGIN:VEVENT
DTSTART;TZID=Europe/London:20260531T140000
DTEND;TZID=Europe/London:20260531T150000
DTSTAMP:20260421T231432
CREATED:20250401T141535Z
LAST-MODIFIED:20260416T095159Z
UID:10006624-1780236000-1780239600@www.knightlysfunpark.co.uk
SUMMARY:Cash Bingo
DESCRIPTION:Join us for a game of cash bingo! Win huge cash prizes for a line or full house. Play out in the garden or inside Knightly’s Bar.
URL:https://www.knightlysfunpark.co.uk/event/cash-bingo/2026-05-31/
LOCATION:Knightly’s Bar
ATTACH;FMTTYPE=image/png:https://www.knightlysfunpark.co.uk/wp-content/uploads/2025/04/cash-bingo-at-Knightlys-Bar.png
END:VEVENT
BEGIN:VEVENT
DTSTART;TZID=Europe/London:20260601T140000
DTEND;TZID=Europe/London:20260601T150000
DTSTAMP:20260421T231432
CREATED:20250401T141535Z
LAST-MODIFIED:20260416T095159Z
UID:10006625-1780322400-1780326000@www.knightlysfunpark.co.uk
SUMMARY:Cash Bingo
DESCRIPTION:Join us for a game of cash bingo! Win huge cash prizes for a line or full house. Play out in the garden or inside Knightly’s Bar.
URL:https://www.knightlysfunpark.co.uk/event/cash-bingo/2026-06-01/
LOCATION:Knightly’s Bar
ATTACH;FMTTYPE=image/png:https://www.knightlysfunpark.co.uk/wp-content/uploads/2025/04/cash-bingo-at-Knightlys-Bar.png
END:VEVENT
BEGIN:VEVENT
DTSTART;TZID=Europe/London:20260602T140000
DTEND;TZID=Europe/London:20260602T150000
DTSTAMP:20260421T231432
CREATED:20250401T141535Z
LAST-MODIFIED:20260416T095159Z
UID:10006626-1780408800-1780412400@www.knightlysfunpark.co.uk
SUMMARY:Cash Bingo
DESCRIPTION:Join us for a game of cash bingo! Win huge cash prizes for a line or full house. Play out in the garden or inside Knightly’s Bar.
URL:https://www.knightlysfunpark.co.uk/event/cash-bingo/2026-06-02/
LOCATION:Knightly’s Bar
ATTACH;FMTTYPE=image/png:https://www.knightlysfunpark.co.uk/wp-content/uploads/2025/04/cash-bingo-at-Knightlys-Bar.png
END:VEVENT
BEGIN:VEVENT
DTSTART;TZID=Europe/London:20260603T140000
DTEND;TZID=Europe/London:20260603T150000
DTSTAMP:20260421T231432
CREATED:20250401T141535Z
LAST-MODIFIED:20260416T095159Z
UID:10006627-1780495200-1780498800@www.knightlysfunpark.co.uk
SUMMARY:Cash Bingo
DESCRIPTION:Join us for a game of cash bingo! Win huge cash prizes for a line or full house. Play out in the garden or inside Knightly’s Bar.
URL:https://www.knightlysfunpark.co.uk/event/cash-bingo/2026-06-03/
LOCATION:Knightly’s Bar
ATTACH;FMTTYPE=image/png:https://www.knightlysfunpark.co.uk/wp-content/uploads/2025/04/cash-bingo-at-Knightlys-Bar.png
END:VEVENT
BEGIN:VEVENT
DTSTART;TZID=Europe/London:20260604T140000
DTEND;TZID=Europe/London:20260604T150000
DTSTAMP:20260421T231432
CREATED:20250401T141535Z
LAST-MODIFIED:20260416T095159Z
UID:10006628-1780581600-1780585200@www.knightlysfunpark.co.uk
SUMMARY:Cash Bingo
DESCRIPTION:Join us for a game of cash bingo! Win huge cash prizes for a line or full house. Play out in the garden or inside Knightly’s Bar.
URL:https://www.knightlysfunpark.co.uk/event/cash-bingo/2026-06-04/
LOCATION:Knightly’s Bar
ATTACH;FMTTYPE=image/png:https://www.knightlysfunpark.co.uk/wp-content/uploads/2025/04/cash-bingo-at-Knightlys-Bar.png
END:VEVENT
BEGIN:VEVENT
DTSTART;TZID=Europe/London:20260605T140000
DTEND;TZID=Europe/London:20260605T150000
DTSTAMP:20260421T231432
CREATED:20250401T141535Z
LAST-MODIFIED:20260416T095159Z
UID:10006629-1780668000-1780671600@www.knightlysfunpark.co.uk
SUMMARY:Cash Bingo
DESCRIPTION:Join us for a game of cash bingo! Win huge cash prizes for a line or full house. Play out in the garden or inside Knightly’s Bar.
URL:https://www.knightlysfunpark.co.uk/event/cash-bingo/2026-06-05/
LOCATION:Knightly’s Bar
ATTACH;FMTTYPE=image/png:https://www.knightlysfunpark.co.uk/wp-content/uploads/2025/04/cash-bingo-at-Knightlys-Bar.png
END:VEVENT
BEGIN:VEVENT
DTSTART;TZID=Europe/London:20260606T140000
DTEND;TZID=Europe/London:20260606T150000
DTSTAMP:20260421T231432
CREATED:20250401T141535Z
LAST-MODIFIED:20260416T095159Z
UID:10006630-1780754400-1780758000@www.knightlysfunpark.co.uk
SUMMARY:Cash Bingo
DESCRIPTION:Join us for a game of cash bingo! Win huge cash prizes for a line or full house. Play out in the garden or inside Knightly’s Bar.
URL:https://www.knightlysfunpark.co.uk/event/cash-bingo/2026-06-06/
LOCATION:Knightly’s Bar
ATTACH;FMTTYPE=image/png:https://www.knightlysfunpark.co.uk/wp-content/uploads/2025/04/cash-bingo-at-Knightlys-Bar.png
END:VEVENT
BEGIN:VEVENT
DTSTART;TZID=Europe/London:20260607T140000
DTEND;TZID=Europe/London:20260607T150000
DTSTAMP:20260421T231432
CREATED:20250401T141535Z
LAST-MODIFIED:20260416T095159Z
UID:10006631-1780840800-1780844400@www.knightlysfunpark.co.uk
SUMMARY:Cash Bingo
DESCRIPTION:Join us for a game of cash bingo! Win huge cash prizes for a line or full house. Play out in the garden or inside Knightly’s Bar.
URL:https://www.knightlysfunpark.co.uk/event/cash-bingo/2026-06-07/
LOCATION:Knightly’s Bar
ATTACH;FMTTYPE=image/png:https://www.knightlysfunpark.co.uk/wp-content/uploads/2025/04/cash-bingo-at-Knightlys-Bar.png
END:VEVENT
BEGIN:VEVENT
DTSTART;TZID=Europe/London:20260608T140000
DTEND;TZID=Europe/London:20260608T150000
DTSTAMP:20260421T231432
CREATED:20250401T141535Z
LAST-MODIFIED:20260416T095159Z
UID:10006632-1780927200-1780930800@www.knightlysfunpark.co.uk
SUMMARY:Cash Bingo
DESCRIPTION:Join us for a game of cash bingo! Win huge cash prizes for a line or full house. Play out in the garden or inside Knightly’s Bar.
URL:https://www.knightlysfunpark.co.uk/event/cash-bingo/2026-06-08/
LOCATION:Knightly’s Bar
ATTACH;FMTTYPE=image/png:https://www.knightlysfunpark.co.uk/wp-content/uploads/2025/04/cash-bingo-at-Knightlys-Bar.png
END:VEVENT
BEGIN:VEVENT
DTSTART;TZID=Europe/London:20260609T140000
DTEND;TZID=Europe/London:20260609T150000
DTSTAMP:20260421T231432
CREATED:20250401T141535Z
LAST-MODIFIED:20260416T095159Z
UID:10006633-1781013600-1781017200@www.knightlysfunpark.co.uk
SUMMARY:Cash Bingo
DESCRIPTION:Join us for a game of cash bingo! Win huge cash prizes for a line or full house. Play out in the garden or inside Knightly’s Bar.
URL:https://www.knightlysfunpark.co.uk/event/cash-bingo/2026-06-09/
LOCATION:Knightly’s Bar
ATTACH;FMTTYPE=image/png:https://www.knightlysfunpark.co.uk/wp-content/uploads/2025/04/cash-bingo-at-Knightlys-Bar.png
END:VEVENT
BEGIN:VEVENT
DTSTART;TZID=Europe/London:20260610T140000
DTEND;TZID=Europe/London:20260610T150000
DTSTAMP:20260421T231432
CREATED:20250401T141535Z
LAST-MODIFIED:20260416T095159Z
UID:10006634-1781100000-1781103600@www.knightlysfunpark.co.uk
SUMMARY:Cash Bingo
DESCRIPTION:Join us for a game of cash bingo! Win huge cash prizes for a line or full house. Play out in the garden or inside Knightly’s Bar.
URL:https://www.knightlysfunpark.co.uk/event/cash-bingo/2026-06-10/
LOCATION:Knightly’s Bar
ATTACH;FMTTYPE=image/png:https://www.knightlysfunpark.co.uk/wp-content/uploads/2025/04/cash-bingo-at-Knightlys-Bar.png
END:VEVENT
BEGIN:VEVENT
DTSTART;TZID=Europe/London:20260611T140000
DTEND;TZID=Europe/London:20260611T150000
DTSTAMP:20260421T231432
CREATED:20250401T141535Z
LAST-MODIFIED:20260416T095159Z
UID:10006635-1781186400-1781190000@www.knightlysfunpark.co.uk
SUMMARY:Cash Bingo
DESCRIPTION:Join us for a game of cash bingo! Win huge cash prizes for a line or full house. Play out in the garden or inside Knightly’s Bar.
URL:https://www.knightlysfunpark.co.uk/event/cash-bingo/2026-06-11/
LOCATION:Knightly’s Bar
ATTACH;FMTTYPE=image/png:https://www.knightlysfunpark.co.uk/wp-content/uploads/2025/04/cash-bingo-at-Knightlys-Bar.png
END:VEVENT
BEGIN:VEVENT
DTSTART;TZID=Europe/London:20260612T140000
DTEND;TZID=Europe/London:20260612T150000
DTSTAMP:20260421T231432
CREATED:20250401T141535Z
LAST-MODIFIED:20260416T095159Z
UID:10006636-1781272800-1781276400@www.knightlysfunpark.co.uk
SUMMARY:Cash Bingo
DESCRIPTION:Join us for a game of cash bingo! Win huge cash prizes for a line or full house. Play out in the garden or inside Knightly’s Bar.
URL:https://www.knightlysfunpark.co.uk/event/cash-bingo/2026-06-12/
LOCATION:Knightly’s Bar
ATTACH;FMTTYPE=image/png:https://www.knightlysfunpark.co.uk/wp-content/uploads/2025/04/cash-bingo-at-Knightlys-Bar.png
END:VEVENT
BEGIN:VEVENT
DTSTART;TZID=Europe/London:20260613T140000
DTEND;TZID=Europe/London:20260613T150000
DTSTAMP:20260421T231432
CREATED:20250401T141535Z
LAST-MODIFIED:20260416T095159Z
UID:10006637-1781359200-1781362800@www.knightlysfunpark.co.uk
SUMMARY:Cash Bingo
DESCRIPTION:Join us for a game of cash bingo! Win huge cash prizes for a line or full house. Play out in the garden or inside Knightly’s Bar.
URL:https://www.knightlysfunpark.co.uk/event/cash-bingo/2026-06-13/
LOCATION:Knightly’s Bar
ATTACH;FMTTYPE=image/png:https://www.knightlysfunpark.co.uk/wp-content/uploads/2025/04/cash-bingo-at-Knightlys-Bar.png
END:VEVENT
BEGIN:VEVENT
DTSTART;TZID=Europe/London:20260613T153000
DTEND;TZID=Europe/London:20260613T173000
DTSTAMP:20260421T231432
CREATED:20260119T105733Z
LAST-MODIFIED:20260119T105733Z
UID:10005685-1781364600-1781371800@www.knightlysfunpark.co.uk
SUMMARY:Kylie ft Rogue Minogue
DESCRIPTION:Featuring the exceptional\, award-winning performance of Cheryl Hadley\, Rogue Minogue is a top-tier tribute to the iconic Princess of Pop\, Kylie Minogue!
URL:https://www.knightlysfunpark.co.uk/event/kylie-ft-rogue-minogue/
LOCATION:Knightly’s Bar
CATEGORIES:Family Friendly
ATTACH;FMTTYPE=image/png:https://www.knightlysfunpark.co.uk/wp-content/uploads/2026/01/Rogue-Minogue-is-Kylie-at-Knightlys-Bar.png
END:VEVENT
END:VCALENDAR