BEGIN:VCALENDAR
VERSION:2.0
PRODID:-//Knightly&#039;s Fun Park Towyn - ECPv6.15.17//NONSGML v1.0//EN
CALSCALE:GREGORIAN
METHOD:PUBLISH
X-WR-CALNAME:Knightly&#039;s Fun Park Towyn
X-ORIGINAL-URL:https://www.knightlysfunpark.co.uk
X-WR-CALDESC:Events for Knightly&#039;s Fun Park Towyn
REFRESH-INTERVAL;VALUE=DURATION:PT1H
X-Robots-Tag:noindex
X-PUBLISHED-TTL:PT1H
BEGIN:VTIMEZONE
TZID:Europe/London
BEGIN:DAYLIGHT
TZOFFSETFROM:+0000
TZOFFSETTO:+0100
TZNAME:BST
DTSTART:20240331T010000
END:DAYLIGHT
BEGIN:STANDARD
TZOFFSETFROM:+0100
TZOFFSETTO:+0000
TZNAME:GMT
DTSTART:20241027T010000
END:STANDARD
BEGIN:DAYLIGHT
TZOFFSETFROM:+0000
TZOFFSETTO:+0100
TZNAME:BST
DTSTART:20250330T010000
END:DAYLIGHT
BEGIN:STANDARD
TZOFFSETFROM:+0100
TZOFFSETTO:+0000
TZNAME:GMT
DTSTART:20251026T010000
END:STANDARD
BEGIN:DAYLIGHT
TZOFFSETFROM:+0000
TZOFFSETTO:+0100
TZNAME:BST
DTSTART:20260329T010000
END:DAYLIGHT
BEGIN:STANDARD
TZOFFSETFROM:+0100
TZOFFSETTO:+0000
TZNAME:GMT
DTSTART:20261025T010000
END:STANDARD
END:VTIMEZONE
BEGIN:VEVENT
DTSTART;TZID=Europe/London:20250530T150000
DTEND;TZID=Europe/London:20250530T154500
DTSTAMP:20260421T211902
CREATED:20250401T125135Z
LAST-MODIFIED:20250504T130836Z
UID:10004360-1748617200-1748619900@www.knightlysfunpark.co.uk
SUMMARY:Meet Bubbles the T Rex
DESCRIPTION:Grab a photo with our super friendly T-Rex\, Bubbles! Bubbles will be walking along Sandbank Road\, come down and say hello!
URL:https://www.knightlysfunpark.co.uk/event/meet-bubbles-the-t-rex/2025-05-30/
LOCATION:Knightly’s Fun Park
CATEGORIES:Family Friendly
ATTACH;FMTTYPE=image/jpeg:https://www.knightlysfunpark.co.uk/wp-content/uploads/2024/04/366918569_671122155048318_3424394489737395244_n-e1713363800787.jpg
END:VEVENT
BEGIN:VEVENT
DTSTART;TZID=Europe/London:20250530T140000
DTEND;TZID=Europe/London:20250530T150000
DTSTAMP:20260421T211902
CREATED:20250401T141535Z
LAST-MODIFIED:20260416T095159Z
UID:10006258-1748613600-1748617200@www.knightlysfunpark.co.uk
SUMMARY:Cash Bingo
DESCRIPTION:Join us for a game of cash bingo! Win huge cash prizes for a line or full house. Play out in the garden or inside Knightly’s Bar.
URL:https://www.knightlysfunpark.co.uk/event/cash-bingo/2025-05-30/
LOCATION:Knightly’s Bar
ATTACH;FMTTYPE=image/png:https://www.knightlysfunpark.co.uk/wp-content/uploads/2025/04/cash-bingo-at-Knightlys-Bar.png
END:VEVENT
BEGIN:VEVENT
DTSTART;TZID=Europe/London:20250529T203000
DTEND;TZID=Europe/London:20250529T233000
DTSTAMP:20260421T211902
CREATED:20250429T120357Z
LAST-MODIFIED:20250818T101703Z
UID:10004243-1748550600-1748561400@www.knightlysfunpark.co.uk
SUMMARY:Timeless
DESCRIPTION:Together\, Tommy Barron and Hefin Roberts join to make Timeless\, a hilarious comedy and vocal duo. Prepare to be entertained!
URL:https://www.knightlysfunpark.co.uk/event/timeless/2025-05-29/
LOCATION:Knightly’s Bar
ATTACH;FMTTYPE=image/png:https://www.knightlysfunpark.co.uk/wp-content/uploads/2025/04/Timeless-at-Knightlys-Bar.png
END:VEVENT
BEGIN:VEVENT
DTSTART;TZID=Europe/London:20250529T193000
DTEND;TZID=Europe/London:20250529T210000
DTSTAMP:20260421T211902
CREATED:20250410T100210Z
LAST-MODIFIED:20250707T111316Z
UID:10004712-1748547000-1748552400@www.knightlysfunpark.co.uk
SUMMARY:Family Magic Show
DESCRIPTION:Join us for a free family Magic Show at Knightly’s Sandy Bay! Prepare to have your mind blown – Don’t miss out!
URL:https://www.knightlysfunpark.co.uk/event/family-magic-show/2025-05-29/
LOCATION:Knightly’s Sandy Bay Entertainment Centre
CATEGORIES:Evening Entertainment,Family Friendly
ATTACH;FMTTYPE=image/png:https://www.knightlysfunpark.co.uk/wp-content/uploads/2025/04/magic-show.png
END:VEVENT
BEGIN:VEVENT
DTSTART;TZID=Europe/London:20250529T190000
DTEND;TZID=Europe/London:20250529T200000
DTSTAMP:20260421T211902
CREATED:20250520T142640Z
LAST-MODIFIED:20260317T111410Z
UID:10004711-1748545200-1748548800@www.knightlysfunpark.co.uk
SUMMARY:Blippi
DESCRIPTION:Don’t miss your chance to meet Blippi at Knightly’s Fun Park! Blippi will be on-site to greet fans\, take photos\, and spread joy with his infectious energy. Find him at Knightly’s Bar\, on the fairground and in Knightly’s Sandy Bay.
URL:https://www.knightlysfunpark.co.uk/event/blippi/2025-05-29/
LOCATION:Knightly’s Fun Park
CATEGORIES:Family Friendly
ATTACH;FMTTYPE=image/png:https://www.knightlysfunpark.co.uk/wp-content/uploads/2025/01/blippi-kb.png
END:VEVENT
BEGIN:VEVENT
DTSTART;TZID=Europe/London:20250529T140000
DTEND;TZID=Europe/London:20250529T160000
DTSTAMP:20260421T211902
CREATED:20250429T145225Z
LAST-MODIFIED:20260409T091115Z
UID:10004305-1748527200-1748534400@www.knightlysfunpark.co.uk
SUMMARY:Scaly Safari Show
DESCRIPTION:Get up close with lots of creepy crawlies and reptiles with Scaly Safari! Meet us on Knightly’s Fairground! 🐛🦎🕷 \nFree entry\, all welcome!
URL:https://www.knightlysfunpark.co.uk/event/scaly-safari-show-2/2025-05-29/
LOCATION:Knightly’s Fun Park
CATEGORIES:Family Friendly
ATTACH;FMTTYPE=image/png:https://www.knightlysfunpark.co.uk/wp-content/uploads/2025/04/20250414_175140_0000.png
END:VEVENT
BEGIN:VEVENT
DTSTART;TZID=Europe/London:20250529T140000
DTEND;TZID=Europe/London:20250529T150000
DTSTAMP:20260421T211902
CREATED:20250401T141535Z
LAST-MODIFIED:20260416T095159Z
UID:10006257-1748527200-1748530800@www.knightlysfunpark.co.uk
SUMMARY:Cash Bingo
DESCRIPTION:Join us for a game of cash bingo! Win huge cash prizes for a line or full house. Play out in the garden or inside Knightly’s Bar.
URL:https://www.knightlysfunpark.co.uk/event/cash-bingo/2025-05-29/
LOCATION:Knightly’s Bar
ATTACH;FMTTYPE=image/png:https://www.knightlysfunpark.co.uk/wp-content/uploads/2025/04/cash-bingo-at-Knightlys-Bar.png
END:VEVENT
BEGIN:VEVENT
DTSTART;TZID=Europe/London:20250528T203000
DTEND;TZID=Europe/London:20250528T233000
DTSTAMP:20260421T211902
CREATED:20250122T130503Z
LAST-MODIFIED:20250725T114648Z
UID:10004232-1748464200-1748475000@www.knightlysfunpark.co.uk
SUMMARY:Caz McElroy
DESCRIPTION:A fantastic entertainer with an amazing voice\, you’re in for a great night with Caz McElroy at Knightly’s Bar. Join us from 8:30 PM for cash bingo.
URL:https://www.knightlysfunpark.co.uk/event/caz-mcelroy-2/2025-05-28/
LOCATION:Knightly’s Bar
CATEGORIES:Evening Entertainment,Family Friendly
ATTACH;FMTTYPE=image/png:https://www.knightlysfunpark.co.uk/wp-content/uploads/2025/01/caz-mcelroy-kb.png
END:VEVENT
BEGIN:VEVENT
DTSTART;TZID=Europe/London:20250528T180000
DTEND;TZID=Europe/London:20250528T220000
DTSTAMP:20260421T211902
CREATED:20250401T135856Z
LAST-MODIFIED:20260330T124506Z
UID:10004116-1748455200-1748469600@www.knightlysfunpark.co.uk
SUMMARY:Wrestling Show
DESCRIPTION:Get ready for an electrifying showdown as Basix Pro Wrestling takes center stage at Knightly’s Fun Park! You’re in for a treat when you come to watch some of the UK’s most professional wrestlers who know how to deliver exceptional family entertainment. Don’t miss this epic display of athleticism and excitement! \n£3 per person. Gates open at 6 PM\, show starts at 8 PM.
URL:https://www.knightlysfunpark.co.uk/event/wrestling-show/2025-05-28/
LOCATION:Knightly’s Bar
CATEGORIES:Family Friendly
ATTACH;FMTTYPE=image/png:https://www.knightlysfunpark.co.uk/wp-content/uploads/2025/04/2026.png
END:VEVENT
BEGIN:VEVENT
DTSTART;TZID=Europe/London:20250528T150000
DTEND;TZID=Europe/London:20250528T170000
DTSTAMP:20260421T211902
CREATED:20250401T141008Z
LAST-MODIFIED:20250519T122737Z
UID:10004395-1748444400-1748451600@www.knightlysfunpark.co.uk
SUMMARY:Princess Party
DESCRIPTION:👑✨ Join in games\, singing & dancing with a real Disney Princess! ✨👑📸 Snap a magical photo & get a sparkly ✨ glitter tattoo too!🕛 From 12–2 PM & 3–5 PM at Knightly’s Bar \n🌟 Princess Party Dates:📅 28th May – 🌹 Belle📅 23rd July – ❄️ Elsa📅 30th July – 👑 Anna📅 6th August – 🌸 Rapunzel📅 13th August – 🧜‍♀️ Ariel📅 20th August – 🌹 Belle📅 27th August – ❄️ Elsa \n🎉 A royal day out for your little prince or princess! Don’t forget your tiaras! 👸🤴
URL:https://www.knightlysfunpark.co.uk/event/princess-party-2/2025-05-28/2/
LOCATION:Knightly’s Fun Park
CATEGORIES:Family Friendly
ATTACH;FMTTYPE=image/png:https://www.knightlysfunpark.co.uk/wp-content/uploads/2024/07/Untitled-design-34.png
END:VEVENT
BEGIN:VEVENT
DTSTART;TZID=Europe/London:20250528T140000
DTEND;TZID=Europe/London:20250528T150000
DTSTAMP:20260421T211902
CREATED:20250401T141535Z
LAST-MODIFIED:20260416T095159Z
UID:10006256-1748440800-1748444400@www.knightlysfunpark.co.uk
SUMMARY:Cash Bingo
DESCRIPTION:Join us for a game of cash bingo! Win huge cash prizes for a line or full house. Play out in the garden or inside Knightly’s Bar.
URL:https://www.knightlysfunpark.co.uk/event/cash-bingo/2025-05-28/
LOCATION:Knightly’s Bar
ATTACH;FMTTYPE=image/png:https://www.knightlysfunpark.co.uk/wp-content/uploads/2025/04/cash-bingo-at-Knightlys-Bar.png
END:VEVENT
BEGIN:VEVENT
DTSTART;TZID=Europe/London:20250528T120000
DTEND;TZID=Europe/London:20250528T140000
DTSTAMP:20260421T211902
CREATED:20250401T141008Z
LAST-MODIFIED:20250519T122737Z
UID:10004394-1748433600-1748440800@www.knightlysfunpark.co.uk
SUMMARY:Princess Party
DESCRIPTION:👑✨ Join in games\, singing & dancing with a real Disney Princess! ✨👑📸 Snap a magical photo & get a sparkly ✨ glitter tattoo too!🕛 From 12–2 PM & 3–5 PM at Knightly’s Bar \n🌟 Princess Party Dates:📅 28th May – 🌹 Belle📅 23rd July – ❄️ Elsa📅 30th July – 👑 Anna📅 6th August – 🌸 Rapunzel📅 13th August – 🧜‍♀️ Ariel📅 20th August – 🌹 Belle📅 27th August – ❄️ Elsa \n🎉 A royal day out for your little prince or princess! Don’t forget your tiaras! 👸🤴
URL:https://www.knightlysfunpark.co.uk/event/princess-party-2/2025-05-28/1/
LOCATION:Knightly’s Fun Park
CATEGORIES:Family Friendly
ATTACH;FMTTYPE=image/png:https://www.knightlysfunpark.co.uk/wp-content/uploads/2024/07/Untitled-design-34.png
END:VEVENT
BEGIN:VEVENT
DTSTART;TZID=Europe/London:20250527T170000
DTEND;TZID=Europe/London:20250527T190000
DTSTAMP:20260421T211902
CREATED:20250414T165347Z
LAST-MODIFIED:20260310T140545Z
UID:10004289-1748365200-1748372400@www.knightlysfunpark.co.uk
SUMMARY:Scaly Safari Show
DESCRIPTION:Get up close with lots of creepy crawlies and reptiles with Scaly Safari at Knightly’s Sandy Bay! 🐛🦎🕷 \nFree entry\, all welcome!
URL:https://www.knightlysfunpark.co.uk/event/scaly-safari-show/2025-05-27/
LOCATION:Knightly’s Sandy Bay Entertainment Centre
CATEGORIES:Family Friendly
ATTACH;FMTTYPE=image/png:https://www.knightlysfunpark.co.uk/wp-content/uploads/2025/04/20250414_175140_0000.png
END:VEVENT
BEGIN:VEVENT
DTSTART;TZID=Europe/London:20250527T163000
DTEND;TZID=Europe/London:20250527T170000
DTSTAMP:20260421T211902
CREATED:20250526T111410Z
LAST-MODIFIED:20250526T111410Z
UID:10004737-1748363400-1748365200@www.knightlysfunpark.co.uk
SUMMARY:Knightly's Got Talent
DESCRIPTION:Show off your talents at Knightly’s Sandy Bay! For all ages and a prize for every participant.
URL:https://www.knightlysfunpark.co.uk/event/knightlys-got-talent/
LOCATION:Knightly’s Sandy Bay Entertainment Centre
CATEGORIES:Family Friendly
ATTACH;FMTTYPE=image/png:https://www.knightlysfunpark.co.uk/wp-content/uploads/2025/03/Untitled-design-58-e1748257901797.png
END:VEVENT
BEGIN:VEVENT
DTSTART;TZID=Europe/London:20250527T150000
DTEND;TZID=Europe/London:20250527T154500
DTSTAMP:20260421T211902
CREATED:20250401T125135Z
LAST-MODIFIED:20250504T130836Z
UID:10004359-1748358000-1748360700@www.knightlysfunpark.co.uk
SUMMARY:Meet Bubbles the T Rex
DESCRIPTION:Grab a photo with our super friendly T-Rex\, Bubbles! Bubbles will be walking along Sandbank Road\, come down and say hello!
URL:https://www.knightlysfunpark.co.uk/event/meet-bubbles-the-t-rex/2025-05-27/
LOCATION:Knightly’s Fun Park
CATEGORIES:Family Friendly
ATTACH;FMTTYPE=image/jpeg:https://www.knightlysfunpark.co.uk/wp-content/uploads/2024/04/366918569_671122155048318_3424394489737395244_n-e1713363800787.jpg
END:VEVENT
BEGIN:VEVENT
DTSTART;TZID=Europe/London:20250527T143000
DTEND;TZID=Europe/London:20250527T150000
DTSTAMP:20260421T211902
CREATED:20250526T110143Z
LAST-MODIFIED:20250526T110143Z
UID:10004713-1748356200-1748358000@www.knightlysfunpark.co.uk
SUMMARY:Meet Paw Patrol
DESCRIPTION:Meet your favourite Paw Patrol pups and join them for lots of fun and games at Knightly’s Sandy Bay!
URL:https://www.knightlysfunpark.co.uk/event/meet-paw-patrol-3/
LOCATION:Knightly’s Sandy Bay Entertainment Centre
CATEGORIES:Family Friendly
ATTACH;FMTTYPE=image/jpeg:https://www.knightlysfunpark.co.uk/wp-content/uploads/2025/05/paw-patrol-e1748256881967.jpg
END:VEVENT
BEGIN:VEVENT
DTSTART;TZID=Europe/London:20250527T140000
DTEND;TZID=Europe/London:20250527T150000
DTSTAMP:20260421T211902
CREATED:20250401T141535Z
LAST-MODIFIED:20260416T095159Z
UID:10006255-1748354400-1748358000@www.knightlysfunpark.co.uk
SUMMARY:Cash Bingo
DESCRIPTION:Join us for a game of cash bingo! Win huge cash prizes for a line or full house. Play out in the garden or inside Knightly’s Bar.
URL:https://www.knightlysfunpark.co.uk/event/cash-bingo/2025-05-27/
LOCATION:Knightly’s Bar
ATTACH;FMTTYPE=image/png:https://www.knightlysfunpark.co.uk/wp-content/uploads/2025/04/cash-bingo-at-Knightlys-Bar.png
END:VEVENT
BEGIN:VEVENT
DTSTART;TZID=Europe/London:20250526T140000
DTEND;TZID=Europe/London:20250526T150000
DTSTAMP:20260421T211902
CREATED:20250401T141535Z
LAST-MODIFIED:20260416T095159Z
UID:10006254-1748268000-1748271600@www.knightlysfunpark.co.uk
SUMMARY:Cash Bingo
DESCRIPTION:Join us for a game of cash bingo! Win huge cash prizes for a line or full house. Play out in the garden or inside Knightly’s Bar.
URL:https://www.knightlysfunpark.co.uk/event/cash-bingo/2025-05-26/
LOCATION:Knightly’s Bar
ATTACH;FMTTYPE=image/png:https://www.knightlysfunpark.co.uk/wp-content/uploads/2025/04/cash-bingo-at-Knightlys-Bar.png
END:VEVENT
BEGIN:VEVENT
DTSTART;TZID=Europe/London:20250525T150000
DTEND;TZID=Europe/London:20250525T180000
DTSTAMP:20260421T211902
CREATED:20250429T104032Z
LAST-MODIFIED:20260116T113339Z
UID:10004227-1748185200-1748196000@www.knightlysfunpark.co.uk
SUMMARY:Trilogy
DESCRIPTION:3 incredible performers\, Tommy Barron\, Danny Cole and Dave Oz have joined together to make this brilliant party trio\, Trilogy!
URL:https://www.knightlysfunpark.co.uk/event/trilogy/2025-05-25/
LOCATION:Knightly’s Bar
ATTACH;FMTTYPE=image/png:https://www.knightlysfunpark.co.uk/wp-content/uploads/2025/04/Trilogy-at-Knightlys-Bar-2.png
END:VEVENT
BEGIN:VEVENT
DTSTART;TZID=Europe/London:20250525T140000
DTEND;TZID=Europe/London:20250525T150000
DTSTAMP:20260421T211902
CREATED:20250401T141535Z
LAST-MODIFIED:20260416T095159Z
UID:10006253-1748181600-1748185200@www.knightlysfunpark.co.uk
SUMMARY:Cash Bingo
DESCRIPTION:Join us for a game of cash bingo! Win huge cash prizes for a line or full house. Play out in the garden or inside Knightly’s Bar.
URL:https://www.knightlysfunpark.co.uk/event/cash-bingo/2025-05-25/
LOCATION:Knightly’s Bar
ATTACH;FMTTYPE=image/png:https://www.knightlysfunpark.co.uk/wp-content/uploads/2025/04/cash-bingo-at-Knightlys-Bar.png
END:VEVENT
BEGIN:VEVENT
DTSTART;TZID=Europe/London:20250524T210000
DTEND;TZID=Europe/London:20250524T233000
DTSTAMP:20260421T211902
CREATED:20250114T152528Z
LAST-MODIFIED:20250114T152528Z
UID:10003602-1748120400-1748129400@www.knightlysfunpark.co.uk
SUMMARY:Beverley George
DESCRIPTION:Join us at Knightly’s Sandy Bay for an unforgettable evening of live music featuring the talented Beverley George. Enjoy her captivating performance in a lively\, family-friendly atmosphere.
URL:https://www.knightlysfunpark.co.uk/event/beverley-george/2025-05-24/
LOCATION:Knightly’s Sandy Bay Entertainment Centre
CATEGORIES:Evening Entertainment,Family Friendly
ATTACH;FMTTYPE=image/png:https://www.knightlysfunpark.co.uk/wp-content/uploads/2025/01/beverley-george-sb.png
END:VEVENT
BEGIN:VEVENT
DTSTART;TZID=Europe/London:20250524T203000
DTEND;TZID=Europe/London:20250524T233000
DTSTAMP:20260421T211902
CREATED:20250122T122036Z
LAST-MODIFIED:20260109T143000Z
UID:10004194-1748118600-1748129400@www.knightlysfunpark.co.uk
SUMMARY:The Aim
DESCRIPTION:The Aim will be bringing us a fast & lively show with great personality\, featuring your favourite soul & Motown hits.
URL:https://www.knightlysfunpark.co.uk/event/the-aim/2025-05-24/
LOCATION:Knightly’s Bar
ATTACH;FMTTYPE=image/png:https://www.knightlysfunpark.co.uk/wp-content/uploads/2025/01/The-Aim-trio-at-Knightlys-Bar.png
END:VEVENT
BEGIN:VEVENT
DTSTART;TZID=Europe/London:20250524T150000
DTEND;TZID=Europe/London:20250524T180000
DTSTAMP:20260421T211902
CREATED:20250122T132537Z
LAST-MODIFIED:20250429T101303Z
UID:10004223-1748098800-1748109600@www.knightlysfunpark.co.uk
SUMMARY:Up Highs
DESCRIPTION:A sensational cabaret duo known for their dynamic personalities\, strong vocals and perfect harmonies\, the Up Highs are joining us at Knightly’s Bar!
URL:https://www.knightlysfunpark.co.uk/event/up-highs-2/2025-05-24/
LOCATION:Knightly’s Bar
CATEGORIES:Evening Entertainment,Family Friendly
ATTACH;FMTTYPE=image/png:https://www.knightlysfunpark.co.uk/wp-content/uploads/2025/01/up-highs-kb.png
END:VEVENT
BEGIN:VEVENT
DTSTART;TZID=Europe/London:20250524T150000
DTEND;TZID=Europe/London:20250524T170000
DTSTAMP:20260421T211902
CREATED:20250401T135152Z
LAST-MODIFIED:20260317T115118Z
UID:10004281-1748098800-1748106000@www.knightlysfunpark.co.uk
SUMMARY:Crazy Claire Party
DESCRIPTION:Join Crazy Claire at Knightly’s Sandy bay for a brilliant kids party full of fun and games! Free entry and all welcome. \n Game Show \n Kids Talent Show – Towyn’s next superstar could be YOU!\n Win Prizes\n Crazy BIG giveaways playing In It to Win It!\n Brand NEW party dances\n Creative Arts & Crafts sessions
URL:https://www.knightlysfunpark.co.uk/event/crazy-claire-party/2025-05-24/
LOCATION:Knightly’s Sandy Bay Entertainment Centre
CATEGORIES:Family Friendly
ATTACH;FMTTYPE=image/png:https://www.knightlysfunpark.co.uk/wp-content/uploads/2025/07/Crazy-Claire-at-Sandy-Bay-1.png
END:VEVENT
BEGIN:VEVENT
DTSTART;TZID=Europe/London:20250524T140000
DTEND;TZID=Europe/London:20250524T150000
DTSTAMP:20260421T211902
CREATED:20250401T141535Z
LAST-MODIFIED:20260416T095159Z
UID:10006252-1748095200-1748098800@www.knightlysfunpark.co.uk
SUMMARY:Cash Bingo
DESCRIPTION:Join us for a game of cash bingo! Win huge cash prizes for a line or full house. Play out in the garden or inside Knightly’s Bar.
URL:https://www.knightlysfunpark.co.uk/event/cash-bingo/2025-05-24/
LOCATION:Knightly’s Bar
ATTACH;FMTTYPE=image/png:https://www.knightlysfunpark.co.uk/wp-content/uploads/2025/04/cash-bingo-at-Knightlys-Bar.png
END:VEVENT
BEGIN:VEVENT
DTSTART;TZID=Europe/London:20250523T210000
DTEND;TZID=Europe/London:20250523T233000
DTSTAMP:20260421T211902
CREATED:20250114T142415Z
LAST-MODIFIED:20260122T104548Z
UID:10003582-1748034000-1748043000@www.knightlysfunpark.co.uk
SUMMARY:Chris Mac
DESCRIPTION:Get ready to rock with Chris Mac! A brilliant vocalist and musician\, you’re in for a great night!
URL:https://www.knightlysfunpark.co.uk/event/chris-mac/2025-05-23/
LOCATION:Knightly’s Sandy Bay Entertainment Centre
CATEGORIES:Evening Entertainment,Family Friendly
ATTACH;FMTTYPE=image/png:https://www.knightlysfunpark.co.uk/wp-content/uploads/2025/01/Chris-Mac-at-Knightlys-Sandy-Bay.png
END:VEVENT
BEGIN:VEVENT
DTSTART;TZID=Europe/London:20250523T140000
DTEND;TZID=Europe/London:20250523T150000
DTSTAMP:20260421T211902
CREATED:20250401T141535Z
LAST-MODIFIED:20260416T095159Z
UID:10006251-1748008800-1748012400@www.knightlysfunpark.co.uk
SUMMARY:Cash Bingo
DESCRIPTION:Join us for a game of cash bingo! Win huge cash prizes for a line or full house. Play out in the garden or inside Knightly’s Bar.
URL:https://www.knightlysfunpark.co.uk/event/cash-bingo/2025-05-23/
LOCATION:Knightly’s Bar
ATTACH;FMTTYPE=image/png:https://www.knightlysfunpark.co.uk/wp-content/uploads/2025/04/cash-bingo-at-Knightlys-Bar.png
END:VEVENT
BEGIN:VEVENT
DTSTART;TZID=Europe/London:20250522T140000
DTEND;TZID=Europe/London:20250522T150000
DTSTAMP:20260421T211902
CREATED:20250401T141535Z
LAST-MODIFIED:20260416T095159Z
UID:10006250-1747922400-1747926000@www.knightlysfunpark.co.uk
SUMMARY:Cash Bingo
DESCRIPTION:Join us for a game of cash bingo! Win huge cash prizes for a line or full house. Play out in the garden or inside Knightly’s Bar.
URL:https://www.knightlysfunpark.co.uk/event/cash-bingo/2025-05-22/
LOCATION:Knightly’s Bar
ATTACH;FMTTYPE=image/png:https://www.knightlysfunpark.co.uk/wp-content/uploads/2025/04/cash-bingo-at-Knightlys-Bar.png
END:VEVENT
BEGIN:VEVENT
DTSTART;TZID=Europe/London:20250521T140000
DTEND;TZID=Europe/London:20250521T150000
DTSTAMP:20260421T211902
CREATED:20250401T141535Z
LAST-MODIFIED:20260416T095159Z
UID:10006249-1747836000-1747839600@www.knightlysfunpark.co.uk
SUMMARY:Cash Bingo
DESCRIPTION:Join us for a game of cash bingo! Win huge cash prizes for a line or full house. Play out in the garden or inside Knightly’s Bar.
URL:https://www.knightlysfunpark.co.uk/event/cash-bingo/2025-05-21/
LOCATION:Knightly’s Bar
ATTACH;FMTTYPE=image/png:https://www.knightlysfunpark.co.uk/wp-content/uploads/2025/04/cash-bingo-at-Knightlys-Bar.png
END:VEVENT
BEGIN:VEVENT
DTSTART;TZID=Europe/London:20250520T140000
DTEND;TZID=Europe/London:20250520T150000
DTSTAMP:20260421T211902
CREATED:20250401T141535Z
LAST-MODIFIED:20260416T095159Z
UID:10006248-1747749600-1747753200@www.knightlysfunpark.co.uk
SUMMARY:Cash Bingo
DESCRIPTION:Join us for a game of cash bingo! Win huge cash prizes for a line or full house. Play out in the garden or inside Knightly’s Bar.
URL:https://www.knightlysfunpark.co.uk/event/cash-bingo/2025-05-20/
LOCATION:Knightly’s Bar
ATTACH;FMTTYPE=image/png:https://www.knightlysfunpark.co.uk/wp-content/uploads/2025/04/cash-bingo-at-Knightlys-Bar.png
END:VEVENT
END:VCALENDAR