BEGIN:VCALENDAR
VERSION:2.0
PRODID:-//Knightly&#039;s Fun Park Towyn - ECPv6.15.17//NONSGML v1.0//EN
CALSCALE:GREGORIAN
METHOD:PUBLISH
X-ORIGINAL-URL:https://www.knightlysfunpark.co.uk
X-WR-CALDESC:Events for Knightly&#039;s Fun Park Towyn
REFRESH-INTERVAL;VALUE=DURATION:PT1H
X-Robots-Tag:noindex
X-PUBLISHED-TTL:PT1H
BEGIN:VTIMEZONE
TZID:Europe/London
BEGIN:DAYLIGHT
TZOFFSETFROM:+0000
TZOFFSETTO:+0100
TZNAME:BST
DTSTART:20240331T010000
END:DAYLIGHT
BEGIN:STANDARD
TZOFFSETFROM:+0100
TZOFFSETTO:+0000
TZNAME:GMT
DTSTART:20241027T010000
END:STANDARD
BEGIN:DAYLIGHT
TZOFFSETFROM:+0000
TZOFFSETTO:+0100
TZNAME:BST
DTSTART:20250330T010000
END:DAYLIGHT
BEGIN:STANDARD
TZOFFSETFROM:+0100
TZOFFSETTO:+0000
TZNAME:GMT
DTSTART:20251026T010000
END:STANDARD
BEGIN:DAYLIGHT
TZOFFSETFROM:+0000
TZOFFSETTO:+0100
TZNAME:BST
DTSTART:20260329T010000
END:DAYLIGHT
BEGIN:STANDARD
TZOFFSETFROM:+0100
TZOFFSETTO:+0000
TZNAME:GMT
DTSTART:20261025T010000
END:STANDARD
END:VTIMEZONE
BEGIN:VEVENT
DTSTART;TZID=Europe/London:20250719T140000
DTEND;TZID=Europe/London:20250719T150000
DTSTAMP:20260423T133012
CREATED:20250401T141535Z
LAST-MODIFIED:20260416T095159Z
UID:10006308-1752933600-1752937200@www.knightlysfunpark.co.uk
SUMMARY:Cash Bingo
DESCRIPTION:Join us for a game of cash bingo! Win huge cash prizes for a line or full house. Play out in the garden or inside Knightly’s Bar.
URL:https://www.knightlysfunpark.co.uk/event/cash-bingo/2025-07-19/
LOCATION:Knightly’s Bar
ATTACH;FMTTYPE=image/png:https://www.knightlysfunpark.co.uk/wp-content/uploads/2025/04/cash-bingo-at-Knightlys-Bar.png
END:VEVENT
BEGIN:VEVENT
DTSTART;TZID=Europe/London:20250719T150000
DTEND;TZID=Europe/London:20250719T154500
DTSTAMP:20260423T133012
CREATED:20250710T144438Z
LAST-MODIFIED:20250930T130335Z
UID:10005025-1752937200-1752939900@www.knightlysfunpark.co.uk
SUMMARY:Party dances with Stitch
DESCRIPTION:Lets have some fun with Stitch! Join us for disco dancing to all your favourite songs!
URL:https://www.knightlysfunpark.co.uk/event/party-dances-with-stitch/2025-07-19/
LOCATION:Knightly’s Bar
CATEGORIES:Family Friendly
ATTACH;FMTTYPE=image/png:https://www.knightlysfunpark.co.uk/wp-content/uploads/2025/04/Party-Dances-with-Stitch-at-Knightlys-Fun-Park.png
END:VEVENT
BEGIN:VEVENT
DTSTART;TZID=Europe/London:20250719T150000
DTEND;TZID=Europe/London:20250719T170000
DTSTAMP:20260423T133012
CREATED:20250401T135152Z
LAST-MODIFIED:20260317T115118Z
UID:10004283-1752937200-1752944400@www.knightlysfunpark.co.uk
SUMMARY:Crazy Claire Party
DESCRIPTION:Join Crazy Claire at Knightly’s Sandy bay for a brilliant kids party full of fun and games! Free entry and all welcome. \n Game Show \n Kids Talent Show – Towyn’s next superstar could be YOU!\n Win Prizes\n Crazy BIG giveaways playing In It to Win It!\n Brand NEW party dances\n Creative Arts & Crafts sessions
URL:https://www.knightlysfunpark.co.uk/event/crazy-claire-party/2025-07-19/
LOCATION:Knightly’s Sandy Bay Entertainment Centre
CATEGORIES:Family Friendly
ATTACH;FMTTYPE=image/png:https://www.knightlysfunpark.co.uk/wp-content/uploads/2025/07/Crazy-Claire-at-Sandy-Bay-1.png
END:VEVENT
BEGIN:VEVENT
DTSTART;TZID=Europe/London:20250719T150000
DTEND;TZID=Europe/London:20250719T180000
DTSTAMP:20260423T133012
CREATED:20250122T122036Z
LAST-MODIFIED:20260109T143000Z
UID:10004197-1752937200-1752948000@www.knightlysfunpark.co.uk
SUMMARY:The Aim
DESCRIPTION:The Aim will be bringing us a fast & lively show with great personality\, featuring your favourite soul & Motown hits.
URL:https://www.knightlysfunpark.co.uk/event/the-aim/2025-07-19/
LOCATION:Knightly’s Bar
ATTACH;FMTTYPE=image/png:https://www.knightlysfunpark.co.uk/wp-content/uploads/2025/01/The-Aim-trio-at-Knightlys-Bar.png
END:VEVENT
BEGIN:VEVENT
DTSTART;TZID=Europe/London:20250719T203000
DTEND;TZID=Europe/London:20250719T233000
DTSTAMP:20260423T133012
CREATED:20250714T101912Z
LAST-MODIFIED:20250714T101912Z
UID:10005130-1752957000-1752967800@www.knightlysfunpark.co.uk
SUMMARY:Carlo Sax
DESCRIPTION:Carlo Sax is a multi award wining vocalist and saxophonist who has performed across the U.K. Europe and Asia.
URL:https://www.knightlysfunpark.co.uk/event/carlo-sax/
LOCATION:Knightly’s Bar
CATEGORIES:Evening Entertainment
ATTACH;FMTTYPE=image/png:https://www.knightlysfunpark.co.uk/wp-content/uploads/2025/07/carlo-sax-at-Knightlys.png
END:VEVENT
BEGIN:VEVENT
DTSTART;TZID=Europe/London:20250719T210000
DTEND;TZID=Europe/London:20250719T233000
DTSTAMP:20260423T133012
CREATED:20250114T123603Z
LAST-MODIFIED:20250829T101514Z
UID:10003560-1752958800-1752967800@www.knightlysfunpark.co.uk
SUMMARY:Caz McElroy
DESCRIPTION:A fantastic entertainer with an amazing voice\, you’re in for a great night with Caz McElroy!
URL:https://www.knightlysfunpark.co.uk/event/caz-mcelroy/2025-07-19/
LOCATION:Knightly’s Sandy Bay Entertainment Centre
CATEGORIES:Evening Entertainment,Family Friendly
ATTACH;FMTTYPE=image/png:https://www.knightlysfunpark.co.uk/wp-content/uploads/2025/01/caz-mcelroy-sb.png
END:VEVENT
BEGIN:VEVENT
DTSTART;TZID=Europe/London:20250720T130000
DTEND;TZID=Europe/London:20250720T134500
DTSTAMP:20260423T133012
CREATED:20250516T101921Z
LAST-MODIFIED:20251003T103535Z
UID:10005027-1753016400-1753019100@www.knightlysfunpark.co.uk
SUMMARY:Meet Paw Patrol
DESCRIPTION:Give your favourite Paw Patrol pups a big hug and a high five at Knightly’s! Find them strolling around the fairground and outside Knightly’s Bar.
URL:https://www.knightlysfunpark.co.uk/event/meet-paw-patrol-2/2025-07-20/
LOCATION:Knightly’s Fun Park
CATEGORIES:Family Friendly
ATTACH;FMTTYPE=image/jpeg:https://www.knightlysfunpark.co.uk/wp-content/uploads/2024/04/363379669_664953298998537_2372833678835023986_n-e1713363429737.jpg
END:VEVENT
BEGIN:VEVENT
DTSTART;TZID=Europe/London:20250720T140000
DTEND;TZID=Europe/London:20250720T150000
DTSTAMP:20260423T133012
CREATED:20250401T141535Z
LAST-MODIFIED:20260416T095159Z
UID:10006309-1753020000-1753023600@www.knightlysfunpark.co.uk
SUMMARY:Cash Bingo
DESCRIPTION:Join us for a game of cash bingo! Win huge cash prizes for a line or full house. Play out in the garden or inside Knightly’s Bar.
URL:https://www.knightlysfunpark.co.uk/event/cash-bingo/2025-07-20/
LOCATION:Knightly’s Bar
ATTACH;FMTTYPE=image/png:https://www.knightlysfunpark.co.uk/wp-content/uploads/2025/04/cash-bingo-at-Knightlys-Bar.png
END:VEVENT
BEGIN:VEVENT
DTSTART;TZID=Europe/London:20250720T150000
DTEND;TZID=Europe/London:20250720T154500
DTSTAMP:20260423T133012
CREATED:20250516T103344Z
LAST-MODIFIED:20250907T081102Z
UID:10005002-1753023600-1753026300@www.knightlysfunpark.co.uk
SUMMARY:Party Dances with Our Characters
DESCRIPTION:Join us by the stage on the fairground for disco dancing to all your favourite songs with one of our characters!
URL:https://www.knightlysfunpark.co.uk/event/party-dances-with-mascot/2025-07-20/
LOCATION:Knightly’s Fun Park
CATEGORIES:Family Friendly
ATTACH;FMTTYPE=image/png:https://www.knightlysfunpark.co.uk/wp-content/uploads/2024/05/Bluey-Dancy-Party-e1716286014635.png
END:VEVENT
BEGIN:VEVENT
DTSTART;TZID=Europe/London:20250720T150000
DTEND;TZID=Europe/London:20250720T170000
DTSTAMP:20260423T133012
CREATED:20250612T125117Z
LAST-MODIFIED:20260326T113943Z
UID:10004927-1753023600-1753030800@www.knightlysfunpark.co.uk
SUMMARY:Tommy Barron
DESCRIPTION:Tommy Barron is a fantastic performer and entertainer\, singing all styles and genres of music and always gets the crowd ready to party!
URL:https://www.knightlysfunpark.co.uk/event/tommy-barron-2/2025-07-20/
LOCATION:Knightly’s Bar
CATEGORIES:Family Friendly
ATTACH;FMTTYPE=image/png:https://www.knightlysfunpark.co.uk/wp-content/uploads/2025/06/Tommy-Barron-at-Knightlys-Bar.png
END:VEVENT
BEGIN:VEVENT
DTSTART;TZID=Europe/London:20250720T203000
DTEND;TZID=Europe/London:20250720T233000
DTSTAMP:20260423T133012
CREATED:20250612T124251Z
LAST-MODIFIED:20260420T100507Z
UID:10004760-1753043400-1753054200@www.knightlysfunpark.co.uk
SUMMARY:Dean Morter
DESCRIPTION:A Rod Stewart tribute artist\, with an uncannily similar voice to the man himself\, Dean Morter needs to be heard to be believed!
URL:https://www.knightlysfunpark.co.uk/event/dean-morter/2025-07-20/
LOCATION:Knightly’s Bar
ATTACH;FMTTYPE=image/png:https://www.knightlysfunpark.co.uk/wp-content/uploads/2025/06/Dean-Morter-at-Knightlys-Bar.png
END:VEVENT
BEGIN:VEVENT
DTSTART;TZID=Europe/London:20250721T140000
DTEND;TZID=Europe/London:20250721T150000
DTSTAMP:20260423T133012
CREATED:20250401T141535Z
LAST-MODIFIED:20260416T095159Z
UID:10006310-1753106400-1753110000@www.knightlysfunpark.co.uk
SUMMARY:Cash Bingo
DESCRIPTION:Join us for a game of cash bingo! Win huge cash prizes for a line or full house. Play out in the garden or inside Knightly’s Bar.
URL:https://www.knightlysfunpark.co.uk/event/cash-bingo/2025-07-21/
LOCATION:Knightly’s Bar
ATTACH;FMTTYPE=image/png:https://www.knightlysfunpark.co.uk/wp-content/uploads/2025/04/cash-bingo-at-Knightlys-Bar.png
END:VEVENT
BEGIN:VEVENT
DTSTART;TZID=Europe/London:20250721T150000
DTEND;TZID=Europe/London:20250721T154500
DTSTAMP:20260423T133012
CREATED:20250401T133341Z
LAST-MODIFIED:20250930T124057Z
UID:10004940-1753110000-1753112700@www.knightlysfunpark.co.uk
SUMMARY:Party Dances with Paw Patrol
DESCRIPTION:Join Paw Patrol as we party to all your favourite disco dancing hits!
URL:https://www.knightlysfunpark.co.uk/event/family-party-dances-with-paw-patrol/2025-07-21/
LOCATION:Knightly’s Bar
CATEGORIES:Family Friendly
ATTACH;FMTTYPE=image/png:https://www.knightlysfunpark.co.uk/wp-content/uploads/2025/04/paw-patrol-meet-and-greet.png
END:VEVENT
BEGIN:VEVENT
DTSTART;TZID=Europe/London:20250721T190000
DTEND;TZID=Europe/London:20250721T210000
DTSTAMP:20260423T133012
CREATED:20250710T120755Z
LAST-MODIFIED:20260317T113953Z
UID:10004896-1753124400-1753131600@www.knightlysfunpark.co.uk
SUMMARY:Crazy Claire Kids Party
DESCRIPTION:Join us in the Outdoor Arena at Knightly’s Bar for loads of fun and games with Crazy Claire! \n\n Game Show \n Kids Talent Show – Towyn’s next superstar could be YOU!\n Win Prizes\n Crazy BIG giveaways playing In It to Win It!\n Brand NEW party dances\n Creative Arts & Crafts sessions
URL:https://www.knightlysfunpark.co.uk/event/crazy-claire-kids-party/2025-07-21/
LOCATION:Knightly’s Bar
CATEGORIES:Family Friendly
ATTACH;FMTTYPE=image/png:https://www.knightlysfunpark.co.uk/wp-content/uploads/2025/07/Crazy-Claire-at-Knightlys-Bar.png
END:VEVENT
BEGIN:VEVENT
DTSTART;TZID=Europe/London:20250721T203000
DTEND;TZID=Europe/London:20250721T233000
DTSTAMP:20260423T133012
CREATED:20250519T104314Z
LAST-MODIFIED:20260413T115658Z
UID:10005158-1753129800-1753140600@www.knightlysfunpark.co.uk
SUMMARY:Lipztik
DESCRIPTION:Two talented performers Caz McElroy & Jade Courtney make up duo\, Lipztik! Pairing powerhouse vocals & infectious energy\, LipZtik brings all the glamour and fun 🫦
URL:https://www.knightlysfunpark.co.uk/event/lipztick/2025-07-21/
LOCATION:Knightly’s Bar
CATEGORIES:Family Friendly
ATTACH;FMTTYPE=image/png:https://www.knightlysfunpark.co.uk/wp-content/uploads/2025/05/Lipztik-at-Knightlys-Bar.png
END:VEVENT
BEGIN:VEVENT
DTSTART;TZID=Europe/London:20250722T080000
DTEND;TZID=Europe/London:20250722T170000
DTSTAMP:20260423T133012
CREATED:20250722T151157Z
LAST-MODIFIED:20251020T121751Z
UID:10005430-1753171200-1753203600@www.knightlysfunpark.co.uk
SUMMARY:Kids Disco & Prize Bingo
DESCRIPTION:Join us for cash bingo at 7 PM\, our Mini Disco at 7:45 PM\,  family Prize Bingo at 8:15 PM\,  and Party Dances at 8:45 PM \nWe will be joined by our different characters including Stitch & Paw Patrol!
URL:https://www.knightlysfunpark.co.uk/event/kids-disco-prize-bingo/2025-07-22/
LOCATION:Knightly’s Sandy Bay Entertainment Centre
CATEGORIES:Evening Entertainment,Family Friendly
ATTACH;FMTTYPE=image/jpeg:https://www.knightlysfunpark.co.uk/wp-content/uploads/2025/05/paw-patrol-e1748256881967.jpg
END:VEVENT
BEGIN:VEVENT
DTSTART;TZID=Europe/London:20250722T130000
DTEND;TZID=Europe/London:20250722T134500
DTSTAMP:20260423T133012
CREATED:20250516T102515Z
LAST-MODIFIED:20250516T102515Z
UID:10004545-1753189200-1753191900@www.knightlysfunpark.co.uk
SUMMARY:Meet Stitch
DESCRIPTION:Meet your favourite\, friendly alien\, Stitch at Knightly’s Fun Park! Snap a photo and give him a high-five as he visits the fairground and Knightly’s Bar!
URL:https://www.knightlysfunpark.co.uk/event/meet-stitch-3/
LOCATION:Knightly’s Fun Park
CATEGORIES:Family Friendly
ATTACH;FMTTYPE=image/png:https://www.knightlysfunpark.co.uk/wp-content/uploads/2025/04/Stitch-at-Knightlys-Fun-Park.png
END:VEVENT
BEGIN:VEVENT
DTSTART;TZID=Europe/London:20250722T130000
DTEND;TZID=Europe/London:20250722T140000
DTSTAMP:20260423T133012
CREATED:20250710T161314Z
LAST-MODIFIED:20251003T104624Z
UID:10004546-1753189200-1753192800@www.knightlysfunpark.co.uk
SUMMARY:Meet Stitch
DESCRIPTION:Meet your favourite\, friendly alien\, Stitch at Knightly’s Fun Park! Snap a photo and give him a high-five as he visits the fairground and Knightly’s Bar!
URL:https://www.knightlysfunpark.co.uk/event/meet-stitch-3-2/2025-07-22/
LOCATION:Knightly’s Fun Park
CATEGORIES:Family Friendly
ATTACH;FMTTYPE=image/png:https://www.knightlysfunpark.co.uk/wp-content/uploads/2025/04/Stitch-at-Knightlys-Fun-Park.png
END:VEVENT
BEGIN:VEVENT
DTSTART;TZID=Europe/London:20250722T140000
DTEND;TZID=Europe/London:20250722T150000
DTSTAMP:20260423T133012
CREATED:20250401T141535Z
LAST-MODIFIED:20260416T095159Z
UID:10006311-1753192800-1753196400@www.knightlysfunpark.co.uk
SUMMARY:Cash Bingo
DESCRIPTION:Join us for a game of cash bingo! Win huge cash prizes for a line or full house. Play out in the garden or inside Knightly’s Bar.
URL:https://www.knightlysfunpark.co.uk/event/cash-bingo/2025-07-22/
LOCATION:Knightly’s Bar
ATTACH;FMTTYPE=image/png:https://www.knightlysfunpark.co.uk/wp-content/uploads/2025/04/cash-bingo-at-Knightlys-Bar.png
END:VEVENT
BEGIN:VEVENT
DTSTART;TZID=Europe/London:20250722T170000
DTEND;TZID=Europe/London:20250722T190000
DTSTAMP:20260423T133012
CREATED:20250414T165347Z
LAST-MODIFIED:20260310T140545Z
UID:10004290-1753203600-1753210800@www.knightlysfunpark.co.uk
SUMMARY:Scaly Safari Show
DESCRIPTION:Get up close with lots of creepy crawlies and reptiles with Scaly Safari at Knightly’s Sandy Bay! 🐛🦎🕷 \nFree entry\, all welcome!
URL:https://www.knightlysfunpark.co.uk/event/scaly-safari-show/2025-07-22/
LOCATION:Knightly’s Sandy Bay Entertainment Centre
CATEGORIES:Family Friendly
ATTACH;FMTTYPE=image/png:https://www.knightlysfunpark.co.uk/wp-content/uploads/2025/04/20250414_175140_0000.png
END:VEVENT
BEGIN:VEVENT
DTSTART;TZID=Europe/London:20250723T060000
DTEND;TZID=Europe/London:20250723T060000
DTSTAMP:20260423T133012
CREATED:20250722T151157Z
LAST-MODIFIED:20251020T121751Z
UID:10005586-1753250400-1753250400@www.knightlysfunpark.co.uk
SUMMARY:Kids Disco & Prize Bingo
DESCRIPTION:Join us for cash bingo at 7 PM\, our Mini Disco at 7:45 PM\,  family Prize Bingo at 8:15 PM\,  and Party Dances at 8:45 PM \nWe will be joined by our different characters including Stitch & Paw Patrol!
URL:https://www.knightlysfunpark.co.uk/event/kids-disco-prize-bingo/2025-07-23/
LOCATION:Knightly’s Sandy Bay Entertainment Centre
CATEGORIES:Evening Entertainment,Family Friendly
ATTACH;FMTTYPE=image/jpeg:https://www.knightlysfunpark.co.uk/wp-content/uploads/2025/05/paw-patrol-e1748256881967.jpg
END:VEVENT
BEGIN:VEVENT
DTSTART;TZID=Europe/London:20250723T100000
DTEND;TZID=Europe/London:20250723T110000
DTSTAMP:20260423T133012
CREATED:20250715T165604Z
LAST-MODIFIED:20250715T165604Z
UID:10005133-1753264800-1753268400@www.knightlysfunpark.co.uk
SUMMARY:Character Breakfast
DESCRIPTION:Looking for a magical morning treat for the kids this summer? Join us every Wednesday and Sunday from 10–11 AM throughout the summer holidays for our Character Breakfast – the perfect way to meet your favourite characters without the crowds! 🌈✨ \n👧 Just £5 per child includes:\n🥞 A yummy pancake breakfast with Nutella & fruit🥤 A drink📸 One-on-one time with characters🎲 Fun\, games & dancing📷 Photo opportunities galore! \n🌟 Wednesdays: Meet Bluey and a member of Paw Patrol🌟 Sundays: Meet Stitch and a member of Paw Patrol \nAdults can relax and enjoy the morning too\, with breakfast baps and hot drinks available to purchase. ☕🥓 \n🎟️ Only 20 spaces per session! We’re keeping it small so your little ones get quality time with the characters – no rushing\, no crowds\, just fun! \n📅 Pre-booking is essential
URL:https://www.knightlysfunpark.co.uk/event/character-breakfast/
LOCATION:Knightly’s Sandy Bay Entertainment Centre
CATEGORIES:Family Friendly
ATTACH;FMTTYPE=image/png:https://www.knightlysfunpark.co.uk/wp-content/uploads/2025/07/3-e1752598466963.png
END:VEVENT
BEGIN:VEVENT
DTSTART;TZID=Europe/London:20250723T120000
DTEND;TZID=Europe/London:20250723T140000
DTSTAMP:20260423T133012
CREATED:20250401T141008Z
LAST-MODIFIED:20250519T122737Z
UID:10004396-1753272000-1753279200@www.knightlysfunpark.co.uk
SUMMARY:Princess Party
DESCRIPTION:👑✨ Join in games\, singing & dancing with a real Disney Princess! ✨👑📸 Snap a magical photo & get a sparkly ✨ glitter tattoo too!🕛 From 12–2 PM & 3–5 PM at Knightly’s Bar \n🌟 Princess Party Dates:📅 28th May – 🌹 Belle📅 23rd July – ❄️ Elsa📅 30th July – 👑 Anna📅 6th August – 🌸 Rapunzel📅 13th August – 🧜‍♀️ Ariel📅 20th August – 🌹 Belle📅 27th August – ❄️ Elsa \n🎉 A royal day out for your little prince or princess! Don’t forget your tiaras! 👸🤴
URL:https://www.knightlysfunpark.co.uk/event/princess-party-2/2025-07-23/1/
LOCATION:Knightly’s Fun Park
CATEGORIES:Family Friendly
ATTACH;FMTTYPE=image/png:https://www.knightlysfunpark.co.uk/wp-content/uploads/2024/07/Untitled-design-34.png
END:VEVENT
BEGIN:VEVENT
DTSTART;TZID=Europe/London:20250723T140000
DTEND;TZID=Europe/London:20250723T150000
DTSTAMP:20260423T133012
CREATED:20250401T141535Z
LAST-MODIFIED:20260416T095159Z
UID:10006312-1753279200-1753282800@www.knightlysfunpark.co.uk
SUMMARY:Cash Bingo
DESCRIPTION:Join us for a game of cash bingo! Win huge cash prizes for a line or full house. Play out in the garden or inside Knightly’s Bar.
URL:https://www.knightlysfunpark.co.uk/event/cash-bingo/2025-07-23/
LOCATION:Knightly’s Bar
ATTACH;FMTTYPE=image/png:https://www.knightlysfunpark.co.uk/wp-content/uploads/2025/04/cash-bingo-at-Knightlys-Bar.png
END:VEVENT
BEGIN:VEVENT
DTSTART;TZID=Europe/London:20250723T150000
DTEND;TZID=Europe/London:20250723T154500
DTSTAMP:20260423T133012
CREATED:20250710T135602Z
LAST-MODIFIED:20250725T172333Z
UID:10004947-1753282800-1753285500@www.knightlysfunpark.co.uk
SUMMARY:Meet Sully
DESCRIPTION:Come along and meet the big blue friendly monster\, Sully!
URL:https://www.knightlysfunpark.co.uk/event/meet-sully/2025-07-23/
LOCATION:Knightly’s Bar
CATEGORIES:Family Friendly
ATTACH;FMTTYPE=image/png:https://www.knightlysfunpark.co.uk/wp-content/uploads/2025/07/Sully-meet-and-greet.png
END:VEVENT
BEGIN:VEVENT
DTSTART;TZID=Europe/London:20250723T150000
DTEND;TZID=Europe/London:20250723T170000
DTSTAMP:20260423T133012
CREATED:20250401T141008Z
LAST-MODIFIED:20250519T122737Z
UID:10004397-1753282800-1753290000@www.knightlysfunpark.co.uk
SUMMARY:Princess Party
DESCRIPTION:👑✨ Join in games\, singing & dancing with a real Disney Princess! ✨👑📸 Snap a magical photo & get a sparkly ✨ glitter tattoo too!🕛 From 12–2 PM & 3–5 PM at Knightly’s Bar \n🌟 Princess Party Dates:📅 28th May – 🌹 Belle📅 23rd July – ❄️ Elsa📅 30th July – 👑 Anna📅 6th August – 🌸 Rapunzel📅 13th August – 🧜‍♀️ Ariel📅 20th August – 🌹 Belle📅 27th August – ❄️ Elsa \n🎉 A royal day out for your little prince or princess! Don’t forget your tiaras! 👸🤴
URL:https://www.knightlysfunpark.co.uk/event/princess-party-2/2025-07-23/2/
LOCATION:Knightly’s Fun Park
CATEGORIES:Family Friendly
ATTACH;FMTTYPE=image/png:https://www.knightlysfunpark.co.uk/wp-content/uploads/2024/07/Untitled-design-34.png
END:VEVENT
BEGIN:VEVENT
DTSTART;TZID=Europe/London:20250723T180000
DTEND;TZID=Europe/London:20250723T220000
DTSTAMP:20260423T133012
CREATED:20250401T135856Z
LAST-MODIFIED:20260330T124506Z
UID:10004117-1753293600-1753308000@www.knightlysfunpark.co.uk
SUMMARY:Wrestling Show
DESCRIPTION:Get ready for an electrifying showdown as Basix Pro Wrestling takes center stage at Knightly’s Fun Park! You’re in for a treat when you come to watch some of the UK’s most professional wrestlers who know how to deliver exceptional family entertainment. Don’t miss this epic display of athleticism and excitement! \n£3 per person. Gates open at 6 PM\, show starts at 8 PM.
URL:https://www.knightlysfunpark.co.uk/event/wrestling-show/2025-07-23/
LOCATION:Knightly’s Bar
CATEGORIES:Family Friendly
ATTACH;FMTTYPE=image/png:https://www.knightlysfunpark.co.uk/wp-content/uploads/2025/04/2026.png
END:VEVENT
BEGIN:VEVENT
DTSTART;TZID=Europe/London:20250723T203000
DTEND;TZID=Europe/London:20250723T233000
DTSTAMP:20260423T133012
CREATED:20250122T133411Z
LAST-MODIFIED:20260415T123457Z
UID:10004427-1753302600-1753313400@www.knightlysfunpark.co.uk
SUMMARY:Andy Otley
DESCRIPTION:One of the UK’s leading and most in demand singers\, Andy Otley is an exceptionally talented performer with a superb voice.\n\n\n\n 
URL:https://www.knightlysfunpark.co.uk/event/andy-otley/2025-07-23/
LOCATION:Knightly’s Bar
ATTACH;FMTTYPE=image/png:https://www.knightlysfunpark.co.uk/wp-content/uploads/2025/01/Andy-Otley-at-Knightlys-Bar.png
END:VEVENT
BEGIN:VEVENT
DTSTART;TZID=Europe/London:20250724T130000
DTEND;TZID=Europe/London:20250724T134500
DTSTAMP:20260423T133012
CREATED:20250516T101921Z
LAST-MODIFIED:20251003T103535Z
UID:10004504-1753362000-1753364700@www.knightlysfunpark.co.uk
SUMMARY:Meet Paw Patrol
DESCRIPTION:Give your favourite Paw Patrol pups a big hug and a high five at Knightly’s! Find them strolling around the fairground and outside Knightly’s Bar.
URL:https://www.knightlysfunpark.co.uk/event/meet-paw-patrol-2/2025-07-24/
LOCATION:Knightly’s Fun Park
CATEGORIES:Family Friendly
ATTACH;FMTTYPE=image/jpeg:https://www.knightlysfunpark.co.uk/wp-content/uploads/2024/04/363379669_664953298998537_2372833678835023986_n-e1713363429737.jpg
END:VEVENT
BEGIN:VEVENT
DTSTART;TZID=Europe/London:20250724T140000
DTEND;TZID=Europe/London:20250724T150000
DTSTAMP:20260423T133012
CREATED:20250401T141535Z
LAST-MODIFIED:20260416T095159Z
UID:10006313-1753365600-1753369200@www.knightlysfunpark.co.uk
SUMMARY:Cash Bingo
DESCRIPTION:Join us for a game of cash bingo! Win huge cash prizes for a line or full house. Play out in the garden or inside Knightly’s Bar.
URL:https://www.knightlysfunpark.co.uk/event/cash-bingo/2025-07-24/
LOCATION:Knightly’s Bar
ATTACH;FMTTYPE=image/png:https://www.knightlysfunpark.co.uk/wp-content/uploads/2025/04/cash-bingo-at-Knightlys-Bar.png
END:VEVENT
END:VCALENDAR