BEGIN:VCALENDAR
VERSION:2.0
PRODID:-//Knightly&#039;s Fun Park Towyn - ECPv6.15.17//NONSGML v1.0//EN
CALSCALE:GREGORIAN
METHOD:PUBLISH
X-ORIGINAL-URL:https://www.knightlysfunpark.co.uk
X-WR-CALDESC:Events for Knightly&#039;s Fun Park Towyn
REFRESH-INTERVAL;VALUE=DURATION:PT1H
X-Robots-Tag:noindex
X-PUBLISHED-TTL:PT1H
BEGIN:VTIMEZONE
TZID:Europe/London
BEGIN:DAYLIGHT
TZOFFSETFROM:+0000
TZOFFSETTO:+0100
TZNAME:BST
DTSTART:20240331T010000
END:DAYLIGHT
BEGIN:STANDARD
TZOFFSETFROM:+0100
TZOFFSETTO:+0000
TZNAME:GMT
DTSTART:20241027T010000
END:STANDARD
BEGIN:DAYLIGHT
TZOFFSETFROM:+0000
TZOFFSETTO:+0100
TZNAME:BST
DTSTART:20250330T010000
END:DAYLIGHT
BEGIN:STANDARD
TZOFFSETFROM:+0100
TZOFFSETTO:+0000
TZNAME:GMT
DTSTART:20251026T010000
END:STANDARD
BEGIN:DAYLIGHT
TZOFFSETFROM:+0000
TZOFFSETTO:+0100
TZNAME:BST
DTSTART:20260329T010000
END:DAYLIGHT
BEGIN:STANDARD
TZOFFSETFROM:+0100
TZOFFSETTO:+0000
TZNAME:GMT
DTSTART:20261025T010000
END:STANDARD
END:VTIMEZONE
BEGIN:VEVENT
DTSTART;TZID=Europe/London:20250701T140000
DTEND;TZID=Europe/London:20250701T150000
DTSTAMP:20260419T175333
CREATED:20250401T141535Z
LAST-MODIFIED:20260416T095159Z
UID:10006290-1751378400-1751382000@www.knightlysfunpark.co.uk
SUMMARY:Cash Bingo
DESCRIPTION:Join us for a game of cash bingo! Win huge cash prizes for a line or full house. Play out in the garden or inside Knightly’s Bar.
URL:https://www.knightlysfunpark.co.uk/event/cash-bingo/2025-07-01/
LOCATION:Knightly’s Bar
ATTACH;FMTTYPE=image/png:https://www.knightlysfunpark.co.uk/wp-content/uploads/2025/04/cash-bingo-at-Knightlys-Bar.png
END:VEVENT
BEGIN:VEVENT
DTSTART;TZID=Europe/London:20250702T140000
DTEND;TZID=Europe/London:20250702T150000
DTSTAMP:20260419T175333
CREATED:20250401T141535Z
LAST-MODIFIED:20260416T095159Z
UID:10006291-1751464800-1751468400@www.knightlysfunpark.co.uk
SUMMARY:Cash Bingo
DESCRIPTION:Join us for a game of cash bingo! Win huge cash prizes for a line or full house. Play out in the garden or inside Knightly’s Bar.
URL:https://www.knightlysfunpark.co.uk/event/cash-bingo/2025-07-02/
LOCATION:Knightly’s Bar
ATTACH;FMTTYPE=image/png:https://www.knightlysfunpark.co.uk/wp-content/uploads/2025/04/cash-bingo-at-Knightlys-Bar.png
END:VEVENT
BEGIN:VEVENT
DTSTART;TZID=Europe/London:20250702T203000
DTEND;TZID=Europe/London:20250702T233000
DTSTAMP:20260419T175333
CREATED:20250508T121715Z
LAST-MODIFIED:20250627T090102Z
UID:10004835-1751488200-1751499000@www.knightlysfunpark.co.uk
SUMMARY:Sheila Black
DESCRIPTION:Get ready for a fantastic night of live music with incredible vocalist & performer\, Sheila Black at Knightly’s Bar!
URL:https://www.knightlysfunpark.co.uk/event/sheila/2025-07-02/
LOCATION:Knightly’s Bar
CATEGORIES:Evening Entertainment
ATTACH;FMTTYPE=image/png:https://www.knightlysfunpark.co.uk/wp-content/uploads/2025/05/Sheila-Black.png
END:VEVENT
BEGIN:VEVENT
DTSTART;TZID=Europe/London:20250703T140000
DTEND;TZID=Europe/London:20250703T150000
DTSTAMP:20260419T175333
CREATED:20250401T141535Z
LAST-MODIFIED:20260416T095159Z
UID:10006292-1751551200-1751554800@www.knightlysfunpark.co.uk
SUMMARY:Cash Bingo
DESCRIPTION:Join us for a game of cash bingo! Win huge cash prizes for a line or full house. Play out in the garden or inside Knightly’s Bar.
URL:https://www.knightlysfunpark.co.uk/event/cash-bingo/2025-07-03/
LOCATION:Knightly’s Bar
ATTACH;FMTTYPE=image/png:https://www.knightlysfunpark.co.uk/wp-content/uploads/2025/04/cash-bingo-at-Knightlys-Bar.png
END:VEVENT
BEGIN:VEVENT
DTSTART;TZID=Europe/London:20250703T190000
DTEND;TZID=Europe/London:20250703T200000
DTSTAMP:20260419T175333
CREATED:20250520T142640Z
LAST-MODIFIED:20260317T111410Z
UID:10004912-1751569200-1751572800@www.knightlysfunpark.co.uk
SUMMARY:Blippi
DESCRIPTION:Don’t miss your chance to meet Blippi at Knightly’s Fun Park! Blippi will be on-site to greet fans\, take photos\, and spread joy with his infectious energy. Find him at Knightly’s Bar\, on the fairground and in Knightly’s Sandy Bay.
URL:https://www.knightlysfunpark.co.uk/event/blippi/2025-07-03/
LOCATION:Knightly’s Fun Park
CATEGORIES:Family Friendly
ATTACH;FMTTYPE=image/png:https://www.knightlysfunpark.co.uk/wp-content/uploads/2025/01/blippi-kb.png
END:VEVENT
BEGIN:VEVENT
DTSTART;TZID=Europe/London:20250704T140000
DTEND;TZID=Europe/London:20250704T150000
DTSTAMP:20260419T175333
CREATED:20250401T141535Z
LAST-MODIFIED:20260416T095159Z
UID:10006293-1751637600-1751641200@www.knightlysfunpark.co.uk
SUMMARY:Cash Bingo
DESCRIPTION:Join us for a game of cash bingo! Win huge cash prizes for a line or full house. Play out in the garden or inside Knightly’s Bar.
URL:https://www.knightlysfunpark.co.uk/event/cash-bingo/2025-07-04/
LOCATION:Knightly’s Bar
ATTACH;FMTTYPE=image/png:https://www.knightlysfunpark.co.uk/wp-content/uploads/2025/04/cash-bingo-at-Knightlys-Bar.png
END:VEVENT
BEGIN:VEVENT
DTSTART;TZID=Europe/London:20250704T210000
DTEND;TZID=Europe/London:20250704T233000
DTSTAMP:20260419T175333
CREATED:20250114T152901Z
LAST-MODIFIED:20250114T152901Z
UID:10003605-1751662800-1751671800@www.knightlysfunpark.co.uk
SUMMARY:Kim Morton
DESCRIPTION:Join us at Knightly’s Sandy Bay for an unforgettable evening of live music featuring the talented Kim Morton. Enjoy her captivating vocals and vibrant performance in a family-friendly atmosphere!
URL:https://www.knightlysfunpark.co.uk/event/kim-morton/2025-07-04/
LOCATION:Knightly’s Sandy Bay Entertainment Centre
CATEGORIES:Evening Entertainment,Family Friendly
ATTACH;FMTTYPE=image/png:https://www.knightlysfunpark.co.uk/wp-content/uploads/2025/01/kim-morton-sb.png
END:VEVENT
BEGIN:VEVENT
DTSTART;TZID=Europe/London:20250705T130000
DTEND;TZID=Europe/London:20250705T134500
DTSTAMP:20260419T175333
CREATED:20250516T102839Z
LAST-MODIFIED:20250930T125321Z
UID:10004840-1751720400-1751723100@www.knightlysfunpark.co.uk
SUMMARY:Meet Bubbles the T Rex
DESCRIPTION:Grab a photo with our super friendly T-Rex\, Bubbles! Bubbles will be walking along Sandbank Road\, come down and say hello!
URL:https://www.knightlysfunpark.co.uk/event/meet-bubbles-the-t-rex-2/2025-07-05/1/
LOCATION:Knightly’s Fun Park
CATEGORIES:Family Friendly
ATTACH;FMTTYPE=image/jpeg:https://www.knightlysfunpark.co.uk/wp-content/uploads/2024/04/366918569_671122155048318_3424394489737395244_n-e1713363800787.jpg
END:VEVENT
BEGIN:VEVENT
DTSTART;TZID=Europe/London:20250705T140000
DTEND;TZID=Europe/London:20250705T150000
DTSTAMP:20260419T175333
CREATED:20250401T141535Z
LAST-MODIFIED:20260416T095159Z
UID:10006294-1751724000-1751727600@www.knightlysfunpark.co.uk
SUMMARY:Cash Bingo
DESCRIPTION:Join us for a game of cash bingo! Win huge cash prizes for a line or full house. Play out in the garden or inside Knightly’s Bar.
URL:https://www.knightlysfunpark.co.uk/event/cash-bingo/2025-07-05/
LOCATION:Knightly’s Bar
ATTACH;FMTTYPE=image/png:https://www.knightlysfunpark.co.uk/wp-content/uploads/2025/04/cash-bingo-at-Knightlys-Bar.png
END:VEVENT
BEGIN:VEVENT
DTSTART;TZID=Europe/London:20250705T150000
DTEND;TZID=Europe/London:20250705T154500
DTSTAMP:20260419T175333
CREATED:20250516T102839Z
LAST-MODIFIED:20250930T125321Z
UID:10004841-1751727600-1751730300@www.knightlysfunpark.co.uk
SUMMARY:Meet Bubbles the T Rex
DESCRIPTION:Grab a photo with our super friendly T-Rex\, Bubbles! Bubbles will be walking along Sandbank Road\, come down and say hello!
URL:https://www.knightlysfunpark.co.uk/event/meet-bubbles-the-t-rex-2/2025-07-05/2/
LOCATION:Knightly’s Fun Park
CATEGORIES:Family Friendly
ATTACH;FMTTYPE=image/jpeg:https://www.knightlysfunpark.co.uk/wp-content/uploads/2024/04/366918569_671122155048318_3424394489737395244_n-e1713363800787.jpg
END:VEVENT
BEGIN:VEVENT
DTSTART;TZID=Europe/London:20250705T150000
DTEND;TZID=Europe/London:20250705T170000
DTSTAMP:20260419T175333
CREATED:20250506T091947Z
LAST-MODIFIED:20260413T120749Z
UID:10004408-1751727600-1751734800@www.knightlysfunpark.co.uk
SUMMARY:Jade Courtney
DESCRIPTION:Jade Courtney is live on stage at Knightly’s Bar! Enjoy her lively performance\, perfect for an afternoon of entertainment for the whole family.
URL:https://www.knightlysfunpark.co.uk/event/jade-courtney-2/2025-07-05/
LOCATION:Knightly’s Bar
CATEGORIES:Family Friendly
ATTACH;FMTTYPE=image/png:https://www.knightlysfunpark.co.uk/wp-content/uploads/2025/05/jem-brent-at-Knightlys-Bar_20260413_130540_0000.png
END:VEVENT
BEGIN:VEVENT
DTSTART;TZID=Europe/London:20250705T203000
DTEND;TZID=Europe/London:20250705T233000
DTSTAMP:20260419T175333
CREATED:20250122T132016Z
LAST-MODIFIED:20260119T103318Z
UID:10004240-1751747400-1751758200@www.knightlysfunpark.co.uk
SUMMARY:Kennie J
DESCRIPTION:A brilliant vocalist and true entertainer\, we’re in for a great night with Kennie J at Knightly’s Bar! Cash bingo kicks off from 8:30 PM.
URL:https://www.knightlysfunpark.co.uk/event/kennie-j/2025-07-05/
LOCATION:Knightly’s Bar
CATEGORIES:Evening Entertainment
ATTACH;FMTTYPE=image/png:https://www.knightlysfunpark.co.uk/wp-content/uploads/2025/01/Kennie-J-at-Knightlys-Bar.png
END:VEVENT
BEGIN:VEVENT
DTSTART;TZID=Europe/London:20250705T210000
DTEND;TZID=Europe/London:20250705T233000
DTSTAMP:20260419T175333
CREATED:20250114T114623Z
LAST-MODIFIED:20260122T102059Z
UID:10003551-1751749200-1751758200@www.knightlysfunpark.co.uk
SUMMARY:Telstar
DESCRIPTION:Join us for an unforgettable evening of live music featuring the incredible Telstar. Enjoy an entertaining performance in a family-friendly atmosphere.
URL:https://www.knightlysfunpark.co.uk/event/telstar/2025-07-05/
LOCATION:Knightly’s Sandy Bay Entertainment Centre
CATEGORIES:Evening Entertainment,Family Friendly
ATTACH;FMTTYPE=image/png:https://www.knightlysfunpark.co.uk/wp-content/uploads/2025/01/Telstar-at-Knightlys-Sandy-Bay.png
END:VEVENT
BEGIN:VEVENT
DTSTART;TZID=Europe/London:20250706T140000
DTEND;TZID=Europe/London:20250706T150000
DTSTAMP:20260419T175333
CREATED:20250401T141535Z
LAST-MODIFIED:20260416T095159Z
UID:10006295-1751810400-1751814000@www.knightlysfunpark.co.uk
SUMMARY:Cash Bingo
DESCRIPTION:Join us for a game of cash bingo! Win huge cash prizes for a line or full house. Play out in the garden or inside Knightly’s Bar.
URL:https://www.knightlysfunpark.co.uk/event/cash-bingo/2025-07-06/
LOCATION:Knightly’s Bar
ATTACH;FMTTYPE=image/png:https://www.knightlysfunpark.co.uk/wp-content/uploads/2025/04/cash-bingo-at-Knightlys-Bar.png
END:VEVENT
BEGIN:VEVENT
DTSTART;TZID=Europe/London:20250706T150000
DTEND;TZID=Europe/London:20250706T233000
DTSTAMP:20260419T175333
CREATED:20250704T110345Z
LAST-MODIFIED:20250704T110345Z
UID:10004878-1751814000-1751844600@www.knightlysfunpark.co.uk
SUMMARY:Hefin & Friends Charity Event
DESCRIPTION:Join us for a full day of live entertainment with the UK’s top cabaret acts\, and huge raffle prizes to be won! All in aid of North Wales Air Ambulance and the Osborne Trust.
URL:https://www.knightlysfunpark.co.uk/event/hefin-friends-charity-event/
LOCATION:Knightly’s Bar
ATTACH;FMTTYPE=image/png:https://www.knightlysfunpark.co.uk/wp-content/uploads/2025/07/hefin-roberts-charity-day-1.png
END:VEVENT
BEGIN:VEVENT
DTSTART;TZID=Europe/London:20250707T140000
DTEND;TZID=Europe/London:20250707T150000
DTSTAMP:20260419T175333
CREATED:20250401T141535Z
LAST-MODIFIED:20260416T095159Z
UID:10006296-1751896800-1751900400@www.knightlysfunpark.co.uk
SUMMARY:Cash Bingo
DESCRIPTION:Join us for a game of cash bingo! Win huge cash prizes for a line or full house. Play out in the garden or inside Knightly’s Bar.
URL:https://www.knightlysfunpark.co.uk/event/cash-bingo/2025-07-07/
LOCATION:Knightly’s Bar
ATTACH;FMTTYPE=image/png:https://www.knightlysfunpark.co.uk/wp-content/uploads/2025/04/cash-bingo-at-Knightlys-Bar.png
END:VEVENT
BEGIN:VEVENT
DTSTART;TZID=Europe/London:20250708T140000
DTEND;TZID=Europe/London:20250708T150000
DTSTAMP:20260419T175333
CREATED:20250401T141535Z
LAST-MODIFIED:20260416T095159Z
UID:10006297-1751983200-1751986800@www.knightlysfunpark.co.uk
SUMMARY:Cash Bingo
DESCRIPTION:Join us for a game of cash bingo! Win huge cash prizes for a line or full house. Play out in the garden or inside Knightly’s Bar.
URL:https://www.knightlysfunpark.co.uk/event/cash-bingo/2025-07-08/
LOCATION:Knightly’s Bar
ATTACH;FMTTYPE=image/png:https://www.knightlysfunpark.co.uk/wp-content/uploads/2025/04/cash-bingo-at-Knightlys-Bar.png
END:VEVENT
BEGIN:VEVENT
DTSTART;TZID=Europe/London:20250709T140000
DTEND;TZID=Europe/London:20250709T150000
DTSTAMP:20260419T175333
CREATED:20250401T141535Z
LAST-MODIFIED:20260416T095159Z
UID:10006298-1752069600-1752073200@www.knightlysfunpark.co.uk
SUMMARY:Cash Bingo
DESCRIPTION:Join us for a game of cash bingo! Win huge cash prizes for a line or full house. Play out in the garden or inside Knightly’s Bar.
URL:https://www.knightlysfunpark.co.uk/event/cash-bingo/2025-07-09/
LOCATION:Knightly’s Bar
ATTACH;FMTTYPE=image/png:https://www.knightlysfunpark.co.uk/wp-content/uploads/2025/04/cash-bingo-at-Knightlys-Bar.png
END:VEVENT
BEGIN:VEVENT
DTSTART;TZID=Europe/London:20250710T140000
DTEND;TZID=Europe/London:20250710T150000
DTSTAMP:20260419T175333
CREATED:20250401T141535Z
LAST-MODIFIED:20260416T095159Z
UID:10006299-1752156000-1752159600@www.knightlysfunpark.co.uk
SUMMARY:Cash Bingo
DESCRIPTION:Join us for a game of cash bingo! Win huge cash prizes for a line or full house. Play out in the garden or inside Knightly’s Bar.
URL:https://www.knightlysfunpark.co.uk/event/cash-bingo/2025-07-10/
LOCATION:Knightly’s Bar
ATTACH;FMTTYPE=image/png:https://www.knightlysfunpark.co.uk/wp-content/uploads/2025/04/cash-bingo-at-Knightlys-Bar.png
END:VEVENT
BEGIN:VEVENT
DTSTART;TZID=Europe/London:20250711T140000
DTEND;TZID=Europe/London:20250711T150000
DTSTAMP:20260419T175333
CREATED:20250401T141535Z
LAST-MODIFIED:20260416T095159Z
UID:10006300-1752242400-1752246000@www.knightlysfunpark.co.uk
SUMMARY:Cash Bingo
DESCRIPTION:Join us for a game of cash bingo! Win huge cash prizes for a line or full house. Play out in the garden or inside Knightly’s Bar.
URL:https://www.knightlysfunpark.co.uk/event/cash-bingo/2025-07-11/
LOCATION:Knightly’s Bar
ATTACH;FMTTYPE=image/png:https://www.knightlysfunpark.co.uk/wp-content/uploads/2025/04/cash-bingo-at-Knightlys-Bar.png
END:VEVENT
BEGIN:VEVENT
DTSTART;TZID=Europe/London:20250711T203000
DTEND;TZID=Europe/London:20250711T233000
DTSTAMP:20260419T175333
CREATED:20250509T092654Z
LAST-MODIFIED:20260109T142642Z
UID:10004425-1752265800-1752276600@www.knightlysfunpark.co.uk
SUMMARY:Reflectionz
DESCRIPTION:The brilliant Reflectionz Duo will be live on stage singing all your favourite Northern Soul and Motown music.
URL:https://www.knightlysfunpark.co.uk/event/reflections-duo/2025-07-11/
LOCATION:Knightly’s Bar
CATEGORIES:Evening Entertainment
ATTACH;FMTTYPE=image/png:https://www.knightlysfunpark.co.uk/wp-content/uploads/2025/05/Reflectionz-at-Knightlys-Bar.png
END:VEVENT
BEGIN:VEVENT
DTSTART;TZID=Europe/London:20250711T210000
DTEND;TZID=Europe/London:20250711T233000
DTSTAMP:20260419T175333
CREATED:20250114T143105Z
LAST-MODIFIED:20250425T094204Z
UID:10003589-1752267600-1752276600@www.knightlysfunpark.co.uk
SUMMARY:Tommy Barron
DESCRIPTION:A fantastic performer who can sing all styles and genres of music. You’re in for a great night with Tommy Barron at Knightly’s Sandy Bay!
URL:https://www.knightlysfunpark.co.uk/event/tommy-barron/2025-07-11/
LOCATION:Knightly’s Sandy Bay Entertainment Centre
CATEGORIES:Evening Entertainment,Family Friendly
ATTACH;FMTTYPE=image/png:https://www.knightlysfunpark.co.uk/wp-content/uploads/2025/01/tommy-barron-sb.png
END:VEVENT
BEGIN:VEVENT
DTSTART;TZID=Europe/London:20250712T140000
DTEND;TZID=Europe/London:20250712T150000
DTSTAMP:20260419T175333
CREATED:20250401T141535Z
LAST-MODIFIED:20260416T095159Z
UID:10006301-1752328800-1752332400@www.knightlysfunpark.co.uk
SUMMARY:Cash Bingo
DESCRIPTION:Join us for a game of cash bingo! Win huge cash prizes for a line or full house. Play out in the garden or inside Knightly’s Bar.
URL:https://www.knightlysfunpark.co.uk/event/cash-bingo/2025-07-12/
LOCATION:Knightly’s Bar
ATTACH;FMTTYPE=image/png:https://www.knightlysfunpark.co.uk/wp-content/uploads/2025/04/cash-bingo-at-Knightlys-Bar.png
END:VEVENT
BEGIN:VEVENT
DTSTART;TZID=Europe/London:20250712T150000
DTEND;TZID=Europe/London:20250712T154500
DTSTAMP:20260419T175333
CREATED:20250710T144438Z
LAST-MODIFIED:20250930T130335Z
UID:10005024-1752332400-1752335100@www.knightlysfunpark.co.uk
SUMMARY:Party dances with Stitch
DESCRIPTION:Lets have some fun with Stitch! Join us for disco dancing to all your favourite songs!
URL:https://www.knightlysfunpark.co.uk/event/party-dances-with-stitch/2025-07-12/
LOCATION:Knightly’s Bar
CATEGORIES:Family Friendly
ATTACH;FMTTYPE=image/png:https://www.knightlysfunpark.co.uk/wp-content/uploads/2025/04/Party-Dances-with-Stitch-at-Knightlys-Fun-Park.png
END:VEVENT
BEGIN:VEVENT
DTSTART;TZID=Europe/London:20250712T203000
DTEND;TZID=Europe/London:20250712T233000
DTSTAMP:20260419T175333
CREATED:20250509T091119Z
LAST-MODIFIED:20250509T091816Z
UID:10004413-1752352200-1752363000@www.knightlysfunpark.co.uk
SUMMARY:70s Night with The Aim
DESCRIPTION:Party with us 70s style! The Aim will be bringing us a fast & lively show with great personality\, featuring your favourite hits from the era. Don’t forget your best 70’s get up!
URL:https://www.knightlysfunpark.co.uk/event/70s-night-with-the-aim/
LOCATION:Knightly’s Bar
CATEGORIES:Evening Entertainment
ATTACH;FMTTYPE=image/png:https://www.knightlysfunpark.co.uk/wp-content/uploads/2025/05/70s-night-at-Knightlys.png
END:VEVENT
BEGIN:VEVENT
DTSTART;TZID=Europe/London:20250712T210000
DTEND;TZID=Europe/London:20250712T233000
DTSTAMP:20260419T175333
CREATED:20250113T140036Z
LAST-MODIFIED:20260414T081337Z
UID:10003542-1752354000-1752363000@www.knightlysfunpark.co.uk
SUMMARY:MAVMAC
DESCRIPTION:MAVMAC is a highly energetic duo\, playing cover songs and mashups across all genres. This band have the ‘party-starting formula’ down to a tee and know how to bring the house down!
URL:https://www.knightlysfunpark.co.uk/event/mavmac/2025-07-12/
LOCATION:Knightly’s Sandy Bay Entertainment Centre
CATEGORIES:Evening Entertainment,Family Friendly
ATTACH;FMTTYPE=image/png:https://www.knightlysfunpark.co.uk/wp-content/uploads/2025/01/MAVMAC-at-Knightlys-Sandy-Bay.png
END:VEVENT
BEGIN:VEVENT
DTSTART;TZID=Europe/London:20250713T130000
DTEND;TZID=Europe/London:20250713T134500
DTSTAMP:20260419T175333
CREATED:20250516T101921Z
LAST-MODIFIED:20251003T103535Z
UID:10005026-1752411600-1752414300@www.knightlysfunpark.co.uk
SUMMARY:Meet Paw Patrol
DESCRIPTION:Give your favourite Paw Patrol pups a big hug and a high five at Knightly’s! Find them strolling around the fairground and outside Knightly’s Bar.
URL:https://www.knightlysfunpark.co.uk/event/meet-paw-patrol-2/2025-07-13/
LOCATION:Knightly’s Fun Park
CATEGORIES:Family Friendly
ATTACH;FMTTYPE=image/jpeg:https://www.knightlysfunpark.co.uk/wp-content/uploads/2024/04/363379669_664953298998537_2372833678835023986_n-e1713363429737.jpg
END:VEVENT
BEGIN:VEVENT
DTSTART;TZID=Europe/London:20250713T140000
DTEND;TZID=Europe/London:20250713T150000
DTSTAMP:20260419T175333
CREATED:20250401T141535Z
LAST-MODIFIED:20260416T095159Z
UID:10006302-1752415200-1752418800@www.knightlysfunpark.co.uk
SUMMARY:Cash Bingo
DESCRIPTION:Join us for a game of cash bingo! Win huge cash prizes for a line or full house. Play out in the garden or inside Knightly’s Bar.
URL:https://www.knightlysfunpark.co.uk/event/cash-bingo/2025-07-13/
LOCATION:Knightly’s Bar
ATTACH;FMTTYPE=image/png:https://www.knightlysfunpark.co.uk/wp-content/uploads/2025/04/cash-bingo-at-Knightlys-Bar.png
END:VEVENT
BEGIN:VEVENT
DTSTART;TZID=Europe/London:20250713T150000
DTEND;TZID=Europe/London:20250713T154500
DTSTAMP:20260419T175333
CREATED:20250516T103344Z
LAST-MODIFIED:20250907T081102Z
UID:10005001-1752418800-1752421500@www.knightlysfunpark.co.uk
SUMMARY:Party Dances with Our Characters
DESCRIPTION:Join us by the stage on the fairground for disco dancing to all your favourite songs with one of our characters!
URL:https://www.knightlysfunpark.co.uk/event/party-dances-with-mascot/2025-07-13/
LOCATION:Knightly’s Fun Park
CATEGORIES:Family Friendly
ATTACH;FMTTYPE=image/png:https://www.knightlysfunpark.co.uk/wp-content/uploads/2024/05/Bluey-Dancy-Party-e1716286014635.png
END:VEVENT
BEGIN:VEVENT
DTSTART;TZID=Europe/London:20250713T150000
DTEND;TZID=Europe/London:20250713T170000
DTSTAMP:20260419T175333
CREATED:20250429T093400Z
LAST-MODIFIED:20250509T092009Z
UID:10004424-1752418800-1752426000@www.knightlysfunpark.co.uk
SUMMARY:Wallace & Jones
DESCRIPTION:Prepare for a fantastic evening of live music and entertainment at Knightly’s Bar! Cash bingo kicks off at 8:30 PM
URL:https://www.knightlysfunpark.co.uk/event/wallace-jones/2025-07-13/
LOCATION:Knightly’s Bar
CATEGORIES:Evening Entertainment
ATTACH;FMTTYPE=image/png:https://www.knightlysfunpark.co.uk/wp-content/uploads/2025/01/wallace-jones-kb.png
END:VEVENT
END:VCALENDAR