BEGIN:VCALENDAR
VERSION:2.0
PRODID:-//Knightly&#039;s Fun Park Towyn - ECPv6.15.17//NONSGML v1.0//EN
CALSCALE:GREGORIAN
METHOD:PUBLISH
X-WR-CALNAME:Knightly&#039;s Fun Park Towyn
X-ORIGINAL-URL:https://www.knightlysfunpark.co.uk
X-WR-CALDESC:Events for Knightly&#039;s Fun Park Towyn
REFRESH-INTERVAL;VALUE=DURATION:PT1H
X-Robots-Tag:noindex
X-PUBLISHED-TTL:PT1H
BEGIN:VTIMEZONE
TZID:Europe/London
BEGIN:DAYLIGHT
TZOFFSETFROM:+0000
TZOFFSETTO:+0100
TZNAME:BST
DTSTART:20250330T010000
END:DAYLIGHT
BEGIN:STANDARD
TZOFFSETFROM:+0100
TZOFFSETTO:+0000
TZNAME:GMT
DTSTART:20251026T010000
END:STANDARD
BEGIN:DAYLIGHT
TZOFFSETFROM:+0000
TZOFFSETTO:+0100
TZNAME:BST
DTSTART:20260329T010000
END:DAYLIGHT
BEGIN:STANDARD
TZOFFSETFROM:+0100
TZOFFSETTO:+0000
TZNAME:GMT
DTSTART:20261025T010000
END:STANDARD
BEGIN:DAYLIGHT
TZOFFSETFROM:+0000
TZOFFSETTO:+0100
TZNAME:BST
DTSTART:20270328T010000
END:DAYLIGHT
BEGIN:STANDARD
TZOFFSETFROM:+0100
TZOFFSETTO:+0000
TZNAME:GMT
DTSTART:20271031T010000
END:STANDARD
END:VTIMEZONE
BEGIN:VEVENT
DTSTART;TZID=Europe/London:20260924T140000
DTEND;TZID=Europe/London:20260924T150000
DTSTAMP:20260425T005911
CREATED:20250401T141535Z
LAST-MODIFIED:20260416T095159Z
UID:10006740-1790258400-1790262000@www.knightlysfunpark.co.uk
SUMMARY:Cash Bingo
DESCRIPTION:Join us for a game of cash bingo! Win huge cash prizes for a line or full house. Play out in the garden or inside Knightly’s Bar.
URL:https://www.knightlysfunpark.co.uk/event/cash-bingo/2026-09-24/
LOCATION:Knightly’s Bar
ATTACH;FMTTYPE=image/png:https://www.knightlysfunpark.co.uk/wp-content/uploads/2025/04/cash-bingo-at-Knightlys-Bar.png
END:VEVENT
BEGIN:VEVENT
DTSTART;TZID=Europe/London:20260925T140000
DTEND;TZID=Europe/London:20260925T150000
DTSTAMP:20260425T005911
CREATED:20250401T141535Z
LAST-MODIFIED:20260416T095159Z
UID:10006741-1790344800-1790348400@www.knightlysfunpark.co.uk
SUMMARY:Cash Bingo
DESCRIPTION:Join us for a game of cash bingo! Win huge cash prizes for a line or full house. Play out in the garden or inside Knightly’s Bar.
URL:https://www.knightlysfunpark.co.uk/event/cash-bingo/2026-09-25/
LOCATION:Knightly’s Bar
ATTACH;FMTTYPE=image/png:https://www.knightlysfunpark.co.uk/wp-content/uploads/2025/04/cash-bingo-at-Knightlys-Bar.png
END:VEVENT
BEGIN:VEVENT
DTSTART;TZID=Europe/London:20260926T140000
DTEND;TZID=Europe/London:20260926T150000
DTSTAMP:20260425T005911
CREATED:20250401T141535Z
LAST-MODIFIED:20260416T095159Z
UID:10006742-1790431200-1790434800@www.knightlysfunpark.co.uk
SUMMARY:Cash Bingo
DESCRIPTION:Join us for a game of cash bingo! Win huge cash prizes for a line or full house. Play out in the garden or inside Knightly’s Bar.
URL:https://www.knightlysfunpark.co.uk/event/cash-bingo/2026-09-26/
LOCATION:Knightly’s Bar
ATTACH;FMTTYPE=image/png:https://www.knightlysfunpark.co.uk/wp-content/uploads/2025/04/cash-bingo-at-Knightlys-Bar.png
END:VEVENT
BEGIN:VEVENT
DTSTART;TZID=Europe/London:20260927T140000
DTEND;TZID=Europe/London:20260927T150000
DTSTAMP:20260425T005911
CREATED:20250401T141535Z
LAST-MODIFIED:20260416T095159Z
UID:10006743-1790517600-1790521200@www.knightlysfunpark.co.uk
SUMMARY:Cash Bingo
DESCRIPTION:Join us for a game of cash bingo! Win huge cash prizes for a line or full house. Play out in the garden or inside Knightly’s Bar.
URL:https://www.knightlysfunpark.co.uk/event/cash-bingo/2026-09-27/
LOCATION:Knightly’s Bar
ATTACH;FMTTYPE=image/png:https://www.knightlysfunpark.co.uk/wp-content/uploads/2025/04/cash-bingo-at-Knightlys-Bar.png
END:VEVENT
BEGIN:VEVENT
DTSTART;TZID=Europe/London:20260928T140000
DTEND;TZID=Europe/London:20260928T150000
DTSTAMP:20260425T005911
CREATED:20250401T141535Z
LAST-MODIFIED:20260416T095159Z
UID:10006744-1790604000-1790607600@www.knightlysfunpark.co.uk
SUMMARY:Cash Bingo
DESCRIPTION:Join us for a game of cash bingo! Win huge cash prizes for a line or full house. Play out in the garden or inside Knightly’s Bar.
URL:https://www.knightlysfunpark.co.uk/event/cash-bingo/2026-09-28/
LOCATION:Knightly’s Bar
ATTACH;FMTTYPE=image/png:https://www.knightlysfunpark.co.uk/wp-content/uploads/2025/04/cash-bingo-at-Knightlys-Bar.png
END:VEVENT
BEGIN:VEVENT
DTSTART;TZID=Europe/London:20260929T140000
DTEND;TZID=Europe/London:20260929T150000
DTSTAMP:20260425T005911
CREATED:20250401T141535Z
LAST-MODIFIED:20260416T095159Z
UID:10006745-1790690400-1790694000@www.knightlysfunpark.co.uk
SUMMARY:Cash Bingo
DESCRIPTION:Join us for a game of cash bingo! Win huge cash prizes for a line or full house. Play out in the garden or inside Knightly’s Bar.
URL:https://www.knightlysfunpark.co.uk/event/cash-bingo/2026-09-29/
LOCATION:Knightly’s Bar
ATTACH;FMTTYPE=image/png:https://www.knightlysfunpark.co.uk/wp-content/uploads/2025/04/cash-bingo-at-Knightlys-Bar.png
END:VEVENT
BEGIN:VEVENT
DTSTART;TZID=Europe/London:20260930T140000
DTEND;TZID=Europe/London:20260930T150000
DTSTAMP:20260425T005911
CREATED:20250401T141535Z
LAST-MODIFIED:20260416T095159Z
UID:10006746-1790776800-1790780400@www.knightlysfunpark.co.uk
SUMMARY:Cash Bingo
DESCRIPTION:Join us for a game of cash bingo! Win huge cash prizes for a line or full house. Play out in the garden or inside Knightly’s Bar.
URL:https://www.knightlysfunpark.co.uk/event/cash-bingo/2026-09-30/
LOCATION:Knightly’s Bar
ATTACH;FMTTYPE=image/png:https://www.knightlysfunpark.co.uk/wp-content/uploads/2025/04/cash-bingo-at-Knightlys-Bar.png
END:VEVENT
BEGIN:VEVENT
DTSTART;TZID=Europe/London:20261001T140000
DTEND;TZID=Europe/London:20261001T150000
DTSTAMP:20260425T005911
CREATED:20250401T141535Z
LAST-MODIFIED:20260416T095159Z
UID:10006747-1790863200-1790866800@www.knightlysfunpark.co.uk
SUMMARY:Cash Bingo
DESCRIPTION:Join us for a game of cash bingo! Win huge cash prizes for a line or full house. Play out in the garden or inside Knightly’s Bar.
URL:https://www.knightlysfunpark.co.uk/event/cash-bingo/2026-10-01/
LOCATION:Knightly’s Bar
ATTACH;FMTTYPE=image/png:https://www.knightlysfunpark.co.uk/wp-content/uploads/2025/04/cash-bingo-at-Knightlys-Bar.png
END:VEVENT
BEGIN:VEVENT
DTSTART;TZID=Europe/London:20261002T140000
DTEND;TZID=Europe/London:20261002T150000
DTSTAMP:20260425T005911
CREATED:20250401T141535Z
LAST-MODIFIED:20260416T095159Z
UID:10006748-1790949600-1790953200@www.knightlysfunpark.co.uk
SUMMARY:Cash Bingo
DESCRIPTION:Join us for a game of cash bingo! Win huge cash prizes for a line or full house. Play out in the garden or inside Knightly’s Bar.
URL:https://www.knightlysfunpark.co.uk/event/cash-bingo/2026-10-02/
LOCATION:Knightly’s Bar
ATTACH;FMTTYPE=image/png:https://www.knightlysfunpark.co.uk/wp-content/uploads/2025/04/cash-bingo-at-Knightlys-Bar.png
END:VEVENT
BEGIN:VEVENT
DTSTART;TZID=Europe/London:20261003T140000
DTEND;TZID=Europe/London:20261003T150000
DTSTAMP:20260425T005911
CREATED:20250401T141535Z
LAST-MODIFIED:20260416T095159Z
UID:10006749-1791036000-1791039600@www.knightlysfunpark.co.uk
SUMMARY:Cash Bingo
DESCRIPTION:Join us for a game of cash bingo! Win huge cash prizes for a line or full house. Play out in the garden or inside Knightly’s Bar.
URL:https://www.knightlysfunpark.co.uk/event/cash-bingo/2026-10-03/
LOCATION:Knightly’s Bar
ATTACH;FMTTYPE=image/png:https://www.knightlysfunpark.co.uk/wp-content/uploads/2025/04/cash-bingo-at-Knightlys-Bar.png
END:VEVENT
BEGIN:VEVENT
DTSTART;TZID=Europe/London:20261003T210000
DTEND;TZID=Europe/London:20261003T230000
DTSTAMP:20260425T005911
CREATED:20250512T120516Z
LAST-MODIFIED:20260107T121101Z
UID:10005629-1791061200-1791068400@www.knightlysfunpark.co.uk
SUMMARY:Michelle Lawson
DESCRIPTION:Join us for an evening filled with the timeless classics of Whitney Houston\, performed by the incredibly talented Michelle Lawson. From “I Will Always Love You” to “I Wanna Dance with Somebody\,” Michelle’s powerhouse vocals will leave you mesmerised!
URL:https://www.knightlysfunpark.co.uk/event/michelle-lawson/2026-10-03/
LOCATION:Knightly’s Bar
CATEGORIES:Evening Entertainment
ATTACH;FMTTYPE=image/png:https://www.knightlysfunpark.co.uk/wp-content/uploads/2025/05/Michelle-Lawson-as-the-voice-of-Whitney-at-Knightlys-Bar.png
END:VEVENT
BEGIN:VEVENT
DTSTART;TZID=Europe/London:20261004T140000
DTEND;TZID=Europe/London:20261004T150000
DTSTAMP:20260425T005911
CREATED:20250401T141535Z
LAST-MODIFIED:20260416T095159Z
UID:10006750-1791122400-1791126000@www.knightlysfunpark.co.uk
SUMMARY:Cash Bingo
DESCRIPTION:Join us for a game of cash bingo! Win huge cash prizes for a line or full house. Play out in the garden or inside Knightly’s Bar.
URL:https://www.knightlysfunpark.co.uk/event/cash-bingo/2026-10-04/
LOCATION:Knightly’s Bar
ATTACH;FMTTYPE=image/png:https://www.knightlysfunpark.co.uk/wp-content/uploads/2025/04/cash-bingo-at-Knightlys-Bar.png
END:VEVENT
BEGIN:VEVENT
DTSTART;TZID=Europe/London:20261005T140000
DTEND;TZID=Europe/London:20261005T150000
DTSTAMP:20260425T005911
CREATED:20250401T141535Z
LAST-MODIFIED:20260416T095159Z
UID:10006751-1791208800-1791212400@www.knightlysfunpark.co.uk
SUMMARY:Cash Bingo
DESCRIPTION:Join us for a game of cash bingo! Win huge cash prizes for a line or full house. Play out in the garden or inside Knightly’s Bar.
URL:https://www.knightlysfunpark.co.uk/event/cash-bingo/2026-10-05/
LOCATION:Knightly’s Bar
ATTACH;FMTTYPE=image/png:https://www.knightlysfunpark.co.uk/wp-content/uploads/2025/04/cash-bingo-at-Knightlys-Bar.png
END:VEVENT
BEGIN:VEVENT
DTSTART;TZID=Europe/London:20261006T140000
DTEND;TZID=Europe/London:20261006T150000
DTSTAMP:20260425T005911
CREATED:20250401T141535Z
LAST-MODIFIED:20260416T095159Z
UID:10006752-1791295200-1791298800@www.knightlysfunpark.co.uk
SUMMARY:Cash Bingo
DESCRIPTION:Join us for a game of cash bingo! Win huge cash prizes for a line or full house. Play out in the garden or inside Knightly’s Bar.
URL:https://www.knightlysfunpark.co.uk/event/cash-bingo/2026-10-06/
LOCATION:Knightly’s Bar
ATTACH;FMTTYPE=image/png:https://www.knightlysfunpark.co.uk/wp-content/uploads/2025/04/cash-bingo-at-Knightlys-Bar.png
END:VEVENT
BEGIN:VEVENT
DTSTART;TZID=Europe/London:20261007T140000
DTEND;TZID=Europe/London:20261007T150000
DTSTAMP:20260425T005911
CREATED:20250401T141535Z
LAST-MODIFIED:20260416T095159Z
UID:10006753-1791381600-1791385200@www.knightlysfunpark.co.uk
SUMMARY:Cash Bingo
DESCRIPTION:Join us for a game of cash bingo! Win huge cash prizes for a line or full house. Play out in the garden or inside Knightly’s Bar.
URL:https://www.knightlysfunpark.co.uk/event/cash-bingo/2026-10-07/
LOCATION:Knightly’s Bar
ATTACH;FMTTYPE=image/png:https://www.knightlysfunpark.co.uk/wp-content/uploads/2025/04/cash-bingo-at-Knightlys-Bar.png
END:VEVENT
BEGIN:VEVENT
DTSTART;TZID=Europe/London:20261008T140000
DTEND;TZID=Europe/London:20261008T150000
DTSTAMP:20260425T005911
CREATED:20250401T141535Z
LAST-MODIFIED:20260416T095159Z
UID:10006754-1791468000-1791471600@www.knightlysfunpark.co.uk
SUMMARY:Cash Bingo
DESCRIPTION:Join us for a game of cash bingo! Win huge cash prizes for a line or full house. Play out in the garden or inside Knightly’s Bar.
URL:https://www.knightlysfunpark.co.uk/event/cash-bingo/2026-10-08/
LOCATION:Knightly’s Bar
ATTACH;FMTTYPE=image/png:https://www.knightlysfunpark.co.uk/wp-content/uploads/2025/04/cash-bingo-at-Knightlys-Bar.png
END:VEVENT
BEGIN:VEVENT
DTSTART;TZID=Europe/London:20261009T140000
DTEND;TZID=Europe/London:20261009T150000
DTSTAMP:20260425T005911
CREATED:20250401T141535Z
LAST-MODIFIED:20260416T095159Z
UID:10006755-1791554400-1791558000@www.knightlysfunpark.co.uk
SUMMARY:Cash Bingo
DESCRIPTION:Join us for a game of cash bingo! Win huge cash prizes for a line or full house. Play out in the garden or inside Knightly’s Bar.
URL:https://www.knightlysfunpark.co.uk/event/cash-bingo/2026-10-09/
LOCATION:Knightly’s Bar
ATTACH;FMTTYPE=image/png:https://www.knightlysfunpark.co.uk/wp-content/uploads/2025/04/cash-bingo-at-Knightlys-Bar.png
END:VEVENT
BEGIN:VEVENT
DTSTART;TZID=Europe/London:20261010T140000
DTEND;TZID=Europe/London:20261010T150000
DTSTAMP:20260425T005911
CREATED:20250401T141535Z
LAST-MODIFIED:20260416T095159Z
UID:10006756-1791640800-1791644400@www.knightlysfunpark.co.uk
SUMMARY:Cash Bingo
DESCRIPTION:Join us for a game of cash bingo! Win huge cash prizes for a line or full house. Play out in the garden or inside Knightly’s Bar.
URL:https://www.knightlysfunpark.co.uk/event/cash-bingo/2026-10-10/
LOCATION:Knightly’s Bar
ATTACH;FMTTYPE=image/png:https://www.knightlysfunpark.co.uk/wp-content/uploads/2025/04/cash-bingo-at-Knightlys-Bar.png
END:VEVENT
BEGIN:VEVENT
DTSTART;TZID=Europe/London:20261011T140000
DTEND;TZID=Europe/London:20261011T150000
DTSTAMP:20260425T005911
CREATED:20250401T141535Z
LAST-MODIFIED:20260416T095159Z
UID:10006757-1791727200-1791730800@www.knightlysfunpark.co.uk
SUMMARY:Cash Bingo
DESCRIPTION:Join us for a game of cash bingo! Win huge cash prizes for a line or full house. Play out in the garden or inside Knightly’s Bar.
URL:https://www.knightlysfunpark.co.uk/event/cash-bingo/2026-10-11/
LOCATION:Knightly’s Bar
ATTACH;FMTTYPE=image/png:https://www.knightlysfunpark.co.uk/wp-content/uploads/2025/04/cash-bingo-at-Knightlys-Bar.png
END:VEVENT
BEGIN:VEVENT
DTSTART;TZID=Europe/London:20261012T140000
DTEND;TZID=Europe/London:20261012T150000
DTSTAMP:20260425T005911
CREATED:20250401T141535Z
LAST-MODIFIED:20260416T095159Z
UID:10006758-1791813600-1791817200@www.knightlysfunpark.co.uk
SUMMARY:Cash Bingo
DESCRIPTION:Join us for a game of cash bingo! Win huge cash prizes for a line or full house. Play out in the garden or inside Knightly’s Bar.
URL:https://www.knightlysfunpark.co.uk/event/cash-bingo/2026-10-12/
LOCATION:Knightly’s Bar
ATTACH;FMTTYPE=image/png:https://www.knightlysfunpark.co.uk/wp-content/uploads/2025/04/cash-bingo-at-Knightlys-Bar.png
END:VEVENT
BEGIN:VEVENT
DTSTART;TZID=Europe/London:20261013T140000
DTEND;TZID=Europe/London:20261013T150000
DTSTAMP:20260425T005911
CREATED:20250401T141535Z
LAST-MODIFIED:20260416T095159Z
UID:10006759-1791900000-1791903600@www.knightlysfunpark.co.uk
SUMMARY:Cash Bingo
DESCRIPTION:Join us for a game of cash bingo! Win huge cash prizes for a line or full house. Play out in the garden or inside Knightly’s Bar.
URL:https://www.knightlysfunpark.co.uk/event/cash-bingo/2026-10-13/
LOCATION:Knightly’s Bar
ATTACH;FMTTYPE=image/png:https://www.knightlysfunpark.co.uk/wp-content/uploads/2025/04/cash-bingo-at-Knightlys-Bar.png
END:VEVENT
BEGIN:VEVENT
DTSTART;TZID=Europe/London:20261014T140000
DTEND;TZID=Europe/London:20261014T150000
DTSTAMP:20260425T005911
CREATED:20250401T141535Z
LAST-MODIFIED:20260416T095159Z
UID:10006760-1791986400-1791990000@www.knightlysfunpark.co.uk
SUMMARY:Cash Bingo
DESCRIPTION:Join us for a game of cash bingo! Win huge cash prizes for a line or full house. Play out in the garden or inside Knightly’s Bar.
URL:https://www.knightlysfunpark.co.uk/event/cash-bingo/2026-10-14/
LOCATION:Knightly’s Bar
ATTACH;FMTTYPE=image/png:https://www.knightlysfunpark.co.uk/wp-content/uploads/2025/04/cash-bingo-at-Knightlys-Bar.png
END:VEVENT
BEGIN:VEVENT
DTSTART;TZID=Europe/London:20261015T140000
DTEND;TZID=Europe/London:20261015T150000
DTSTAMP:20260425T005911
CREATED:20250401T141535Z
LAST-MODIFIED:20260416T095159Z
UID:10006761-1792072800-1792076400@www.knightlysfunpark.co.uk
SUMMARY:Cash Bingo
DESCRIPTION:Join us for a game of cash bingo! Win huge cash prizes for a line or full house. Play out in the garden or inside Knightly’s Bar.
URL:https://www.knightlysfunpark.co.uk/event/cash-bingo/2026-10-15/
LOCATION:Knightly’s Bar
ATTACH;FMTTYPE=image/png:https://www.knightlysfunpark.co.uk/wp-content/uploads/2025/04/cash-bingo-at-Knightlys-Bar.png
END:VEVENT
BEGIN:VEVENT
DTSTART;TZID=Europe/London:20261016T140000
DTEND;TZID=Europe/London:20261016T150000
DTSTAMP:20260425T005911
CREATED:20250401T141535Z
LAST-MODIFIED:20260416T095159Z
UID:10006762-1792159200-1792162800@www.knightlysfunpark.co.uk
SUMMARY:Cash Bingo
DESCRIPTION:Join us for a game of cash bingo! Win huge cash prizes for a line or full house. Play out in the garden or inside Knightly’s Bar.
URL:https://www.knightlysfunpark.co.uk/event/cash-bingo/2026-10-16/
LOCATION:Knightly’s Bar
ATTACH;FMTTYPE=image/png:https://www.knightlysfunpark.co.uk/wp-content/uploads/2025/04/cash-bingo-at-Knightlys-Bar.png
END:VEVENT
BEGIN:VEVENT
DTSTART;TZID=Europe/London:20261017T140000
DTEND;TZID=Europe/London:20261017T150000
DTSTAMP:20260425T005911
CREATED:20250401T141535Z
LAST-MODIFIED:20260416T095159Z
UID:10006763-1792245600-1792249200@www.knightlysfunpark.co.uk
SUMMARY:Cash Bingo
DESCRIPTION:Join us for a game of cash bingo! Win huge cash prizes for a line or full house. Play out in the garden or inside Knightly’s Bar.
URL:https://www.knightlysfunpark.co.uk/event/cash-bingo/2026-10-17/
LOCATION:Knightly’s Bar
ATTACH;FMTTYPE=image/png:https://www.knightlysfunpark.co.uk/wp-content/uploads/2025/04/cash-bingo-at-Knightlys-Bar.png
END:VEVENT
BEGIN:VEVENT
DTSTART;TZID=Europe/London:20261017T210000
DTEND;TZID=Europe/London:20261017T230000
DTSTAMP:20260425T005911
CREATED:20250508T124153Z
LAST-MODIFIED:20260119T110542Z
UID:10005687-1792270800-1792278000@www.knightlysfunpark.co.uk
SUMMARY:Hayley Ria
DESCRIPTION:Hayley-Ria is a fabulous soul singer\, most recently seen playing the lead role in Sister Act! Catch her at Knightly’s Bar with her show ‘Through the Knight’ a spectacular tribute to Gladys Knight.
URL:https://www.knightlysfunpark.co.uk/event/hayley-ria/2026-10-17/
LOCATION:Knightly’s Bar
CATEGORIES:Evening Entertainment
ATTACH;FMTTYPE=image/png:https://www.knightlysfunpark.co.uk/wp-content/uploads/2025/05/Hayley-Rias-Through-the-Knight-at-Knightlys-Bar.png
END:VEVENT
BEGIN:VEVENT
DTSTART;TZID=Europe/London:20261018T140000
DTEND;TZID=Europe/London:20261018T150000
DTSTAMP:20260425T005911
CREATED:20250401T141535Z
LAST-MODIFIED:20260416T095159Z
UID:10006764-1792332000-1792335600@www.knightlysfunpark.co.uk
SUMMARY:Cash Bingo
DESCRIPTION:Join us for a game of cash bingo! Win huge cash prizes for a line or full house. Play out in the garden or inside Knightly’s Bar.
URL:https://www.knightlysfunpark.co.uk/event/cash-bingo/2026-10-18/
LOCATION:Knightly’s Bar
ATTACH;FMTTYPE=image/png:https://www.knightlysfunpark.co.uk/wp-content/uploads/2025/04/cash-bingo-at-Knightlys-Bar.png
END:VEVENT
BEGIN:VEVENT
DTSTART;TZID=Europe/London:20261019T140000
DTEND;TZID=Europe/London:20261019T150000
DTSTAMP:20260425T005911
CREATED:20250401T141535Z
LAST-MODIFIED:20260416T095159Z
UID:10006765-1792418400-1792422000@www.knightlysfunpark.co.uk
SUMMARY:Cash Bingo
DESCRIPTION:Join us for a game of cash bingo! Win huge cash prizes for a line or full house. Play out in the garden or inside Knightly’s Bar.
URL:https://www.knightlysfunpark.co.uk/event/cash-bingo/2026-10-19/
LOCATION:Knightly’s Bar
ATTACH;FMTTYPE=image/png:https://www.knightlysfunpark.co.uk/wp-content/uploads/2025/04/cash-bingo-at-Knightlys-Bar.png
END:VEVENT
BEGIN:VEVENT
DTSTART;TZID=Europe/London:20261020T140000
DTEND;TZID=Europe/London:20261020T150000
DTSTAMP:20260425T005911
CREATED:20250401T141535Z
LAST-MODIFIED:20260416T095159Z
UID:10006766-1792504800-1792508400@www.knightlysfunpark.co.uk
SUMMARY:Cash Bingo
DESCRIPTION:Join us for a game of cash bingo! Win huge cash prizes for a line or full house. Play out in the garden or inside Knightly’s Bar.
URL:https://www.knightlysfunpark.co.uk/event/cash-bingo/2026-10-20/
LOCATION:Knightly’s Bar
ATTACH;FMTTYPE=image/png:https://www.knightlysfunpark.co.uk/wp-content/uploads/2025/04/cash-bingo-at-Knightlys-Bar.png
END:VEVENT
BEGIN:VEVENT
DTSTART;TZID=Europe/London:20261021T140000
DTEND;TZID=Europe/London:20261021T150000
DTSTAMP:20260425T005911
CREATED:20250401T141535Z
LAST-MODIFIED:20260416T095159Z
UID:10006767-1792591200-1792594800@www.knightlysfunpark.co.uk
SUMMARY:Cash Bingo
DESCRIPTION:Join us for a game of cash bingo! Win huge cash prizes for a line or full house. Play out in the garden or inside Knightly’s Bar.
URL:https://www.knightlysfunpark.co.uk/event/cash-bingo/2026-10-21/
LOCATION:Knightly’s Bar
ATTACH;FMTTYPE=image/png:https://www.knightlysfunpark.co.uk/wp-content/uploads/2025/04/cash-bingo-at-Knightlys-Bar.png
END:VEVENT
END:VCALENDAR