BEGIN:VCALENDAR
VERSION:2.0
PRODID:-//Knightly&#039;s Fun Park Towyn - ECPv6.15.17//NONSGML v1.0//EN
CALSCALE:GREGORIAN
METHOD:PUBLISH
X-WR-CALNAME:Knightly&#039;s Fun Park Towyn
X-ORIGINAL-URL:https://www.knightlysfunpark.co.uk
X-WR-CALDESC:Events for Knightly&#039;s Fun Park Towyn
REFRESH-INTERVAL;VALUE=DURATION:PT1H
X-Robots-Tag:noindex
X-PUBLISHED-TTL:PT1H
BEGIN:VTIMEZONE
TZID:Europe/London
BEGIN:DAYLIGHT
TZOFFSETFROM:+0000
TZOFFSETTO:+0100
TZNAME:BST
DTSTART:20240331T010000
END:DAYLIGHT
BEGIN:STANDARD
TZOFFSETFROM:+0100
TZOFFSETTO:+0000
TZNAME:GMT
DTSTART:20241027T010000
END:STANDARD
BEGIN:DAYLIGHT
TZOFFSETFROM:+0000
TZOFFSETTO:+0100
TZNAME:BST
DTSTART:20250330T010000
END:DAYLIGHT
BEGIN:STANDARD
TZOFFSETFROM:+0100
TZOFFSETTO:+0000
TZNAME:GMT
DTSTART:20251026T010000
END:STANDARD
BEGIN:DAYLIGHT
TZOFFSETFROM:+0000
TZOFFSETTO:+0100
TZNAME:BST
DTSTART:20260329T010000
END:DAYLIGHT
BEGIN:STANDARD
TZOFFSETFROM:+0100
TZOFFSETTO:+0000
TZNAME:GMT
DTSTART:20261025T010000
END:STANDARD
END:VTIMEZONE
BEGIN:VEVENT
DTSTART;TZID=Europe/London:20250730T140000
DTEND;TZID=Europe/London:20250730T150000
DTSTAMP:20260424T145942
CREATED:20250401T141535Z
LAST-MODIFIED:20260416T095159Z
UID:10006319-1753884000-1753887600@www.knightlysfunpark.co.uk
SUMMARY:Cash Bingo
DESCRIPTION:Join us for a game of cash bingo! Win huge cash prizes for a line or full house. Play out in the garden or inside Knightly’s Bar.
URL:https://www.knightlysfunpark.co.uk/event/cash-bingo/2025-07-30/
LOCATION:Knightly’s Bar
ATTACH;FMTTYPE=image/png:https://www.knightlysfunpark.co.uk/wp-content/uploads/2025/04/cash-bingo-at-Knightlys-Bar.png
END:VEVENT
BEGIN:VEVENT
DTSTART;TZID=Europe/London:20250730T140000
DTEND;TZID=Europe/London:20250730T160000
DTSTAMP:20260424T145942
CREATED:20250727T125835Z
LAST-MODIFIED:20250805T114321Z
UID:10005337-1753884000-1753891200@www.knightlysfunpark.co.uk
SUMMARY:Knightly's Got Talent Auditions
DESCRIPTION:Show off your best talent on stage to make it to our final at 9 PM! Then it’s up to our audience to pick a winner!
URL:https://www.knightlysfunpark.co.uk/event/knightlys-got-talent-auditions/2025-07-30/
LOCATION:Knightly’s Sandy Bay Entertainment Centre
CATEGORIES:Family Friendly
ATTACH;FMTTYPE=image/png:https://www.knightlysfunpark.co.uk/wp-content/uploads/2025/07/Knightlys-got-talent-auditions-at-Knightlys.png
END:VEVENT
BEGIN:VEVENT
DTSTART;TZID=Europe/London:20250730T150000
DTEND;TZID=Europe/London:20250730T154500
DTSTAMP:20260424T145942
CREATED:20250710T135602Z
LAST-MODIFIED:20250725T172333Z
UID:10004949-1753887600-1753890300@www.knightlysfunpark.co.uk
SUMMARY:Meet Sully
DESCRIPTION:Come along and meet the big blue friendly monster\, Sully!
URL:https://www.knightlysfunpark.co.uk/event/meet-sully/2025-07-30/
LOCATION:Knightly’s Bar
CATEGORIES:Family Friendly
ATTACH;FMTTYPE=image/png:https://www.knightlysfunpark.co.uk/wp-content/uploads/2025/07/Sully-meet-and-greet.png
END:VEVENT
BEGIN:VEVENT
DTSTART;TZID=Europe/London:20250730T150000
DTEND;TZID=Europe/London:20250730T170000
DTSTAMP:20260424T145942
CREATED:20250401T141008Z
LAST-MODIFIED:20250519T122737Z
UID:10004399-1753887600-1753894800@www.knightlysfunpark.co.uk
SUMMARY:Princess Party
DESCRIPTION:👑✨ Join in games\, singing & dancing with a real Disney Princess! ✨👑📸 Snap a magical photo & get a sparkly ✨ glitter tattoo too!🕛 From 12–2 PM & 3–5 PM at Knightly’s Bar \n🌟 Princess Party Dates:📅 28th May – 🌹 Belle📅 23rd July – ❄️ Elsa📅 30th July – 👑 Anna📅 6th August – 🌸 Rapunzel📅 13th August – 🧜‍♀️ Ariel📅 20th August – 🌹 Belle📅 27th August – ❄️ Elsa \n🎉 A royal day out for your little prince or princess! Don’t forget your tiaras! 👸🤴
URL:https://www.knightlysfunpark.co.uk/event/princess-party-2/2025-07-30/2/
LOCATION:Knightly’s Fun Park
CATEGORIES:Family Friendly
ATTACH;FMTTYPE=image/png:https://www.knightlysfunpark.co.uk/wp-content/uploads/2024/07/Untitled-design-34.png
END:VEVENT
BEGIN:VEVENT
DTSTART;TZID=Europe/London:20250730T160000
DTEND;TZID=Europe/London:20250730T190000
DTSTAMP:20260424T145942
CREATED:20250723T141420Z
LAST-MODIFIED:20250723T141420Z
UID:10005250-1753891200-1753902000@www.knightlysfunpark.co.uk
SUMMARY:Family Fun Time
DESCRIPTION:Join us at Knightly’s Sandy Bay for fun & games\, arts & crafts\, bingo & karaoke! \nFree entry and everyone is welcome!
URL:https://www.knightlysfunpark.co.uk/event/family-fun-time/2025-07-30/
LOCATION:Knightly’s Sandy Bay Entertainment Centre
CATEGORIES:Family Friendly
ATTACH;FMTTYPE=image/png:https://www.knightlysfunpark.co.uk/wp-content/uploads/2025/07/Family-fun-time-at-Knightlys.png
END:VEVENT
BEGIN:VEVENT
DTSTART;TZID=Europe/London:20250730T180000
DTEND;TZID=Europe/London:20250730T220000
DTSTAMP:20260424T145942
CREATED:20250401T135856Z
LAST-MODIFIED:20260330T124506Z
UID:10004118-1753898400-1753912800@www.knightlysfunpark.co.uk
SUMMARY:Wrestling Show
DESCRIPTION:Get ready for an electrifying showdown as Basix Pro Wrestling takes center stage at Knightly’s Fun Park! You’re in for a treat when you come to watch some of the UK’s most professional wrestlers who know how to deliver exceptional family entertainment. Don’t miss this epic display of athleticism and excitement! \n£3 per person. Gates open at 6 PM\, show starts at 8 PM.
URL:https://www.knightlysfunpark.co.uk/event/wrestling-show/2025-07-30/
LOCATION:Knightly’s Bar
CATEGORIES:Family Friendly
ATTACH;FMTTYPE=image/png:https://www.knightlysfunpark.co.uk/wp-content/uploads/2025/04/2026.png
END:VEVENT
BEGIN:VEVENT
DTSTART;TZID=Europe/London:20250730T203000
DTEND;TZID=Europe/London:20250730T233000
DTSTAMP:20260424T145942
CREATED:20250122T133411Z
LAST-MODIFIED:20260415T123457Z
UID:10004428-1753907400-1753918200@www.knightlysfunpark.co.uk
SUMMARY:Andy Otley
DESCRIPTION:One of the UK’s leading and most in demand singers\, Andy Otley is an exceptionally talented performer with a superb voice.\n\n\n\n 
URL:https://www.knightlysfunpark.co.uk/event/andy-otley/2025-07-30/
LOCATION:Knightly’s Bar
ATTACH;FMTTYPE=image/png:https://www.knightlysfunpark.co.uk/wp-content/uploads/2025/01/Andy-Otley-at-Knightlys-Bar.png
END:VEVENT
BEGIN:VEVENT
DTSTART;TZID=Europe/London:20250730T210000
DTEND;TZID=Europe/London:20250730T230000
DTSTAMP:20260424T145942
CREATED:20250727T125022Z
LAST-MODIFIED:20250930T130100Z
UID:10005328-1753909200-1753916400@www.knightlysfunpark.co.uk
SUMMARY:Knightly's Got Talent
DESCRIPTION:Show us your best talents on stage at Knightly’s Sandy Bay – whether you like to sing\, dance or tell jokes\, we’d love you to show it off!
URL:https://www.knightlysfunpark.co.uk/event/knightlys-got-talent-2/2025-07-30/
LOCATION:Knightly’s Sandy Bay Entertainment Centre
CATEGORIES:Evening Entertainment,Family Friendly
ATTACH;FMTTYPE=image/png:https://www.knightlysfunpark.co.uk/wp-content/uploads/2025/07/Knightlys-got-talent-at-Knightlys.png
END:VEVENT
BEGIN:VEVENT
DTSTART;TZID=Europe/London:20250730T220000
DTEND;TZID=Europe/London:20250730T233000
DTSTAMP:20260424T145942
CREATED:20250727T131237Z
LAST-MODIFIED:20250905T152648Z
UID:10005347-1753912800-1753918200@www.knightlysfunpark.co.uk
SUMMARY:Drag Divas Show
DESCRIPTION:Join Mark and Andy as you’ve never seen them before for some hilarious drag diva fun!
URL:https://www.knightlysfunpark.co.uk/event/drag-divas-show/2025-07-30/
LOCATION:Knightly’s Sandy Bay Entertainment Centre
CATEGORIES:Evening Entertainment,Family Friendly
ATTACH;FMTTYPE=image/png:https://www.knightlysfunpark.co.uk/wp-content/uploads/2025/07/Drag-Diva-show-at-Knightlys-e1757085985174.png
END:VEVENT
BEGIN:VEVENT
DTSTART;TZID=Europe/London:20250731T140000
DTEND;TZID=Europe/London:20250731T150000
DTSTAMP:20260424T145942
CREATED:20250401T141535Z
LAST-MODIFIED:20260416T095159Z
UID:10006320-1753970400-1753974000@www.knightlysfunpark.co.uk
SUMMARY:Cash Bingo
DESCRIPTION:Join us for a game of cash bingo! Win huge cash prizes for a line or full house. Play out in the garden or inside Knightly’s Bar.
URL:https://www.knightlysfunpark.co.uk/event/cash-bingo/2025-07-31/
LOCATION:Knightly’s Bar
ATTACH;FMTTYPE=image/png:https://www.knightlysfunpark.co.uk/wp-content/uploads/2025/04/cash-bingo-at-Knightlys-Bar.png
END:VEVENT
BEGIN:VEVENT
DTSTART;TZID=Europe/London:20250731T140000
DTEND;TZID=Europe/London:20250731T160000
DTSTAMP:20260424T145942
CREATED:20250429T145225Z
LAST-MODIFIED:20260409T091115Z
UID:10004307-1753970400-1753977600@www.knightlysfunpark.co.uk
SUMMARY:Scaly Safari Show
DESCRIPTION:Get up close with lots of creepy crawlies and reptiles with Scaly Safari! Meet us on Knightly’s Fairground! 🐛🦎🕷 \nFree entry\, all welcome!
URL:https://www.knightlysfunpark.co.uk/event/scaly-safari-show-2/2025-07-31/
LOCATION:Knightly’s Fun Park
CATEGORIES:Family Friendly
ATTACH;FMTTYPE=image/png:https://www.knightlysfunpark.co.uk/wp-content/uploads/2025/04/20250414_175140_0000.png
END:VEVENT
BEGIN:VEVENT
DTSTART;TZID=Europe/London:20250731T140000
DTEND;TZID=Europe/London:20250731T170000
DTSTAMP:20260424T145942
CREATED:20250723T141420Z
LAST-MODIFIED:20250723T141420Z
UID:10005251-1753970400-1753981200@www.knightlysfunpark.co.uk
SUMMARY:Family Fun Time
DESCRIPTION:Join us at Knightly’s Sandy Bay for fun & games\, arts & crafts\, bingo & karaoke! \nFree entry and everyone is welcome!
URL:https://www.knightlysfunpark.co.uk/event/family-fun-time/2025-07-31/
LOCATION:Knightly’s Sandy Bay Entertainment Centre
CATEGORIES:Family Friendly
ATTACH;FMTTYPE=image/png:https://www.knightlysfunpark.co.uk/wp-content/uploads/2025/07/Family-fun-time-at-Knightlys.png
END:VEVENT
BEGIN:VEVENT
DTSTART;TZID=Europe/London:20250731T150000
DTEND;TZID=Europe/London:20250731T154500
DTSTAMP:20260424T145942
CREATED:20250710T144438Z
LAST-MODIFIED:20250930T130335Z
UID:10005012-1753974000-1753976700@www.knightlysfunpark.co.uk
SUMMARY:Party dances with Stitch
DESCRIPTION:Lets have some fun with Stitch! Join us for disco dancing to all your favourite songs!
URL:https://www.knightlysfunpark.co.uk/event/party-dances-with-stitch/2025-07-31/
LOCATION:Knightly’s Bar
CATEGORIES:Family Friendly
ATTACH;FMTTYPE=image/png:https://www.knightlysfunpark.co.uk/wp-content/uploads/2025/04/Party-Dances-with-Stitch-at-Knightlys-Fun-Park.png
END:VEVENT
BEGIN:VEVENT
DTSTART;TZID=Europe/London:20250731T193000
DTEND;TZID=Europe/London:20250731T213000
DTSTAMP:20260424T145942
CREATED:20250410T100210Z
LAST-MODIFIED:20250707T111316Z
UID:10004888-1753990200-1753997400@www.knightlysfunpark.co.uk
SUMMARY:Family Magic Show
DESCRIPTION:Join us for a free family Magic Show at Knightly’s Sandy Bay! Prepare to have your mind blown – Don’t miss out!
URL:https://www.knightlysfunpark.co.uk/event/family-magic-show/2025-07-31/
LOCATION:Knightly’s Sandy Bay Entertainment Centre
CATEGORIES:Evening Entertainment,Family Friendly
ATTACH;FMTTYPE=image/png:https://www.knightlysfunpark.co.uk/wp-content/uploads/2025/04/magic-show.png
END:VEVENT
BEGIN:VEVENT
DTSTART;TZID=Europe/London:20250731T203000
DTEND;TZID=Europe/London:20250731T233000
DTSTAMP:20260424T145942
CREATED:20250429T120357Z
LAST-MODIFIED:20250818T101703Z
UID:10004247-1753993800-1754004600@www.knightlysfunpark.co.uk
SUMMARY:Timeless
DESCRIPTION:Together\, Tommy Barron and Hefin Roberts join to make Timeless\, a hilarious comedy and vocal duo. Prepare to be entertained!
URL:https://www.knightlysfunpark.co.uk/event/timeless/2025-07-31/
LOCATION:Knightly’s Bar
ATTACH;FMTTYPE=image/png:https://www.knightlysfunpark.co.uk/wp-content/uploads/2025/04/Timeless-at-Knightlys-Bar.png
END:VEVENT
BEGIN:VEVENT
DTSTART;TZID=Europe/London:20250801T060000
DTEND;TZID=Europe/London:20250801T060000
DTSTAMP:20260424T145942
CREATED:20250722T151157Z
LAST-MODIFIED:20251020T121751Z
UID:10005589-1754028000-1754028000@www.knightlysfunpark.co.uk
SUMMARY:Kids Disco & Prize Bingo
DESCRIPTION:Join us for cash bingo at 7 PM\, our Mini Disco at 7:45 PM\,  family Prize Bingo at 8:15 PM\,  and Party Dances at 8:45 PM \nWe will be joined by our different characters including Stitch & Paw Patrol!
URL:https://www.knightlysfunpark.co.uk/event/kids-disco-prize-bingo/2025-08-01/
LOCATION:Knightly’s Sandy Bay Entertainment Centre
CATEGORIES:Evening Entertainment,Family Friendly
ATTACH;FMTTYPE=image/jpeg:https://www.knightlysfunpark.co.uk/wp-content/uploads/2025/05/paw-patrol-e1748256881967.jpg
END:VEVENT
BEGIN:VEVENT
DTSTART;TZID=Europe/London:20250801T140000
DTEND;TZID=Europe/London:20250801T150000
DTSTAMP:20260424T145942
CREATED:20250401T141535Z
LAST-MODIFIED:20260416T095159Z
UID:10006321-1754056800-1754060400@www.knightlysfunpark.co.uk
SUMMARY:Cash Bingo
DESCRIPTION:Join us for a game of cash bingo! Win huge cash prizes for a line or full house. Play out in the garden or inside Knightly’s Bar.
URL:https://www.knightlysfunpark.co.uk/event/cash-bingo/2025-08-01/
LOCATION:Knightly’s Bar
ATTACH;FMTTYPE=image/png:https://www.knightlysfunpark.co.uk/wp-content/uploads/2025/04/cash-bingo-at-Knightlys-Bar.png
END:VEVENT
BEGIN:VEVENT
DTSTART;TZID=Europe/London:20250801T140000
DTEND;TZID=Europe/London:20250801T150000
DTSTAMP:20260424T145942
CREATED:20250725T172313Z
LAST-MODIFIED:20250930T125808Z
UID:10005316-1754056800-1754060400@www.knightlysfunpark.co.uk
SUMMARY:Meet Sully
DESCRIPTION:Come along and meet the big blue friendly monster\, Sully!
URL:https://www.knightlysfunpark.co.uk/event/meet-sully-2/2025-08-01/
LOCATION:Knightly’s Fun Park
CATEGORIES:Family Friendly
ATTACH;FMTTYPE=image/png:https://www.knightlysfunpark.co.uk/wp-content/uploads/2025/07/Sully-meet-and-greet.png
END:VEVENT
BEGIN:VEVENT
DTSTART;TZID=Europe/London:20250801T150000
DTEND;TZID=Europe/London:20250801T180000
DTSTAMP:20260424T145942
CREATED:20250723T141420Z
LAST-MODIFIED:20250723T141420Z
UID:10005252-1754060400-1754071200@www.knightlysfunpark.co.uk
SUMMARY:Family Fun Time
DESCRIPTION:Join us at Knightly’s Sandy Bay for fun & games\, arts & crafts\, bingo & karaoke! \nFree entry and everyone is welcome!
URL:https://www.knightlysfunpark.co.uk/event/family-fun-time/2025-08-01/
LOCATION:Knightly’s Sandy Bay Entertainment Centre
CATEGORIES:Family Friendly
ATTACH;FMTTYPE=image/png:https://www.knightlysfunpark.co.uk/wp-content/uploads/2025/07/Family-fun-time-at-Knightlys.png
END:VEVENT
BEGIN:VEVENT
DTSTART;TZID=Europe/London:20250801T190000
DTEND;TZID=Europe/London:20250801T210000
DTSTAMP:20260424T145942
CREATED:20250710T120755Z
LAST-MODIFIED:20260317T113953Z
UID:10004899-1754074800-1754082000@www.knightlysfunpark.co.uk
SUMMARY:Crazy Claire Kids Party
DESCRIPTION:Join us in the Outdoor Arena at Knightly’s Bar for loads of fun and games with Crazy Claire! \n\n Game Show \n Kids Talent Show – Towyn’s next superstar could be YOU!\n Win Prizes\n Crazy BIG giveaways playing In It to Win It!\n Brand NEW party dances\n Creative Arts & Crafts sessions
URL:https://www.knightlysfunpark.co.uk/event/crazy-claire-kids-party/2025-08-01/
LOCATION:Knightly’s Bar
CATEGORIES:Family Friendly
ATTACH;FMTTYPE=image/png:https://www.knightlysfunpark.co.uk/wp-content/uploads/2025/07/Crazy-Claire-at-Knightlys-Bar.png
END:VEVENT
BEGIN:VEVENT
DTSTART;TZID=Europe/London:20250801T210000
DTEND;TZID=Europe/London:20250801T233000
DTSTAMP:20260424T145942
CREATED:20250114T115835Z
LAST-MODIFIED:20260122T114629Z
UID:10003555-1754082000-1754091000@www.knightlysfunpark.co.uk
SUMMARY:Danielle
DESCRIPTION:Get ready for an evening of incredible live music featuring the talented Danielle. Enjoy her captivating vocals and energetic performance in a lively and welcoming atmosphere!
URL:https://www.knightlysfunpark.co.uk/event/danielle/2025-08-01/
LOCATION:Knightly’s Sandy Bay Entertainment Centre
CATEGORIES:Evening Entertainment,Family Friendly
ATTACH;FMTTYPE=image/png:https://www.knightlysfunpark.co.uk/wp-content/uploads/2025/01/Danielle-at-Knightlys-Sandy-Bay-1.png
END:VEVENT
BEGIN:VEVENT
DTSTART;TZID=Europe/London:20250802T060000
DTEND;TZID=Europe/London:20250802T060000
DTSTAMP:20260424T145942
CREATED:20250722T151157Z
LAST-MODIFIED:20251020T121751Z
UID:10005590-1754114400-1754114400@www.knightlysfunpark.co.uk
SUMMARY:Kids Disco & Prize Bingo
DESCRIPTION:Join us for cash bingo at 7 PM\, our Mini Disco at 7:45 PM\,  family Prize Bingo at 8:15 PM\,  and Party Dances at 8:45 PM \nWe will be joined by our different characters including Stitch & Paw Patrol!
URL:https://www.knightlysfunpark.co.uk/event/kids-disco-prize-bingo/2025-08-02/
LOCATION:Knightly’s Sandy Bay Entertainment Centre
CATEGORIES:Evening Entertainment,Family Friendly
ATTACH;FMTTYPE=image/jpeg:https://www.knightlysfunpark.co.uk/wp-content/uploads/2025/05/paw-patrol-e1748256881967.jpg
END:VEVENT
BEGIN:VEVENT
DTSTART;TZID=Europe/London:20250802T130000
DTEND;TZID=Europe/London:20250802T134500
DTSTAMP:20260424T145942
CREATED:20250516T101921Z
LAST-MODIFIED:20251003T103535Z
UID:10005552-1754139600-1754142300@www.knightlysfunpark.co.uk
SUMMARY:Meet Paw Patrol
DESCRIPTION:Give your favourite Paw Patrol pups a big hug and a high five at Knightly’s! Find them strolling around the fairground and outside Knightly’s Bar.
URL:https://www.knightlysfunpark.co.uk/event/meet-paw-patrol-2/2025-08-02/
LOCATION:Knightly’s Fun Park
CATEGORIES:Family Friendly
ATTACH;FMTTYPE=image/jpeg:https://www.knightlysfunpark.co.uk/wp-content/uploads/2024/04/363379669_664953298998537_2372833678835023986_n-e1713363429737.jpg
END:VEVENT
BEGIN:VEVENT
DTSTART;TZID=Europe/London:20250802T140000
DTEND;TZID=Europe/London:20250802T150000
DTSTAMP:20260424T145942
CREATED:20250401T141535Z
LAST-MODIFIED:20260416T095159Z
UID:10006322-1754143200-1754146800@www.knightlysfunpark.co.uk
SUMMARY:Cash Bingo
DESCRIPTION:Join us for a game of cash bingo! Win huge cash prizes for a line or full house. Play out in the garden or inside Knightly’s Bar.
URL:https://www.knightlysfunpark.co.uk/event/cash-bingo/2025-08-02/
LOCATION:Knightly’s Bar
ATTACH;FMTTYPE=image/png:https://www.knightlysfunpark.co.uk/wp-content/uploads/2025/04/cash-bingo-at-Knightlys-Bar.png
END:VEVENT
BEGIN:VEVENT
DTSTART;TZID=Europe/London:20250802T150000
DTEND;TZID=Europe/London:20250802T154500
DTSTAMP:20260424T145942
CREATED:20250725T171847Z
LAST-MODIFIED:20250908T105251Z
UID:10005326-1754146800-1754149500@www.knightlysfunpark.co.uk
SUMMARY:Party dances with Stitch
DESCRIPTION:Lets have some fun with Stitch! Join us for disco dancing to all your favourite songs!
URL:https://www.knightlysfunpark.co.uk/event/party-dances-with-stitch-2/2025-08-02/
LOCATION:Knightly’s Fun Park
CATEGORIES:Family Friendly
ATTACH;FMTTYPE=image/png:https://www.knightlysfunpark.co.uk/wp-content/uploads/2025/04/Party-Dances-with-Stitch-at-Knightlys-Fun-Park.png
END:VEVENT
BEGIN:VEVENT
DTSTART;TZID=Europe/London:20250802T150000
DTEND;TZID=Europe/London:20250802T170000
DTSTAMP:20260424T145942
CREATED:20250401T135152Z
LAST-MODIFIED:20260317T115118Z
UID:10004284-1754146800-1754154000@www.knightlysfunpark.co.uk
SUMMARY:Crazy Claire Party
DESCRIPTION:Join Crazy Claire at Knightly’s Sandy bay for a brilliant kids party full of fun and games! Free entry and all welcome. \n Game Show \n Kids Talent Show – Towyn’s next superstar could be YOU!\n Win Prizes\n Crazy BIG giveaways playing In It to Win It!\n Brand NEW party dances\n Creative Arts & Crafts sessions
URL:https://www.knightlysfunpark.co.uk/event/crazy-claire-party/2025-08-02/
LOCATION:Knightly’s Sandy Bay Entertainment Centre
CATEGORIES:Family Friendly
ATTACH;FMTTYPE=image/png:https://www.knightlysfunpark.co.uk/wp-content/uploads/2025/07/Crazy-Claire-at-Sandy-Bay-1.png
END:VEVENT
BEGIN:VEVENT
DTSTART;TZID=Europe/London:20250802T203000
DTEND;TZID=Europe/London:20250802T233000
DTSTAMP:20260424T145942
CREATED:20250509T100635Z
LAST-MODIFIED:20260420T101037Z
UID:10004437-1754166600-1754177400@www.knightlysfunpark.co.uk
SUMMARY:PJ Stokes
DESCRIPTION:Prepare for powerful vocals and a fantastic performance from the charismatic PJ Stokes! Live on stage from 9 PM after our first game of cash bingo.
URL:https://www.knightlysfunpark.co.uk/event/pj-stokes/2025-08-02/
LOCATION:Knightly’s Bar
CATEGORIES:Evening Entertainment
ATTACH;FMTTYPE=image/png:https://www.knightlysfunpark.co.uk/wp-content/uploads/2025/05/PJ-Stokes-at-Knightlys-Bar.png
END:VEVENT
BEGIN:VEVENT
DTSTART;TZID=Europe/London:20250802T210000
DTEND;TZID=Europe/London:20250802T233000
DTSTAMP:20260424T145942
CREATED:20250114T150808Z
LAST-MODIFIED:20260122T111411Z
UID:10003595-1754168400-1754177400@www.knightlysfunpark.co.uk
SUMMARY:Up Highs
DESCRIPTION:Join us at Knightly’s Sandy Bay for an unforgettable evening of live music with The Up Highs\, a sensational cabaret duo known for their dynamic personalities and captivating performances.
URL:https://www.knightlysfunpark.co.uk/event/up-highs/2025-08-02/
LOCATION:Knightly’s Sandy Bay Entertainment Centre
CATEGORIES:Evening Entertainment,Family Friendly
ATTACH;FMTTYPE=image/png:https://www.knightlysfunpark.co.uk/wp-content/uploads/2025/01/Up-Highs-at-Knightlys-Sandy-Bay.png
END:VEVENT
BEGIN:VEVENT
DTSTART;TZID=Europe/London:20250803T100000
DTEND;TZID=Europe/London:20250803T110000
DTSTAMP:20260424T145942
CREATED:20250716T100748Z
LAST-MODIFIED:20250729T112327Z
UID:10005144-1754215200-1754218800@www.knightlysfunpark.co.uk
SUMMARY:Character Breakfast
DESCRIPTION:Looking for a magical morning treat for the kids this summer? Join us every Wednesday and Sunday from 10–11 AM throughout the summer holidays for our Character Breakfast – the perfect way to meet your favourite characters without the crowds! 🌈✨ \n👧 Just £5 per child includes:\n🥞 A yummy pancake breakfast with Nutella & fruit🥤 A drink📸 One-on-one time with characters🎲 Fun\, games & dancing📷 Photo opportunities galore! \n🌟 Wednesdays: Meet Bluey and a member of Paw Patrol🌟 Sundays: Meet Stitch and a member of Paw Patrol \nAdults can relax and enjoy the morning too\, with breakfast baps and hot drinks available to purchase. ☕🥓 \n🎟️ Only 30 spaces per session! We’re keeping it small so your little ones get quality time with the characters – no rushing\, no crowds\, just fun! \n📅 Pre-booking is essential – Tickets are non-refundable. Tickets may be transferred to a different date with at least 48 hours notice and depending on availability.
URL:https://www.knightlysfunpark.co.uk/event/character-breakfast-12/
LOCATION:Knightly’s Sandy Bay Entertainment Centre
CATEGORIES:Family Friendly
ATTACH;FMTTYPE=image/png:https://www.knightlysfunpark.co.uk/wp-content/uploads/2025/07/3-e1752598466963.png
END:VEVENT
BEGIN:VEVENT
DTSTART;TZID=Europe/London:20250803T130000
DTEND;TZID=Europe/London:20250803T134500
DTSTAMP:20260424T145942
CREATED:20250516T101921Z
LAST-MODIFIED:20251003T103535Z
UID:10004935-1754226000-1754228700@www.knightlysfunpark.co.uk
SUMMARY:Meet Paw Patrol
DESCRIPTION:Give your favourite Paw Patrol pups a big hug and a high five at Knightly’s! Find them strolling around the fairground and outside Knightly’s Bar.
URL:https://www.knightlysfunpark.co.uk/event/meet-paw-patrol-2/2025-08-03/
LOCATION:Knightly’s Fun Park
CATEGORIES:Family Friendly
ATTACH;FMTTYPE=image/jpeg:https://www.knightlysfunpark.co.uk/wp-content/uploads/2024/04/363379669_664953298998537_2372833678835023986_n-e1713363429737.jpg
END:VEVENT
END:VCALENDAR