BEGIN:VCALENDAR
VERSION:2.0
PRODID:-//Knightly&#039;s Fun Park Towyn - ECPv6.15.17//NONSGML v1.0//EN
CALSCALE:GREGORIAN
METHOD:PUBLISH
X-WR-CALNAME:Knightly&#039;s Fun Park Towyn
X-ORIGINAL-URL:https://www.knightlysfunpark.co.uk
X-WR-CALDESC:Events for Knightly&#039;s Fun Park Towyn
REFRESH-INTERVAL;VALUE=DURATION:PT1H
X-Robots-Tag:noindex
X-PUBLISHED-TTL:PT1H
BEGIN:VTIMEZONE
TZID:Europe/London
BEGIN:DAYLIGHT
TZOFFSETFROM:+0000
TZOFFSETTO:+0100
TZNAME:BST
DTSTART:20250330T010000
END:DAYLIGHT
BEGIN:STANDARD
TZOFFSETFROM:+0100
TZOFFSETTO:+0000
TZNAME:GMT
DTSTART:20251026T010000
END:STANDARD
BEGIN:DAYLIGHT
TZOFFSETFROM:+0000
TZOFFSETTO:+0100
TZNAME:BST
DTSTART:20260329T010000
END:DAYLIGHT
BEGIN:STANDARD
TZOFFSETFROM:+0100
TZOFFSETTO:+0000
TZNAME:GMT
DTSTART:20261025T010000
END:STANDARD
BEGIN:DAYLIGHT
TZOFFSETFROM:+0000
TZOFFSETTO:+0100
TZNAME:BST
DTSTART:20270328T010000
END:DAYLIGHT
BEGIN:STANDARD
TZOFFSETFROM:+0100
TZOFFSETTO:+0000
TZNAME:GMT
DTSTART:20271031T010000
END:STANDARD
END:VTIMEZONE
BEGIN:VEVENT
DTSTART;TZID=Europe/London:20260723T140000
DTEND;TZID=Europe/London:20260723T150000
DTSTAMP:20260424T143454
CREATED:20250401T141535Z
LAST-MODIFIED:20260416T095159Z
UID:10006677-1784815200-1784818800@www.knightlysfunpark.co.uk
SUMMARY:Cash Bingo
DESCRIPTION:Join us for a game of cash bingo! Win huge cash prizes for a line or full house. Play out in the garden or inside Knightly’s Bar.
URL:https://www.knightlysfunpark.co.uk/event/cash-bingo/2026-07-23/
LOCATION:Knightly’s Bar
ATTACH;FMTTYPE=image/png:https://www.knightlysfunpark.co.uk/wp-content/uploads/2025/04/cash-bingo-at-Knightlys-Bar.png
END:VEVENT
BEGIN:VEVENT
DTSTART;TZID=Europe/London:20260723T140000
DTEND;TZID=Europe/London:20260723T150000
DTSTAMP:20260424T143454
CREATED:20250429T145225Z
LAST-MODIFIED:20260409T091115Z
UID:10005719-1784815200-1784818800@www.knightlysfunpark.co.uk
SUMMARY:Scaly Safari Show
DESCRIPTION:Get up close with lots of creepy crawlies and reptiles with Scaly Safari! Meet us on Knightly’s Fairground! 🐛🦎🕷 \nFree entry\, all welcome!
URL:https://www.knightlysfunpark.co.uk/event/scaly-safari-show-2/2026-07-23/
LOCATION:Knightly’s Fun Park
CATEGORIES:Family Friendly
ATTACH;FMTTYPE=image/png:https://www.knightlysfunpark.co.uk/wp-content/uploads/2025/04/20250414_175140_0000.png
END:VEVENT
BEGIN:VEVENT
DTSTART;TZID=Europe/London:20260723T190000
DTEND;TZID=Europe/London:20260723T210000
DTSTAMP:20260424T143454
CREATED:20250520T142640Z
LAST-MODIFIED:20260317T111410Z
UID:10005752-1784833200-1784840400@www.knightlysfunpark.co.uk
SUMMARY:Blippi
DESCRIPTION:Don’t miss your chance to meet Blippi at Knightly’s Fun Park! Blippi will be on-site to greet fans\, take photos\, and spread joy with his infectious energy. Find him at Knightly’s Bar\, on the fairground and in Knightly’s Sandy Bay.
URL:https://www.knightlysfunpark.co.uk/event/blippi/2026-07-23/
LOCATION:Knightly’s Fun Park
CATEGORIES:Family Friendly
ATTACH;FMTTYPE=image/png:https://www.knightlysfunpark.co.uk/wp-content/uploads/2025/01/blippi-kb.png
END:VEVENT
BEGIN:VEVENT
DTSTART;TZID=Europe/London:20260724T140000
DTEND;TZID=Europe/London:20260724T150000
DTSTAMP:20260424T143454
CREATED:20250401T141535Z
LAST-MODIFIED:20260416T095159Z
UID:10006678-1784901600-1784905200@www.knightlysfunpark.co.uk
SUMMARY:Cash Bingo
DESCRIPTION:Join us for a game of cash bingo! Win huge cash prizes for a line or full house. Play out in the garden or inside Knightly’s Bar.
URL:https://www.knightlysfunpark.co.uk/event/cash-bingo/2026-07-24/
LOCATION:Knightly’s Bar
ATTACH;FMTTYPE=image/png:https://www.knightlysfunpark.co.uk/wp-content/uploads/2025/04/cash-bingo-at-Knightlys-Bar.png
END:VEVENT
BEGIN:VEVENT
DTSTART;TZID=Europe/London:20260724T190000
DTEND;TZID=Europe/London:20260724T210000
DTSTAMP:20260424T143454
CREATED:20250710T120755Z
LAST-MODIFIED:20260317T113953Z
UID:10005767-1784919600-1784926800@www.knightlysfunpark.co.uk
SUMMARY:Crazy Claire Kids Party
DESCRIPTION:Join us in the Outdoor Arena at Knightly’s Bar for loads of fun and games with Crazy Claire! \n\n Game Show \n Kids Talent Show – Towyn’s next superstar could be YOU!\n Win Prizes\n Crazy BIG giveaways playing In It to Win It!\n Brand NEW party dances\n Creative Arts & Crafts sessions
URL:https://www.knightlysfunpark.co.uk/event/crazy-claire-kids-party/2026-07-24/
LOCATION:Knightly’s Bar
CATEGORIES:Family Friendly
ATTACH;FMTTYPE=image/png:https://www.knightlysfunpark.co.uk/wp-content/uploads/2025/07/Crazy-Claire-at-Knightlys-Bar.png
END:VEVENT
BEGIN:VEVENT
DTSTART;TZID=Europe/London:20260725T140000
DTEND;TZID=Europe/London:20260725T150000
DTSTAMP:20260424T143454
CREATED:20250401T141535Z
LAST-MODIFIED:20260416T095159Z
UID:10006679-1784988000-1784991600@www.knightlysfunpark.co.uk
SUMMARY:Cash Bingo
DESCRIPTION:Join us for a game of cash bingo! Win huge cash prizes for a line or full house. Play out in the garden or inside Knightly’s Bar.
URL:https://www.knightlysfunpark.co.uk/event/cash-bingo/2026-07-25/
LOCATION:Knightly’s Bar
ATTACH;FMTTYPE=image/png:https://www.knightlysfunpark.co.uk/wp-content/uploads/2025/04/cash-bingo-at-Knightlys-Bar.png
END:VEVENT
BEGIN:VEVENT
DTSTART;TZID=Europe/London:20260725T150000
DTEND;TZID=Europe/London:20260725T170000
DTSTAMP:20260424T143454
CREATED:20250401T135152Z
LAST-MODIFIED:20260317T115118Z
UID:10005787-1784991600-1784998800@www.knightlysfunpark.co.uk
SUMMARY:Crazy Claire Party
DESCRIPTION:Join Crazy Claire at Knightly’s Sandy bay for a brilliant kids party full of fun and games! Free entry and all welcome. \n Game Show \n Kids Talent Show – Towyn’s next superstar could be YOU!\n Win Prizes\n Crazy BIG giveaways playing In It to Win It!\n Brand NEW party dances\n Creative Arts & Crafts sessions
URL:https://www.knightlysfunpark.co.uk/event/crazy-claire-party/2026-07-25/
LOCATION:Knightly’s Sandy Bay Entertainment Centre
CATEGORIES:Family Friendly
ATTACH;FMTTYPE=image/png:https://www.knightlysfunpark.co.uk/wp-content/uploads/2025/07/Crazy-Claire-at-Sandy-Bay-1.png
END:VEVENT
BEGIN:VEVENT
DTSTART;TZID=Europe/London:20260726T140000
DTEND;TZID=Europe/London:20260726T150000
DTSTAMP:20260424T143454
CREATED:20250401T141535Z
LAST-MODIFIED:20260416T095159Z
UID:10006680-1785074400-1785078000@www.knightlysfunpark.co.uk
SUMMARY:Cash Bingo
DESCRIPTION:Join us for a game of cash bingo! Win huge cash prizes for a line or full house. Play out in the garden or inside Knightly’s Bar.
URL:https://www.knightlysfunpark.co.uk/event/cash-bingo/2026-07-26/
LOCATION:Knightly’s Bar
ATTACH;FMTTYPE=image/png:https://www.knightlysfunpark.co.uk/wp-content/uploads/2025/04/cash-bingo-at-Knightlys-Bar.png
END:VEVENT
BEGIN:VEVENT
DTSTART;TZID=Europe/London:20260727T140000
DTEND;TZID=Europe/London:20260727T150000
DTSTAMP:20260424T143454
CREATED:20250401T141535Z
LAST-MODIFIED:20260416T095159Z
UID:10006681-1785160800-1785164400@www.knightlysfunpark.co.uk
SUMMARY:Cash Bingo
DESCRIPTION:Join us for a game of cash bingo! Win huge cash prizes for a line or full house. Play out in the garden or inside Knightly’s Bar.
URL:https://www.knightlysfunpark.co.uk/event/cash-bingo/2026-07-27/
LOCATION:Knightly’s Bar
ATTACH;FMTTYPE=image/png:https://www.knightlysfunpark.co.uk/wp-content/uploads/2025/04/cash-bingo-at-Knightlys-Bar.png
END:VEVENT
BEGIN:VEVENT
DTSTART;TZID=Europe/London:20260727T190000
DTEND;TZID=Europe/London:20260727T210000
DTSTAMP:20260424T143454
CREATED:20250710T120755Z
LAST-MODIFIED:20260317T113953Z
UID:10005768-1785178800-1785186000@www.knightlysfunpark.co.uk
SUMMARY:Crazy Claire Kids Party
DESCRIPTION:Join us in the Outdoor Arena at Knightly’s Bar for loads of fun and games with Crazy Claire! \n\n Game Show \n Kids Talent Show – Towyn’s next superstar could be YOU!\n Win Prizes\n Crazy BIG giveaways playing In It to Win It!\n Brand NEW party dances\n Creative Arts & Crafts sessions
URL:https://www.knightlysfunpark.co.uk/event/crazy-claire-kids-party/2026-07-27/
LOCATION:Knightly’s Bar
CATEGORIES:Family Friendly
ATTACH;FMTTYPE=image/png:https://www.knightlysfunpark.co.uk/wp-content/uploads/2025/07/Crazy-Claire-at-Knightlys-Bar.png
END:VEVENT
BEGIN:VEVENT
DTSTART;TZID=Europe/London:20260728T140000
DTEND;TZID=Europe/London:20260728T150000
DTSTAMP:20260424T143455
CREATED:20250401T141535Z
LAST-MODIFIED:20260416T095159Z
UID:10006682-1785247200-1785250800@www.knightlysfunpark.co.uk
SUMMARY:Cash Bingo
DESCRIPTION:Join us for a game of cash bingo! Win huge cash prizes for a line or full house. Play out in the garden or inside Knightly’s Bar.
URL:https://www.knightlysfunpark.co.uk/event/cash-bingo/2026-07-28/
LOCATION:Knightly’s Bar
ATTACH;FMTTYPE=image/png:https://www.knightlysfunpark.co.uk/wp-content/uploads/2025/04/cash-bingo-at-Knightlys-Bar.png
END:VEVENT
BEGIN:VEVENT
DTSTART;TZID=Europe/London:20260728T170000
DTEND;TZID=Europe/London:20260728T180000
DTSTAMP:20260424T143455
CREATED:20250414T165347Z
LAST-MODIFIED:20260310T140545Z
UID:10005728-1785258000-1785261600@www.knightlysfunpark.co.uk
SUMMARY:Scaly Safari Show
DESCRIPTION:Get up close with lots of creepy crawlies and reptiles with Scaly Safari at Knightly’s Sandy Bay! 🐛🦎🕷 \nFree entry\, all welcome!
URL:https://www.knightlysfunpark.co.uk/event/scaly-safari-show/2026-07-28/
LOCATION:Knightly’s Sandy Bay Entertainment Centre
CATEGORIES:Family Friendly
ATTACH;FMTTYPE=image/png:https://www.knightlysfunpark.co.uk/wp-content/uploads/2025/04/20250414_175140_0000.png
END:VEVENT
BEGIN:VEVENT
DTSTART;TZID=Europe/London:20260729T140000
DTEND;TZID=Europe/London:20260729T150000
DTSTAMP:20260424T143455
CREATED:20250401T141535Z
LAST-MODIFIED:20260416T095159Z
UID:10006683-1785333600-1785337200@www.knightlysfunpark.co.uk
SUMMARY:Cash Bingo
DESCRIPTION:Join us for a game of cash bingo! Win huge cash prizes for a line or full house. Play out in the garden or inside Knightly’s Bar.
URL:https://www.knightlysfunpark.co.uk/event/cash-bingo/2026-07-29/
LOCATION:Knightly’s Bar
ATTACH;FMTTYPE=image/png:https://www.knightlysfunpark.co.uk/wp-content/uploads/2025/04/cash-bingo-at-Knightlys-Bar.png
END:VEVENT
BEGIN:VEVENT
DTSTART;TZID=Europe/London:20260729T200000
DTEND;TZID=Europe/London:20260729T220000
DTSTAMP:20260424T143455
CREATED:20250401T135856Z
LAST-MODIFIED:20260330T124506Z
UID:10005799-1785355200-1785362400@www.knightlysfunpark.co.uk
SUMMARY:Wrestling Show
DESCRIPTION:Get ready for an electrifying showdown as Basix Pro Wrestling takes center stage at Knightly’s Fun Park! You’re in for a treat when you come to watch some of the UK’s most professional wrestlers who know how to deliver exceptional family entertainment. Don’t miss this epic display of athleticism and excitement! \n£3 per person. Gates open at 6 PM\, show starts at 8 PM.
URL:https://www.knightlysfunpark.co.uk/event/wrestling-show/2026-07-29/
LOCATION:Knightly’s Bar
CATEGORIES:Family Friendly
ATTACH;FMTTYPE=image/png:https://www.knightlysfunpark.co.uk/wp-content/uploads/2025/04/2026.png
END:VEVENT
BEGIN:VEVENT
DTSTART;TZID=Europe/London:20260730T140000
DTEND;TZID=Europe/London:20260730T150000
DTSTAMP:20260424T143455
CREATED:20250401T141535Z
LAST-MODIFIED:20260416T095159Z
UID:10006684-1785420000-1785423600@www.knightlysfunpark.co.uk
SUMMARY:Cash Bingo
DESCRIPTION:Join us for a game of cash bingo! Win huge cash prizes for a line or full house. Play out in the garden or inside Knightly’s Bar.
URL:https://www.knightlysfunpark.co.uk/event/cash-bingo/2026-07-30/
LOCATION:Knightly’s Bar
ATTACH;FMTTYPE=image/png:https://www.knightlysfunpark.co.uk/wp-content/uploads/2025/04/cash-bingo-at-Knightlys-Bar.png
END:VEVENT
BEGIN:VEVENT
DTSTART;TZID=Europe/London:20260730T140000
DTEND;TZID=Europe/London:20260730T150000
DTSTAMP:20260424T143455
CREATED:20250429T145225Z
LAST-MODIFIED:20260409T091115Z
UID:10005720-1785420000-1785423600@www.knightlysfunpark.co.uk
SUMMARY:Scaly Safari Show
DESCRIPTION:Get up close with lots of creepy crawlies and reptiles with Scaly Safari! Meet us on Knightly’s Fairground! 🐛🦎🕷 \nFree entry\, all welcome!
URL:https://www.knightlysfunpark.co.uk/event/scaly-safari-show-2/2026-07-30/
LOCATION:Knightly’s Fun Park
CATEGORIES:Family Friendly
ATTACH;FMTTYPE=image/png:https://www.knightlysfunpark.co.uk/wp-content/uploads/2025/04/20250414_175140_0000.png
END:VEVENT
BEGIN:VEVENT
DTSTART;TZID=Europe/London:20260730T190000
DTEND;TZID=Europe/London:20260730T210000
DTSTAMP:20260424T143455
CREATED:20250520T142640Z
LAST-MODIFIED:20260317T111410Z
UID:10005753-1785438000-1785445200@www.knightlysfunpark.co.uk
SUMMARY:Blippi
DESCRIPTION:Don’t miss your chance to meet Blippi at Knightly’s Fun Park! Blippi will be on-site to greet fans\, take photos\, and spread joy with his infectious energy. Find him at Knightly’s Bar\, on the fairground and in Knightly’s Sandy Bay.
URL:https://www.knightlysfunpark.co.uk/event/blippi/2026-07-30/
LOCATION:Knightly’s Fun Park
CATEGORIES:Family Friendly
ATTACH;FMTTYPE=image/png:https://www.knightlysfunpark.co.uk/wp-content/uploads/2025/01/blippi-kb.png
END:VEVENT
BEGIN:VEVENT
DTSTART;TZID=Europe/London:20260731T140000
DTEND;TZID=Europe/London:20260731T150000
DTSTAMP:20260424T143455
CREATED:20250401T141535Z
LAST-MODIFIED:20260416T095159Z
UID:10006685-1785506400-1785510000@www.knightlysfunpark.co.uk
SUMMARY:Cash Bingo
DESCRIPTION:Join us for a game of cash bingo! Win huge cash prizes for a line or full house. Play out in the garden or inside Knightly’s Bar.
URL:https://www.knightlysfunpark.co.uk/event/cash-bingo/2026-07-31/
LOCATION:Knightly’s Bar
ATTACH;FMTTYPE=image/png:https://www.knightlysfunpark.co.uk/wp-content/uploads/2025/04/cash-bingo-at-Knightlys-Bar.png
END:VEVENT
BEGIN:VEVENT
DTSTART;TZID=Europe/London:20260731T190000
DTEND;TZID=Europe/London:20260731T210000
DTSTAMP:20260424T143455
CREATED:20250710T120755Z
LAST-MODIFIED:20260317T113953Z
UID:10005769-1785524400-1785531600@www.knightlysfunpark.co.uk
SUMMARY:Crazy Claire Kids Party
DESCRIPTION:Join us in the Outdoor Arena at Knightly’s Bar for loads of fun and games with Crazy Claire! \n\n Game Show \n Kids Talent Show – Towyn’s next superstar could be YOU!\n Win Prizes\n Crazy BIG giveaways playing In It to Win It!\n Brand NEW party dances\n Creative Arts & Crafts sessions
URL:https://www.knightlysfunpark.co.uk/event/crazy-claire-kids-party/2026-07-31/
LOCATION:Knightly’s Bar
CATEGORIES:Family Friendly
ATTACH;FMTTYPE=image/png:https://www.knightlysfunpark.co.uk/wp-content/uploads/2025/07/Crazy-Claire-at-Knightlys-Bar.png
END:VEVENT
BEGIN:VEVENT
DTSTART;TZID=Europe/London:20260801T140000
DTEND;TZID=Europe/London:20260801T150000
DTSTAMP:20260424T143455
CREATED:20250401T141535Z
LAST-MODIFIED:20260416T095159Z
UID:10006686-1785592800-1785596400@www.knightlysfunpark.co.uk
SUMMARY:Cash Bingo
DESCRIPTION:Join us for a game of cash bingo! Win huge cash prizes for a line or full house. Play out in the garden or inside Knightly’s Bar.
URL:https://www.knightlysfunpark.co.uk/event/cash-bingo/2026-08-01/
LOCATION:Knightly’s Bar
ATTACH;FMTTYPE=image/png:https://www.knightlysfunpark.co.uk/wp-content/uploads/2025/04/cash-bingo-at-Knightlys-Bar.png
END:VEVENT
BEGIN:VEVENT
DTSTART;TZID=Europe/London:20260801T150000
DTEND;TZID=Europe/London:20260801T170000
DTSTAMP:20260424T143455
CREATED:20250401T135152Z
LAST-MODIFIED:20260317T115118Z
UID:10005788-1785596400-1785603600@www.knightlysfunpark.co.uk
SUMMARY:Crazy Claire Party
DESCRIPTION:Join Crazy Claire at Knightly’s Sandy bay for a brilliant kids party full of fun and games! Free entry and all welcome. \n Game Show \n Kids Talent Show – Towyn’s next superstar could be YOU!\n Win Prizes\n Crazy BIG giveaways playing In It to Win It!\n Brand NEW party dances\n Creative Arts & Crafts sessions
URL:https://www.knightlysfunpark.co.uk/event/crazy-claire-party/2026-08-01/
LOCATION:Knightly’s Sandy Bay Entertainment Centre
CATEGORIES:Family Friendly
ATTACH;FMTTYPE=image/png:https://www.knightlysfunpark.co.uk/wp-content/uploads/2025/07/Crazy-Claire-at-Sandy-Bay-1.png
END:VEVENT
BEGIN:VEVENT
DTSTART;TZID=Europe/London:20260802T140000
DTEND;TZID=Europe/London:20260802T150000
DTSTAMP:20260424T143455
CREATED:20250401T141535Z
LAST-MODIFIED:20260416T095159Z
UID:10006687-1785679200-1785682800@www.knightlysfunpark.co.uk
SUMMARY:Cash Bingo
DESCRIPTION:Join us for a game of cash bingo! Win huge cash prizes for a line or full house. Play out in the garden or inside Knightly’s Bar.
URL:https://www.knightlysfunpark.co.uk/event/cash-bingo/2026-08-02/
LOCATION:Knightly’s Bar
ATTACH;FMTTYPE=image/png:https://www.knightlysfunpark.co.uk/wp-content/uploads/2025/04/cash-bingo-at-Knightlys-Bar.png
END:VEVENT
BEGIN:VEVENT
DTSTART;TZID=Europe/London:20260803T140000
DTEND;TZID=Europe/London:20260803T150000
DTSTAMP:20260424T143455
CREATED:20250401T141535Z
LAST-MODIFIED:20260416T095159Z
UID:10006688-1785765600-1785769200@www.knightlysfunpark.co.uk
SUMMARY:Cash Bingo
DESCRIPTION:Join us for a game of cash bingo! Win huge cash prizes for a line or full house. Play out in the garden or inside Knightly’s Bar.
URL:https://www.knightlysfunpark.co.uk/event/cash-bingo/2026-08-03/
LOCATION:Knightly’s Bar
ATTACH;FMTTYPE=image/png:https://www.knightlysfunpark.co.uk/wp-content/uploads/2025/04/cash-bingo-at-Knightlys-Bar.png
END:VEVENT
BEGIN:VEVENT
DTSTART;TZID=Europe/London:20260803T190000
DTEND;TZID=Europe/London:20260803T210000
DTSTAMP:20260424T143455
CREATED:20250710T120755Z
LAST-MODIFIED:20260317T113953Z
UID:10005770-1785783600-1785790800@www.knightlysfunpark.co.uk
SUMMARY:Crazy Claire Kids Party
DESCRIPTION:Join us in the Outdoor Arena at Knightly’s Bar for loads of fun and games with Crazy Claire! \n\n Game Show \n Kids Talent Show – Towyn’s next superstar could be YOU!\n Win Prizes\n Crazy BIG giveaways playing In It to Win It!\n Brand NEW party dances\n Creative Arts & Crafts sessions
URL:https://www.knightlysfunpark.co.uk/event/crazy-claire-kids-party/2026-08-03/
LOCATION:Knightly’s Bar
CATEGORIES:Family Friendly
ATTACH;FMTTYPE=image/png:https://www.knightlysfunpark.co.uk/wp-content/uploads/2025/07/Crazy-Claire-at-Knightlys-Bar.png
END:VEVENT
BEGIN:VEVENT
DTSTART;TZID=Europe/London:20260804T140000
DTEND;TZID=Europe/London:20260804T150000
DTSTAMP:20260424T143455
CREATED:20250401T141535Z
LAST-MODIFIED:20260416T095159Z
UID:10006689-1785852000-1785855600@www.knightlysfunpark.co.uk
SUMMARY:Cash Bingo
DESCRIPTION:Join us for a game of cash bingo! Win huge cash prizes for a line or full house. Play out in the garden or inside Knightly’s Bar.
URL:https://www.knightlysfunpark.co.uk/event/cash-bingo/2026-08-04/
LOCATION:Knightly’s Bar
ATTACH;FMTTYPE=image/png:https://www.knightlysfunpark.co.uk/wp-content/uploads/2025/04/cash-bingo-at-Knightlys-Bar.png
END:VEVENT
BEGIN:VEVENT
DTSTART;TZID=Europe/London:20260804T170000
DTEND;TZID=Europe/London:20260804T180000
DTSTAMP:20260424T143455
CREATED:20250414T165347Z
LAST-MODIFIED:20260310T140545Z
UID:10005729-1785862800-1785866400@www.knightlysfunpark.co.uk
SUMMARY:Scaly Safari Show
DESCRIPTION:Get up close with lots of creepy crawlies and reptiles with Scaly Safari at Knightly’s Sandy Bay! 🐛🦎🕷 \nFree entry\, all welcome!
URL:https://www.knightlysfunpark.co.uk/event/scaly-safari-show/2026-08-04/
LOCATION:Knightly’s Sandy Bay Entertainment Centre
CATEGORIES:Family Friendly
ATTACH;FMTTYPE=image/png:https://www.knightlysfunpark.co.uk/wp-content/uploads/2025/04/20250414_175140_0000.png
END:VEVENT
BEGIN:VEVENT
DTSTART;TZID=Europe/London:20260805T140000
DTEND;TZID=Europe/London:20260805T150000
DTSTAMP:20260424T143455
CREATED:20250401T141535Z
LAST-MODIFIED:20260416T095159Z
UID:10006690-1785938400-1785942000@www.knightlysfunpark.co.uk
SUMMARY:Cash Bingo
DESCRIPTION:Join us for a game of cash bingo! Win huge cash prizes for a line or full house. Play out in the garden or inside Knightly’s Bar.
URL:https://www.knightlysfunpark.co.uk/event/cash-bingo/2026-08-05/
LOCATION:Knightly’s Bar
ATTACH;FMTTYPE=image/png:https://www.knightlysfunpark.co.uk/wp-content/uploads/2025/04/cash-bingo-at-Knightlys-Bar.png
END:VEVENT
BEGIN:VEVENT
DTSTART;TZID=Europe/London:20260805T200000
DTEND;TZID=Europe/London:20260805T220000
DTSTAMP:20260424T143455
CREATED:20250401T135856Z
LAST-MODIFIED:20260330T124506Z
UID:10005800-1785960000-1785967200@www.knightlysfunpark.co.uk
SUMMARY:Wrestling Show
DESCRIPTION:Get ready for an electrifying showdown as Basix Pro Wrestling takes center stage at Knightly’s Fun Park! You’re in for a treat when you come to watch some of the UK’s most professional wrestlers who know how to deliver exceptional family entertainment. Don’t miss this epic display of athleticism and excitement! \n£3 per person. Gates open at 6 PM\, show starts at 8 PM.
URL:https://www.knightlysfunpark.co.uk/event/wrestling-show/2026-08-05/
LOCATION:Knightly’s Bar
CATEGORIES:Family Friendly
ATTACH;FMTTYPE=image/png:https://www.knightlysfunpark.co.uk/wp-content/uploads/2025/04/2026.png
END:VEVENT
BEGIN:VEVENT
DTSTART;TZID=Europe/London:20260806T140000
DTEND;TZID=Europe/London:20260806T150000
DTSTAMP:20260424T143455
CREATED:20250401T141535Z
LAST-MODIFIED:20260416T095159Z
UID:10006691-1786024800-1786028400@www.knightlysfunpark.co.uk
SUMMARY:Cash Bingo
DESCRIPTION:Join us for a game of cash bingo! Win huge cash prizes for a line or full house. Play out in the garden or inside Knightly’s Bar.
URL:https://www.knightlysfunpark.co.uk/event/cash-bingo/2026-08-06/
LOCATION:Knightly’s Bar
ATTACH;FMTTYPE=image/png:https://www.knightlysfunpark.co.uk/wp-content/uploads/2025/04/cash-bingo-at-Knightlys-Bar.png
END:VEVENT
BEGIN:VEVENT
DTSTART;TZID=Europe/London:20260806T140000
DTEND;TZID=Europe/London:20260806T150000
DTSTAMP:20260424T143455
CREATED:20250429T145225Z
LAST-MODIFIED:20260409T091115Z
UID:10005721-1786024800-1786028400@www.knightlysfunpark.co.uk
SUMMARY:Scaly Safari Show
DESCRIPTION:Get up close with lots of creepy crawlies and reptiles with Scaly Safari! Meet us on Knightly’s Fairground! 🐛🦎🕷 \nFree entry\, all welcome!
URL:https://www.knightlysfunpark.co.uk/event/scaly-safari-show-2/2026-08-06/
LOCATION:Knightly’s Fun Park
CATEGORIES:Family Friendly
ATTACH;FMTTYPE=image/png:https://www.knightlysfunpark.co.uk/wp-content/uploads/2025/04/20250414_175140_0000.png
END:VEVENT
END:VCALENDAR