BEGIN:VCALENDAR
VERSION:2.0
PRODID:-//Knightly&#039;s Fun Park Towyn - ECPv6.15.17//NONSGML v1.0//EN
CALSCALE:GREGORIAN
METHOD:PUBLISH
X-WR-CALNAME:Knightly&#039;s Fun Park Towyn
X-ORIGINAL-URL:https://www.knightlysfunpark.co.uk
X-WR-CALDESC:Events for Knightly&#039;s Fun Park Towyn
REFRESH-INTERVAL;VALUE=DURATION:PT1H
X-Robots-Tag:noindex
X-PUBLISHED-TTL:PT1H
BEGIN:VTIMEZONE
TZID:Europe/London
BEGIN:DAYLIGHT
TZOFFSETFROM:+0000
TZOFFSETTO:+0100
TZNAME:BST
DTSTART:20240331T010000
END:DAYLIGHT
BEGIN:STANDARD
TZOFFSETFROM:+0100
TZOFFSETTO:+0000
TZNAME:GMT
DTSTART:20241027T010000
END:STANDARD
BEGIN:DAYLIGHT
TZOFFSETFROM:+0000
TZOFFSETTO:+0100
TZNAME:BST
DTSTART:20250330T010000
END:DAYLIGHT
BEGIN:STANDARD
TZOFFSETFROM:+0100
TZOFFSETTO:+0000
TZNAME:GMT
DTSTART:20251026T010000
END:STANDARD
BEGIN:DAYLIGHT
TZOFFSETFROM:+0000
TZOFFSETTO:+0100
TZNAME:BST
DTSTART:20260329T010000
END:DAYLIGHT
BEGIN:STANDARD
TZOFFSETFROM:+0100
TZOFFSETTO:+0000
TZNAME:GMT
DTSTART:20261025T010000
END:STANDARD
END:VTIMEZONE
BEGIN:VEVENT
DTSTART;TZID=Europe/London:20250615T203000
DTEND;TZID=Europe/London:20250615T233000
DTSTAMP:20260421T171441
CREATED:20250612T124251Z
LAST-MODIFIED:20260420T100507Z
UID:10004755-1750019400-1750030200@www.knightlysfunpark.co.uk
SUMMARY:Dean Morter
DESCRIPTION:A Rod Stewart tribute artist\, with an uncannily similar voice to the man himself\, Dean Morter needs to be heard to be believed!
URL:https://www.knightlysfunpark.co.uk/event/dean-morter/2025-06-15/
LOCATION:Knightly’s Bar
ATTACH;FMTTYPE=image/png:https://www.knightlysfunpark.co.uk/wp-content/uploads/2025/06/Dean-Morter-at-Knightlys-Bar.png
END:VEVENT
BEGIN:VEVENT
DTSTART;TZID=Europe/London:20250615T180000
DTEND;TZID=Europe/London:20250615T200000
DTSTAMP:20260421T171441
CREATED:20250612T122939Z
LAST-MODIFIED:20260420T100939Z
UID:10004747-1750010400-1750017600@www.knightlysfunpark.co.uk
SUMMARY:Hefin Roberts
DESCRIPTION:Join us at Knightly’s Bar for an unforgettable evening with the incredibly talented Hefin Roberts. Prepare for power-house vocals and hilarious comedy all wrapped up in one!
URL:https://www.knightlysfunpark.co.uk/event/hefin-roberts/2025-06-15/
LOCATION:Knightly’s Bar
CATEGORIES:Evening Entertainment
ATTACH;FMTTYPE=image/png:https://www.knightlysfunpark.co.uk/wp-content/uploads/2025/06/Hefin-Roberts-at-Knightlys-Bar.png
END:VEVENT
BEGIN:VEVENT
DTSTART;TZID=Europe/London:20250615T150000
DTEND;TZID=Europe/London:20250615T170000
DTSTAMP:20260421T171441
CREATED:20250612T125117Z
LAST-MODIFIED:20260326T113943Z
UID:10004775-1749999600-1750006800@www.knightlysfunpark.co.uk
SUMMARY:Tommy Barron
DESCRIPTION:Tommy Barron is a fantastic performer and entertainer\, singing all styles and genres of music and always gets the crowd ready to party!
URL:https://www.knightlysfunpark.co.uk/event/tommy-barron-2/2025-06-15/
LOCATION:Knightly’s Bar
CATEGORIES:Family Friendly
ATTACH;FMTTYPE=image/png:https://www.knightlysfunpark.co.uk/wp-content/uploads/2025/06/Tommy-Barron-at-Knightlys-Bar.png
END:VEVENT
BEGIN:VEVENT
DTSTART;TZID=Europe/London:20250615T140000
DTEND;TZID=Europe/London:20250615T150000
DTSTAMP:20260421T171441
CREATED:20250401T141535Z
LAST-MODIFIED:20260416T095159Z
UID:10006274-1749996000-1749999600@www.knightlysfunpark.co.uk
SUMMARY:Cash Bingo
DESCRIPTION:Join us for a game of cash bingo! Win huge cash prizes for a line or full house. Play out in the garden or inside Knightly’s Bar.
URL:https://www.knightlysfunpark.co.uk/event/cash-bingo/2025-06-15/
LOCATION:Knightly’s Bar
ATTACH;FMTTYPE=image/png:https://www.knightlysfunpark.co.uk/wp-content/uploads/2025/04/cash-bingo-at-Knightlys-Bar.png
END:VEVENT
BEGIN:VEVENT
DTSTART;TZID=Europe/London:20250614T210000
DTEND;TZID=Europe/London:20250614T233000
DTSTAMP:20260421T171441
CREATED:20250113T140036Z
LAST-MODIFIED:20260414T081337Z
UID:10003541-1749934800-1749943800@www.knightlysfunpark.co.uk
SUMMARY:MAVMAC
DESCRIPTION:MAVMAC is a highly energetic duo\, playing cover songs and mashups across all genres. This band have the ‘party-starting formula’ down to a tee and know how to bring the house down!
URL:https://www.knightlysfunpark.co.uk/event/mavmac/2025-06-14/
LOCATION:Knightly’s Sandy Bay Entertainment Centre
CATEGORIES:Evening Entertainment,Family Friendly
ATTACH;FMTTYPE=image/png:https://www.knightlysfunpark.co.uk/wp-content/uploads/2025/01/MAVMAC-at-Knightlys-Sandy-Bay.png
END:VEVENT
BEGIN:VEVENT
DTSTART;TZID=Europe/London:20250614T203000
DTEND;TZID=Europe/London:20250614T233000
DTSTAMP:20260421T171441
CREATED:20250122T130109Z
LAST-MODIFIED:20250428T161933Z
UID:10004190-1749933000-1749943800@www.knightlysfunpark.co.uk
SUMMARY:Harper Brothers
DESCRIPTION:Join us for a fab night of comedy and singing from non other than Bobby Balls son’s\, The Harper Brothers!
URL:https://www.knightlysfunpark.co.uk/event/harper-bros/2025-06-14/
LOCATION:Knightly’s Bar
CATEGORIES:Evening Entertainment
ATTACH;FMTTYPE=image/png:https://www.knightlysfunpark.co.uk/wp-content/uploads/2025/01/harper-bros-kb.png
END:VEVENT
BEGIN:VEVENT
DTSTART;TZID=Europe/London:20250614T140000
DTEND;TZID=Europe/London:20250614T150000
DTSTAMP:20260421T171441
CREATED:20250401T141535Z
LAST-MODIFIED:20260416T095159Z
UID:10006273-1749909600-1749913200@www.knightlysfunpark.co.uk
SUMMARY:Cash Bingo
DESCRIPTION:Join us for a game of cash bingo! Win huge cash prizes for a line or full house. Play out in the garden or inside Knightly’s Bar.
URL:https://www.knightlysfunpark.co.uk/event/cash-bingo/2025-06-14/
LOCATION:Knightly’s Bar
ATTACH;FMTTYPE=image/png:https://www.knightlysfunpark.co.uk/wp-content/uploads/2025/04/cash-bingo-at-Knightlys-Bar.png
END:VEVENT
BEGIN:VEVENT
DTSTART;TZID=Europe/London:20250613T210000
DTEND;TZID=Europe/London:20250613T233000
DTSTAMP:20260421T171441
CREATED:20250114T151404Z
LAST-MODIFIED:20260122T103658Z
UID:10003598-1749848400-1749857400@www.knightlysfunpark.co.uk
SUMMARY:Jade Courtney
DESCRIPTION:Join us at Knightly’s Sandy Bay for an unforgettable evening of live music featuring the incredible Jade Courtney. Enjoy her lively performance\, perfect for a night of entertainment for the whole family.
URL:https://www.knightlysfunpark.co.uk/event/jade-courtney/2025-06-13/
LOCATION:Knightly’s Sandy Bay Entertainment Centre
CATEGORIES:Evening Entertainment,Family Friendly
ATTACH;FMTTYPE=image/png:https://www.knightlysfunpark.co.uk/wp-content/uploads/2025/01/Jade-Courtney-at-Knightlys-Sandy-Bay.png
END:VEVENT
BEGIN:VEVENT
DTSTART;TZID=Europe/London:20250613T203000
DTEND;TZID=Europe/London:20250613T233000
DTSTAMP:20260421T171441
CREATED:20250121T130636Z
LAST-MODIFIED:20260119T102732Z
UID:10004386-1749846600-1749857400@www.knightlysfunpark.co.uk
SUMMARY:Alfie Benson
DESCRIPTION:One of the UK’s top soul singers\, Alfie Benson will be with us at Knightly’s Bar! Join us form 8:30 PM for your chance to win big in our first cash bingo game of the evening.
URL:https://www.knightlysfunpark.co.uk/event/alfie-benson/2025-06-13/
LOCATION:Knightly’s Bar
CATEGORIES:Evening Entertainment
ATTACH;FMTTYPE=image/png:https://www.knightlysfunpark.co.uk/wp-content/uploads/2025/01/Alfie-Benson-at-Knightlys-Bar.png
END:VEVENT
BEGIN:VEVENT
DTSTART;TZID=Europe/London:20250613T140000
DTEND;TZID=Europe/London:20250613T150000
DTSTAMP:20260421T171441
CREATED:20250401T141535Z
LAST-MODIFIED:20260416T095159Z
UID:10006272-1749823200-1749826800@www.knightlysfunpark.co.uk
SUMMARY:Cash Bingo
DESCRIPTION:Join us for a game of cash bingo! Win huge cash prizes for a line or full house. Play out in the garden or inside Knightly’s Bar.
URL:https://www.knightlysfunpark.co.uk/event/cash-bingo/2025-06-13/
LOCATION:Knightly’s Bar
ATTACH;FMTTYPE=image/png:https://www.knightlysfunpark.co.uk/wp-content/uploads/2025/04/cash-bingo-at-Knightlys-Bar.png
END:VEVENT
BEGIN:VEVENT
DTSTART;TZID=Europe/London:20250612T190000
DTEND;TZID=Europe/London:20250612T200000
DTSTAMP:20260421T171441
CREATED:20250520T142640Z
LAST-MODIFIED:20260317T111410Z
UID:10004909-1749754800-1749758400@www.knightlysfunpark.co.uk
SUMMARY:Blippi
DESCRIPTION:Don’t miss your chance to meet Blippi at Knightly’s Fun Park! Blippi will be on-site to greet fans\, take photos\, and spread joy with his infectious energy. Find him at Knightly’s Bar\, on the fairground and in Knightly’s Sandy Bay.
URL:https://www.knightlysfunpark.co.uk/event/blippi/2025-06-12/
LOCATION:Knightly’s Fun Park
CATEGORIES:Family Friendly
ATTACH;FMTTYPE=image/png:https://www.knightlysfunpark.co.uk/wp-content/uploads/2025/01/blippi-kb.png
END:VEVENT
BEGIN:VEVENT
DTSTART;TZID=Europe/London:20250612T140000
DTEND;TZID=Europe/London:20250612T150000
DTSTAMP:20260421T171441
CREATED:20250401T141535Z
LAST-MODIFIED:20260416T095159Z
UID:10006271-1749736800-1749740400@www.knightlysfunpark.co.uk
SUMMARY:Cash Bingo
DESCRIPTION:Join us for a game of cash bingo! Win huge cash prizes for a line or full house. Play out in the garden or inside Knightly’s Bar.
URL:https://www.knightlysfunpark.co.uk/event/cash-bingo/2025-06-12/
LOCATION:Knightly’s Bar
ATTACH;FMTTYPE=image/png:https://www.knightlysfunpark.co.uk/wp-content/uploads/2025/04/cash-bingo-at-Knightlys-Bar.png
END:VEVENT
BEGIN:VEVENT
DTSTART;TZID=Europe/London:20250611T140000
DTEND;TZID=Europe/London:20250611T150000
DTSTAMP:20260421T171441
CREATED:20250401T141535Z
LAST-MODIFIED:20260416T095159Z
UID:10006270-1749650400-1749654000@www.knightlysfunpark.co.uk
SUMMARY:Cash Bingo
DESCRIPTION:Join us for a game of cash bingo! Win huge cash prizes for a line or full house. Play out in the garden or inside Knightly’s Bar.
URL:https://www.knightlysfunpark.co.uk/event/cash-bingo/2025-06-11/
LOCATION:Knightly’s Bar
ATTACH;FMTTYPE=image/png:https://www.knightlysfunpark.co.uk/wp-content/uploads/2025/04/cash-bingo-at-Knightlys-Bar.png
END:VEVENT
BEGIN:VEVENT
DTSTART;TZID=Europe/London:20250610T140000
DTEND;TZID=Europe/London:20250610T150000
DTSTAMP:20260421T171441
CREATED:20250401T141535Z
LAST-MODIFIED:20260416T095159Z
UID:10006269-1749564000-1749567600@www.knightlysfunpark.co.uk
SUMMARY:Cash Bingo
DESCRIPTION:Join us for a game of cash bingo! Win huge cash prizes for a line or full house. Play out in the garden or inside Knightly’s Bar.
URL:https://www.knightlysfunpark.co.uk/event/cash-bingo/2025-06-10/
LOCATION:Knightly’s Bar
ATTACH;FMTTYPE=image/png:https://www.knightlysfunpark.co.uk/wp-content/uploads/2025/04/cash-bingo-at-Knightlys-Bar.png
END:VEVENT
BEGIN:VEVENT
DTSTART;TZID=Europe/London:20250609T140000
DTEND;TZID=Europe/London:20250609T150000
DTSTAMP:20260421T171441
CREATED:20250401T141535Z
LAST-MODIFIED:20260416T095159Z
UID:10006268-1749477600-1749481200@www.knightlysfunpark.co.uk
SUMMARY:Cash Bingo
DESCRIPTION:Join us for a game of cash bingo! Win huge cash prizes for a line or full house. Play out in the garden or inside Knightly’s Bar.
URL:https://www.knightlysfunpark.co.uk/event/cash-bingo/2025-06-09/
LOCATION:Knightly’s Bar
ATTACH;FMTTYPE=image/png:https://www.knightlysfunpark.co.uk/wp-content/uploads/2025/04/cash-bingo-at-Knightlys-Bar.png
END:VEVENT
BEGIN:VEVENT
DTSTART;TZID=Europe/London:20250608T140000
DTEND;TZID=Europe/London:20250608T150000
DTSTAMP:20260421T171441
CREATED:20250401T141535Z
LAST-MODIFIED:20260416T095159Z
UID:10006267-1749391200-1749394800@www.knightlysfunpark.co.uk
SUMMARY:Cash Bingo
DESCRIPTION:Join us for a game of cash bingo! Win huge cash prizes for a line or full house. Play out in the garden or inside Knightly’s Bar.
URL:https://www.knightlysfunpark.co.uk/event/cash-bingo/2025-06-08/
LOCATION:Knightly’s Bar
ATTACH;FMTTYPE=image/png:https://www.knightlysfunpark.co.uk/wp-content/uploads/2025/04/cash-bingo-at-Knightlys-Bar.png
END:VEVENT
BEGIN:VEVENT
DTSTART;TZID=Europe/London:20250607T210000
DTEND;TZID=Europe/London:20250607T233000
DTSTAMP:20260421T171441
CREATED:20250114T140921Z
LAST-MODIFIED:20260122T113455Z
UID:10003577-1749330000-1749339000@www.knightlysfunpark.co.uk
SUMMARY:Holly Faye
DESCRIPTION:Join us at Knightly’s Sandy Bay for an unforgettable evening of live music featuring the talented Holly Faye.
URL:https://www.knightlysfunpark.co.uk/event/holly-faye/2025-06-07/
LOCATION:Knightly’s Sandy Bay Entertainment Centre
CATEGORIES:Evening Entertainment,Family Friendly
ATTACH;FMTTYPE=image/png:https://www.knightlysfunpark.co.uk/wp-content/uploads/2025/01/Holly-Faye-at-Knightlys-Sandy-Bay.png
END:VEVENT
BEGIN:VEVENT
DTSTART;TZID=Europe/London:20250607T203000
DTEND;TZID=Europe/London:20250607T233000
DTSTAMP:20260421T171441
CREATED:20250331T114624Z
LAST-MODIFIED:20260119T093400Z
UID:10004277-1749328200-1749339000@www.knightlysfunpark.co.uk
SUMMARY:Steve Charles
DESCRIPTION:Renowned as one of the most sought-after vocalists in the industry\, Steve is known for his exceptional voice and charismatic stage presence. With a wealth of experience performing for celebrity clients and top-tier companies\, he has graced some of the most prestigious venues across the UK and beyond. Don’t miss the chance to experience his stunning live performance – an unforgettable night of music and entertainment awaits!
URL:https://www.knightlysfunpark.co.uk/event/steve-charles/2025-06-07/
LOCATION:Knightly’s Bar
CATEGORIES:Evening Entertainment
ATTACH;FMTTYPE=image/png:https://www.knightlysfunpark.co.uk/wp-content/uploads/2025/03/Steve-Charles-at-Knightlys-Bar.png
END:VEVENT
BEGIN:VEVENT
DTSTART;TZID=Europe/London:20250607T140000
DTEND;TZID=Europe/London:20250607T150000
DTSTAMP:20260421T171441
CREATED:20250401T141535Z
LAST-MODIFIED:20260416T095159Z
UID:10006266-1749304800-1749308400@www.knightlysfunpark.co.uk
SUMMARY:Cash Bingo
DESCRIPTION:Join us for a game of cash bingo! Win huge cash prizes for a line or full house. Play out in the garden or inside Knightly’s Bar.
URL:https://www.knightlysfunpark.co.uk/event/cash-bingo/2025-06-07/
LOCATION:Knightly’s Bar
ATTACH;FMTTYPE=image/png:https://www.knightlysfunpark.co.uk/wp-content/uploads/2025/04/cash-bingo-at-Knightlys-Bar.png
END:VEVENT
BEGIN:VEVENT
DTSTART;TZID=Europe/London:20250606T210000
DTEND;TZID=Europe/London:20250606T233000
DTSTAMP:20260421T171441
CREATED:20250114T153317Z
LAST-MODIFIED:20250114T154119Z
UID:10003606-1749243600-1749252600@www.knightlysfunpark.co.uk
SUMMARY:Kelvin J Wood
DESCRIPTION:Join us at Knightly’s Sandy Bay for an unforgettable evening of live music with Kelvin J. Wood\, performing a dynamic mix of soul\, Motown\, rock\, old-time classics\, and rock ‘n’ roll. Dance the night away to timeless hits!
URL:https://www.knightlysfunpark.co.uk/event/kelvin-j-wood/
LOCATION:Knightly’s Sandy Bay Entertainment Centre
CATEGORIES:Evening Entertainment,Family Friendly
ATTACH;FMTTYPE=image/png:https://www.knightlysfunpark.co.uk/wp-content/uploads/2025/01/kelvin-j-wood-sb.png
END:VEVENT
BEGIN:VEVENT
DTSTART;TZID=Europe/London:20250606T203000
DTEND;TZID=Europe/London:20250606T233000
DTSTAMP:20260421T171441
CREATED:20250508T122108Z
LAST-MODIFIED:20250603T145852Z
UID:10004382-1749241800-1749252600@www.knightlysfunpark.co.uk
SUMMARY:Tracey Jordan
DESCRIPTION:You’re in for a great night of live music with the brilliant Tracey Jordan at Knightly’s Bar! Our first game of cash bingo kicks off from 8:30 PM – you’ve got to be in it to win it!
URL:https://www.knightlysfunpark.co.uk/event/tracey-jordan/
LOCATION:Knightly’s Bar
CATEGORIES:Evening Entertainment
ATTACH;FMTTYPE=image/png:https://www.knightlysfunpark.co.uk/wp-content/uploads/2025/05/Adam-South-4.png
END:VEVENT
BEGIN:VEVENT
DTSTART;TZID=Europe/London:20250606T140000
DTEND;TZID=Europe/London:20250606T150000
DTSTAMP:20260421T171441
CREATED:20250401T141535Z
LAST-MODIFIED:20260416T095159Z
UID:10006265-1749218400-1749222000@www.knightlysfunpark.co.uk
SUMMARY:Cash Bingo
DESCRIPTION:Join us for a game of cash bingo! Win huge cash prizes for a line or full house. Play out in the garden or inside Knightly’s Bar.
URL:https://www.knightlysfunpark.co.uk/event/cash-bingo/2025-06-06/
LOCATION:Knightly’s Bar
ATTACH;FMTTYPE=image/png:https://www.knightlysfunpark.co.uk/wp-content/uploads/2025/04/cash-bingo-at-Knightlys-Bar.png
END:VEVENT
BEGIN:VEVENT
DTSTART;TZID=Europe/London:20250605T190000
DTEND;TZID=Europe/London:20250605T200000
DTSTAMP:20260421T171441
CREATED:20250520T142640Z
LAST-MODIFIED:20260317T111410Z
UID:10004908-1749150000-1749153600@www.knightlysfunpark.co.uk
SUMMARY:Blippi
DESCRIPTION:Don’t miss your chance to meet Blippi at Knightly’s Fun Park! Blippi will be on-site to greet fans\, take photos\, and spread joy with his infectious energy. Find him at Knightly’s Bar\, on the fairground and in Knightly’s Sandy Bay.
URL:https://www.knightlysfunpark.co.uk/event/blippi/2025-06-05/
LOCATION:Knightly’s Fun Park
CATEGORIES:Family Friendly
ATTACH;FMTTYPE=image/png:https://www.knightlysfunpark.co.uk/wp-content/uploads/2025/01/blippi-kb.png
END:VEVENT
BEGIN:VEVENT
DTSTART;TZID=Europe/London:20250605T140000
DTEND;TZID=Europe/London:20250605T150000
DTSTAMP:20260421T171441
CREATED:20250401T141535Z
LAST-MODIFIED:20260416T095159Z
UID:10006264-1749132000-1749135600@www.knightlysfunpark.co.uk
SUMMARY:Cash Bingo
DESCRIPTION:Join us for a game of cash bingo! Win huge cash prizes for a line or full house. Play out in the garden or inside Knightly’s Bar.
URL:https://www.knightlysfunpark.co.uk/event/cash-bingo/2025-06-05/
LOCATION:Knightly’s Bar
ATTACH;FMTTYPE=image/png:https://www.knightlysfunpark.co.uk/wp-content/uploads/2025/04/cash-bingo-at-Knightlys-Bar.png
END:VEVENT
BEGIN:VEVENT
DTSTART;TZID=Europe/London:20250604T203000
DTEND;TZID=Europe/London:20250604T233000
DTSTAMP:20260421T171441
CREATED:20250530T121908Z
LAST-MODIFIED:20260119T101744Z
UID:10004738-1749069000-1749079800@www.knightlysfunpark.co.uk
SUMMARY:Adam South
DESCRIPTION:Enjoy live music and entertainment with Adam South at Knightly’s Bar!
URL:https://www.knightlysfunpark.co.uk/event/adam-south/2025-06-04/
LOCATION:Knightly’s Bar
CATEGORIES:Evening Entertainment
ATTACH;FMTTYPE=image/png:https://www.knightlysfunpark.co.uk/wp-content/uploads/2025/05/Adam-South-at-Knightlys-Bar.png
END:VEVENT
BEGIN:VEVENT
DTSTART;TZID=Europe/London:20250604T140000
DTEND;TZID=Europe/London:20250604T150000
DTSTAMP:20260421T171441
CREATED:20250401T141535Z
LAST-MODIFIED:20260416T095159Z
UID:10006263-1749045600-1749049200@www.knightlysfunpark.co.uk
SUMMARY:Cash Bingo
DESCRIPTION:Join us for a game of cash bingo! Win huge cash prizes for a line or full house. Play out in the garden or inside Knightly’s Bar.
URL:https://www.knightlysfunpark.co.uk/event/cash-bingo/2025-06-04/
LOCATION:Knightly’s Bar
ATTACH;FMTTYPE=image/png:https://www.knightlysfunpark.co.uk/wp-content/uploads/2025/04/cash-bingo-at-Knightlys-Bar.png
END:VEVENT
BEGIN:VEVENT
DTSTART;TZID=Europe/London:20250603T203000
DTEND;TZID=Europe/London:20250603T233000
DTSTAMP:20260421T171441
CREATED:20250508T121715Z
LAST-MODIFIED:20250627T090102Z
UID:10004379-1748982600-1748993400@www.knightlysfunpark.co.uk
SUMMARY:Sheila Black
DESCRIPTION:Get ready for a fantastic night of live music with incredible vocalist & performer\, Sheila Black at Knightly’s Bar!
URL:https://www.knightlysfunpark.co.uk/event/sheila/2025-06-03/
LOCATION:Knightly’s Bar
CATEGORIES:Evening Entertainment
ATTACH;FMTTYPE=image/png:https://www.knightlysfunpark.co.uk/wp-content/uploads/2025/05/Sheila-Black.png
END:VEVENT
BEGIN:VEVENT
DTSTART;TZID=Europe/London:20250603T140000
DTEND;TZID=Europe/London:20250603T150000
DTSTAMP:20260421T171441
CREATED:20250401T141535Z
LAST-MODIFIED:20260416T095159Z
UID:10006262-1748959200-1748962800@www.knightlysfunpark.co.uk
SUMMARY:Cash Bingo
DESCRIPTION:Join us for a game of cash bingo! Win huge cash prizes for a line or full house. Play out in the garden or inside Knightly’s Bar.
URL:https://www.knightlysfunpark.co.uk/event/cash-bingo/2025-06-03/
LOCATION:Knightly’s Bar
ATTACH;FMTTYPE=image/png:https://www.knightlysfunpark.co.uk/wp-content/uploads/2025/04/cash-bingo-at-Knightlys-Bar.png
END:VEVENT
BEGIN:VEVENT
DTSTART;TZID=Europe/London:20250602T140000
DTEND;TZID=Europe/London:20250602T150000
DTSTAMP:20260421T171441
CREATED:20250401T141535Z
LAST-MODIFIED:20260416T095159Z
UID:10006261-1748872800-1748876400@www.knightlysfunpark.co.uk
SUMMARY:Cash Bingo
DESCRIPTION:Join us for a game of cash bingo! Win huge cash prizes for a line or full house. Play out in the garden or inside Knightly’s Bar.
URL:https://www.knightlysfunpark.co.uk/event/cash-bingo/2025-06-02/
LOCATION:Knightly’s Bar
ATTACH;FMTTYPE=image/png:https://www.knightlysfunpark.co.uk/wp-content/uploads/2025/04/cash-bingo-at-Knightlys-Bar.png
END:VEVENT
BEGIN:VEVENT
DTSTART;TZID=Europe/London:20250601T140000
DTEND;TZID=Europe/London:20250601T150000
DTSTAMP:20260421T171441
CREATED:20250401T141535Z
LAST-MODIFIED:20260416T095159Z
UID:10006260-1748786400-1748790000@www.knightlysfunpark.co.uk
SUMMARY:Cash Bingo
DESCRIPTION:Join us for a game of cash bingo! Win huge cash prizes for a line or full house. Play out in the garden or inside Knightly’s Bar.
URL:https://www.knightlysfunpark.co.uk/event/cash-bingo/2025-06-01/
LOCATION:Knightly’s Bar
ATTACH;FMTTYPE=image/png:https://www.knightlysfunpark.co.uk/wp-content/uploads/2025/04/cash-bingo-at-Knightlys-Bar.png
END:VEVENT
END:VCALENDAR