BEGIN:VCALENDAR
VERSION:2.0
PRODID:-//Knightly&#039;s Fun Park Towyn - ECPv6.15.17//NONSGML v1.0//EN
CALSCALE:GREGORIAN
METHOD:PUBLISH
X-WR-CALNAME:Knightly&#039;s Fun Park Towyn
X-ORIGINAL-URL:https://www.knightlysfunpark.co.uk
X-WR-CALDESC:Events for Knightly&#039;s Fun Park Towyn
REFRESH-INTERVAL;VALUE=DURATION:PT1H
X-Robots-Tag:noindex
X-PUBLISHED-TTL:PT1H
BEGIN:VTIMEZONE
TZID:Europe/London
BEGIN:DAYLIGHT
TZOFFSETFROM:+0000
TZOFFSETTO:+0100
TZNAME:BST
DTSTART:20250330T010000
END:DAYLIGHT
BEGIN:STANDARD
TZOFFSETFROM:+0100
TZOFFSETTO:+0000
TZNAME:GMT
DTSTART:20251026T010000
END:STANDARD
BEGIN:DAYLIGHT
TZOFFSETFROM:+0000
TZOFFSETTO:+0100
TZNAME:BST
DTSTART:20260329T010000
END:DAYLIGHT
BEGIN:STANDARD
TZOFFSETFROM:+0100
TZOFFSETTO:+0000
TZNAME:GMT
DTSTART:20261025T010000
END:STANDARD
BEGIN:DAYLIGHT
TZOFFSETFROM:+0000
TZOFFSETTO:+0100
TZNAME:BST
DTSTART:20270328T010000
END:DAYLIGHT
BEGIN:STANDARD
TZOFFSETFROM:+0100
TZOFFSETTO:+0000
TZNAME:GMT
DTSTART:20271031T010000
END:STANDARD
END:VTIMEZONE
BEGIN:VEVENT
DTSTART;TZID=Europe/London:20260424T140000
DTEND;TZID=Europe/London:20260424T150000
DTSTAMP:20260424T103800
CREATED:20250401T141535Z
LAST-MODIFIED:20260416T095159Z
UID:10006587-1777039200-1777042800@www.knightlysfunpark.co.uk
SUMMARY:Cash Bingo
DESCRIPTION:Join us for a game of cash bingo! Win huge cash prizes for a line or full house. Play out in the garden or inside Knightly’s Bar.
URL:https://www.knightlysfunpark.co.uk/event/cash-bingo/2026-04-24/
LOCATION:Knightly’s Bar
ATTACH;FMTTYPE=image/png:https://www.knightlysfunpark.co.uk/wp-content/uploads/2025/04/cash-bingo-at-Knightlys-Bar.png
END:VEVENT
BEGIN:VEVENT
DTSTART;TZID=Europe/London:20260424T183000
DTEND;TZID=Europe/London:20260424T210000
DTSTAMP:20260424T103800
CREATED:20260312T135232Z
LAST-MODIFIED:20260420T102215Z
UID:10006790-1777055400-1777064400@www.knightlysfunpark.co.uk
SUMMARY:Kid's Disco & Family Fun
DESCRIPTION:Join us at Knightly’s Sandy Bay for cash bingo\, our tots disco\, prize bingo\, party dances & karaoke with special guests appearances from Bluey\, Stitch or Paw Patrol!
URL:https://www.knightlysfunpark.co.uk/event/kids-disco/2026-04-24/
LOCATION:Knightly’s Sandy Bay Entertainment Centre
CATEGORIES:Evening Entertainment,Family Friendly
ATTACH;FMTTYPE=image/png:https://www.knightlysfunpark.co.uk/wp-content/uploads/2026/03/Character-meet-and-greets-at-Knightlys-Sandy-Bay-1.png
END:VEVENT
BEGIN:VEVENT
DTSTART;TZID=Europe/London:20260424T210000
DTEND;TZID=Europe/London:20260424T230000
DTSTAMP:20260424T103800
CREATED:20250114T114623Z
LAST-MODIFIED:20260122T102059Z
UID:10005704-1777064400-1777071600@www.knightlysfunpark.co.uk
SUMMARY:Telstar
DESCRIPTION:Join us for an unforgettable evening of live music featuring the incredible Telstar. Enjoy an entertaining performance in a family-friendly atmosphere.
URL:https://www.knightlysfunpark.co.uk/event/telstar/2026-04-24/
LOCATION:Knightly’s Sandy Bay Entertainment Centre
CATEGORIES:Evening Entertainment,Family Friendly
ATTACH;FMTTYPE=image/png:https://www.knightlysfunpark.co.uk/wp-content/uploads/2025/01/Telstar-at-Knightlys-Sandy-Bay.png
END:VEVENT
BEGIN:VEVENT
DTSTART;TZID=Europe/London:20260424T210000
DTEND;TZID=Europe/London:20260424T230000
DTSTAMP:20260424T103800
CREATED:20250612T124251Z
LAST-MODIFIED:20260420T100507Z
UID:10005648-1777064400-1777071600@www.knightlysfunpark.co.uk
SUMMARY:Dean Morter
DESCRIPTION:A Rod Stewart tribute artist\, with an uncannily similar voice to the man himself\, Dean Morter needs to be heard to be believed!
URL:https://www.knightlysfunpark.co.uk/event/dean-morter/2026-04-24/
LOCATION:Knightly’s Bar
ATTACH;FMTTYPE=image/png:https://www.knightlysfunpark.co.uk/wp-content/uploads/2025/06/Dean-Morter-at-Knightlys-Bar.png
END:VEVENT
END:VCALENDAR